BEGIN:VCALENDAR
VERSION:2.0
PRODID:-//Capital Pinball - ECPv6.15.20//NONSGML v1.0//EN
CALSCALE:GREGORIAN
METHOD:PUBLISH
X-WR-CALNAME:Capital Pinball
X-ORIGINAL-URL:https://capitalpinballclub.com
X-WR-CALDESC:Events for Capital Pinball
REFRESH-INTERVAL;VALUE=DURATION:PT1H
X-Robots-Tag:noindex
X-PUBLISHED-TTL:PT1H
BEGIN:VTIMEZONE
TZID:America/New_York
BEGIN:DAYLIGHT
TZOFFSETFROM:-0500
TZOFFSETTO:-0400
TZNAME:EDT
DTSTART:20250309T070000
END:DAYLIGHT
BEGIN:STANDARD
TZOFFSETFROM:-0400
TZOFFSETTO:-0500
TZNAME:EST
DTSTART:20251102T060000
END:STANDARD
BEGIN:DAYLIGHT
TZOFFSETFROM:-0500
TZOFFSETTO:-0400
TZNAME:EDT
DTSTART:20260308T070000
END:DAYLIGHT
BEGIN:STANDARD
TZOFFSETFROM:-0400
TZOFFSETTO:-0500
TZNAME:EST
DTSTART:20261101T060000
END:STANDARD
BEGIN:DAYLIGHT
TZOFFSETFROM:-0500
TZOFFSETTO:-0400
TZNAME:EDT
DTSTART:20270314T070000
END:DAYLIGHT
BEGIN:STANDARD
TZOFFSETFROM:-0400
TZOFFSETTO:-0500
TZNAME:EST
DTSTART:20271107T060000
END:STANDARD
END:VTIMEZONE
BEGIN:VEVENT
DTSTART;TZID=America/New_York:20260304T130000
DTEND;TZID=America/New_York:20260304T170000
DTSTAMP:20260423T122903
CREATED:20260304T030000Z
LAST-MODIFIED:20260304T030000Z
UID:8123-1772629200-1772643600@capitalpinballclub.com
SUMMARY:Video Game Night
DESCRIPTION:Video Game Night\nHosted by Wyatt Sinclair \nMarch 4\, 2026 • 6:00 PM – 10:00 PM \n\n \n\n🎮 Tonight’s Featured Game\nTonight’s spotlight: Wyatt Sinclair will be organizing BurgerTime High Score Challenge. This game runs  and accommodates \, but plenty of other gaming happens all night long! \n\nAbout BurgerTime High Score Challenge\nCome try to put up the highest score in the 1982 Data East arcade classic\, BurgerTime! \nControl Chef Peter Pepper while he tries to navigate his hamburger mazes. \nDon’t get caught by Mr. Hot Dog or Mr. Egg! \n \n\n \n\nMeet Your Host: Wyatt Sinclair\n\n“A lifelong video game enthusiast and avid collector with a deep love for classic consoles and the games that defined them. From retro favorites to hidden gems\, Wyatt brings both passion and knowledge to the table\, creating a welcoming space where nostalgia\, friendly competition\, and shared discovery collide. Whether you’re a seasoned player or just curious to pick up a controller\, Wyatt’s game night is all about celebrating the joy of play and connecting with others through the games we love.” \n \n\n✨ All Skill Levels Welcome\nWhether you’re a hardcore gamer or just curious about video games\, our community loves helping newcomers learn while experienced players can showcase their skills. Come ready for fun\, friends\, and maybe some friendly competition! \n \n\n \n\n🎮 Open Gaming Hours at Capital Pinball Club\n\n    This is an open game night! Come for the featured video game\, stay for open gaming\, pinball\, arcade games\, and community fun.\n    Can’t join the featured game? No problem! Open gaming\, pinball\, arcade games\, and our full game library are available all evening.\n   \n\n \n\nEvent Information\n\n\n📅 When\nMarch 4\, 20266:00 PM – 10:00 PM \n \n\n📍 Where\nCapital Pinball Club70 Pembroke Road\, Concord\, NH 03301 \n \n\n💰 Cost\n$15 guest pass or $50/month membership \n \n\n🎮 What to Bring\nJust yourself!All gaming equipment provided \n \n\n \n\nReady to Game?\nJoin us for an evening of epic gaming\, great company\, and unforgettable moments. Whether you’re a casual player or a hardcore gamer\, you’ll find your place in our welcoming community! \n\n🎯 What’s Available Tonight:\n\n✓ Featured Video Game: BurgerTime High Score Challenge hosted by Wyatt Sinclair\n✓ Open Gaming: Bring your own games or play from our library\n✓ Pinball Machines: Multiple tables available\n✓ Arcade Games: Classic and modern arcade cabinets\n✓ Community: Meet fellow gamers and make new friends\n\n\n    🎮 RSVP Here\n    📧 Contact Us\n  \n\n    RSVPs help us plan\, but drop-ins are always welcome! This is open gaming hours – come for the featured game\, stay for pinball\, arcade games\, or just to hang out with the community.
URL:https://capitalpinballclub.com/event/video-game-night-26/
LOCATION:Capital Pinball\, 70 Pembroke Rd\, Concord\, NH\, 03301\, United States
CATEGORIES:video-games
ATTACH;FMTTYPE=image/png:https://capitalpinballclub.com/wp-content/uploads/2025/12/capital_video_game_cover-sP5bws.png
END:VEVENT
BEGIN:VEVENT
DTSTART;TZID=America/New_York:20260311T140000
DTEND;TZID=America/New_York:20260311T180000
DTSTAMP:20260423T122903
CREATED:20260311T030000Z
LAST-MODIFIED:20260311T030000Z
UID:8129-1773237600-1773252000@capitalpinballclub.com
SUMMARY:Video Game Night
DESCRIPTION:Video Game Night\nHosted by Wyatt Sinclair \nMarch 11\, 2026 • 6:00 PM – 10:00 PM \n\n \n\n🎮 Tonight’s Featured Game\nTonight’s spotlight: Wyatt Sinclair will be organizing The Simpsons Arcade (1991). This game runs  and accommodates \, but plenty of other gaming happens all night long! \n\nAbout The Simpsons Arcade (1991)\nJoin Homer\, Marge\, Lisa\, and Bart as they try to rescue Maggie in one of the most famous arcade beat-em-ups of all-time. \n \n\n \n\nMeet Your Host: Wyatt Sinclair\n\n“A lifelong video game enthusiast and avid collector with a deep love for classic consoles and the games that defined them. From retro favorites to hidden gems\, Wyatt brings both passion and knowledge to the table\, creating a welcoming space where nostalgia\, friendly competition\, and shared discovery collide. Whether you’re a seasoned player or just curious to pick up a controller\, Wyatt’s game night is all about celebrating the joy of play and connecting with others through the games we love.” \n \n\n✨ All Skill Levels Welcome\nWhether you’re a hardcore gamer or just curious about video games\, our community loves helping newcomers learn while experienced players can showcase their skills. Come ready for fun\, friends\, and maybe some friendly competition! \n \n\n \n\n🎮 Open Gaming Hours at Capital Pinball Club\n\n    This is an open game night! Come for the featured video game\, stay for open gaming\, pinball\, arcade games\, and community fun.\n    Can’t join the featured game? No problem! Open gaming\, pinball\, arcade games\, and our full game library are available all evening.\n   \n\n \n\nEvent Information\n\n\n📅 When\nMarch 11\, 20266:00 PM – 10:00 PM \n \n\n📍 Where\nCapital Pinball Club70 Pembroke Road\, Concord\, NH 03301 \n \n\n💰 Cost\n$15 guest pass or $50/month membership \n \n\n🎮 What to Bring\nJust yourself!All gaming equipment provided \n \n\n \n\nReady to Game?\nJoin us for an evening of epic gaming\, great company\, and unforgettable moments. Whether you’re a casual player or a hardcore gamer\, you’ll find your place in our welcoming community! \n\n🎯 What’s Available Tonight:\n\n✓ Featured Video Game: The Simpsons Arcade (1991) hosted by Wyatt Sinclair\n✓ Open Gaming: Bring your own games or play from our library\n✓ Pinball Machines: Multiple tables available\n✓ Arcade Games: Classic and modern arcade cabinets\n✓ Community: Meet fellow gamers and make new friends\n\n\n    🎮 RSVP Here\n    📧 Contact Us\n  \n\n    RSVPs help us plan\, but drop-ins are always welcome! This is open gaming hours – come for the featured game\, stay for pinball\, arcade games\, or just to hang out with the community.
URL:https://capitalpinballclub.com/event/video-game-night-27/
LOCATION:Capital Pinball\, 70 Pembroke Rd\, Concord\, NH\, 03301\, United States
CATEGORIES:video-games
ATTACH;FMTTYPE=image/png:https://capitalpinballclub.com/wp-content/uploads/2025/12/capital_video_game_cover-sP5bws.png
END:VEVENT
BEGIN:VEVENT
DTSTART;TZID=America/New_York:20260318T140000
DTEND;TZID=America/New_York:20260318T180000
DTSTAMP:20260423T122903
CREATED:20260318T030000Z
LAST-MODIFIED:20260318T030000Z
UID:8133-1773842400-1773856800@capitalpinballclub.com
SUMMARY:Video Game Night
DESCRIPTION:Video Game Night\nHosted by Wyatt Sinclair \nMarch 18\, 2026 • 6:00 PM – 10:00 PM \n\n \n\n🎮 Tonight’s Featured Game\nTonight’s spotlight: Wyatt Sinclair will be organizing Pac-Man High Score Challenge. This game runs  and accommodates \, but plenty of other gaming happens all night long! \n\nAbout Pac-Man High Score Challenge\n\n \n\n \n\nMeet Your Host: Wyatt Sinclair\n\n“A lifelong video game enthusiast and avid collector with a deep love for classic consoles and the games that defined them. From retro favorites to hidden gems\, Wyatt brings both passion and knowledge to the table\, creating a welcoming space where nostalgia\, friendly competition\, and shared discovery collide. Whether you’re a seasoned player or just curious to pick up a controller\, Wyatt’s game night is all about celebrating the joy of play and connecting with others through the games we love.” \n \n\n✨ All Skill Levels Welcome\nWhether you’re a hardcore gamer or just curious about video games\, our community loves helping newcomers learn while experienced players can showcase their skills. Come ready for fun\, friends\, and maybe some friendly competition! \n \n\n \n\n🎮 Open Gaming Hours at Capital Pinball Club\n\n    This is an open game night! Come for the featured video game\, stay for open gaming\, pinball\, arcade games\, and community fun.\n    Can’t join the featured game? No problem! Open gaming\, pinball\, arcade games\, and our full game library are available all evening.\n   \n\n \n\nEvent Information\n\n\n📅 When\nMarch 18\, 20266:00 PM – 10:00 PM \n \n\n📍 Where\nCapital Pinball Club70 Pembroke Road\, Concord\, NH 03301 \n \n\n💰 Cost\n$15 guest pass or $50/month membership \n \n\n🎮 What to Bring\nJust yourself!All gaming equipment provided \n \n\n \n\nReady to Game?\nJoin us for an evening of epic gaming\, great company\, and unforgettable moments. Whether you’re a casual player or a hardcore gamer\, you’ll find your place in our welcoming community! \n\n🎯 What’s Available Tonight:\n\n✓ Featured Video Game: Pac-Man High Score Challenge hosted by Wyatt Sinclair\n✓ Open Gaming: Bring your own games or play from our library\n✓ Pinball Machines: Multiple tables available\n✓ Arcade Games: Classic and modern arcade cabinets\n✓ Community: Meet fellow gamers and make new friends\n\n\n    🎮 RSVP Here\n    📧 Contact Us\n  \n\n    RSVPs help us plan\, but drop-ins are always welcome! This is open gaming hours – come for the featured game\, stay for pinball\, arcade games\, or just to hang out with the community.
URL:https://capitalpinballclub.com/event/video-game-night-28/
LOCATION:Capital Pinball\, 70 Pembroke Rd\, Concord\, NH\, 03301\, United States
CATEGORIES:video-games
ATTACH;FMTTYPE=image/png:https://capitalpinballclub.com/wp-content/uploads/2025/12/capital_video_game_cover-sP5bws.png
END:VEVENT
BEGIN:VEVENT
DTSTART;TZID=America/New_York:20260325T140000
DTEND;TZID=America/New_York:20260325T180000
DTSTAMP:20260423T122903
CREATED:20260325T030001Z
LAST-MODIFIED:20260325T030001Z
UID:8144-1774447200-1774461600@capitalpinballclub.com
SUMMARY:Video Game Night
DESCRIPTION:Video Game Night\nHosted by Wyatt Sinclair \nMarch 25\, 2026 • 6:00 PM – 10:00 PM \n\n \n\n🎮 Tonight’s Featured Game\nTonight’s spotlight: Wyatt Sinclair will be organizing OverCooked 2. This game runs  and accommodates \, but plenty of other gaming happens all night long! \n\nAbout OverCooked 2\nA chaotic\, cooperative cooking game where 1–4 players act as chefs preparing meals in absurd\, ever-changing kitchens. Players must chop\, cook\, and serve orders while navigating hazards like moving walkways\, fire\, and shifting environments. \n \n\n \n\nMeet Your Host: Wyatt Sinclair\n\n“A lifelong video game enthusiast and avid collector with a deep love for classic consoles and the games that defined them. From retro favorites to hidden gems\, Wyatt brings both passion and knowledge to the table\, creating a welcoming space where nostalgia\, friendly competition\, and shared discovery collide. Whether you’re a seasoned player or just curious to pick up a controller\, Wyatt’s game night is all about celebrating the joy of play and connecting with others through the games we love.” \n \n\n✨ All Skill Levels Welcome\nWhether you’re a hardcore gamer or just curious about video games\, our community loves helping newcomers learn while experienced players can showcase their skills. Come ready for fun\, friends\, and maybe some friendly competition! \n \n\n \n\n🎮 Open Gaming Hours at Capital Pinball Club\n\n    This is an open game night! Come for the featured video game\, stay for open gaming\, pinball\, arcade games\, and community fun.\n    Can’t join the featured game? No problem! Open gaming\, pinball\, arcade games\, and our full game library are available all evening.\n   \n\n \n\nEvent Information\n\n\n📅 When\nMarch 25\, 20266:00 PM – 10:00 PM \n \n\n📍 Where\nCapital Pinball Club70 Pembroke Road\, Concord\, NH 03301 \n \n\n💰 Cost\n$15 guest pass or $50/month membership \n \n\n🎮 What to Bring\nJust yourself!All gaming equipment provided \n \n\n \n\nReady to Game?\nJoin us for an evening of epic gaming\, great company\, and unforgettable moments. Whether you’re a casual player or a hardcore gamer\, you’ll find your place in our welcoming community! \n\n🎯 What’s Available Tonight:\n\n✓ Featured Video Game: OverCooked 2 hosted by Wyatt Sinclair\n✓ Open Gaming: Bring your own games or play from our library\n✓ Pinball Machines: Multiple tables available\n✓ Arcade Games: Classic and modern arcade cabinets\n✓ Community: Meet fellow gamers and make new friends\n\n\n    🎮 RSVP Here\n    📧 Contact Us\n  \n\n    RSVPs help us plan\, but drop-ins are always welcome! This is open gaming hours – come for the featured game\, stay for pinball\, arcade games\, or just to hang out with the community.
URL:https://capitalpinballclub.com/event/video-game-night-29/
LOCATION:Capital Pinball\, 70 Pembroke Rd\, Concord\, NH\, 03301\, United States
CATEGORIES:video-games
ATTACH;FMTTYPE=image/png:https://capitalpinballclub.com/wp-content/uploads/2025/12/capital_video_game_cover-sP5bws.png
END:VEVENT
BEGIN:VEVENT
DTSTART;TZID=America/New_York:20260331T180000
DTEND;TZID=America/New_York:20260331T220000
DTSTAMP:20260423T122903
CREATED:20260331T030000Z
LAST-MODIFIED:20260331T030000Z
UID:8407-1774980000-1774994400@capitalpinballclub.com
SUMMARY:Video Game Night
DESCRIPTION:Video Game Night\nHosted by Will Prescott \nMarch 31\, 2026 • 6:00 PM – 10:00 PM \n\n \n\n🎮 Tonight’s Featured Game\nTonight’s spotlight: Will Prescott will be organizing Wingspan!. This game runs  and accommodates \, but plenty of other gaming happens all night long! \n\nAbout Wingspan!\nThis is a fancy description \n \n\n \n\nMeet Your Host: Will Prescott\n\n“Join us for a great evening of gaming!” \n \n\n✨ All Skill Levels Welcome\nWhether you’re a hardcore gamer or just curious about video games\, our community loves helping newcomers learn while experienced players can showcase their skills. Come ready for fun\, friends\, and maybe some friendly competition! \n \n\n \n\n🎮 Open Gaming Hours at Capital Pinball Club\n\n    This is an open game night! Come for the featured video game\, stay for open gaming\, pinball\, arcade games\, and community fun.\n    Can’t join the featured game? No problem! Open gaming\, pinball\, arcade games\, and our full game library are available all evening.\n   \n\n \n\nEvent Information\n\n\n📅 When\nMarch 31\, 20266:00 PM – 10:00 PM \n \n\n📍 Where\nCapital Pinball Club70 Pembroke Road\, Concord\, NH 03301 \n \n\n💰 Cost\n$15 guest pass or $50/month membership \n \n\n🎮 What to Bring\nJust yourself!All gaming equipment provided \n \n\n \n\nReady to Game?\nJoin us for an evening of epic gaming\, great company\, and unforgettable moments. Whether you’re a casual player or a hardcore gamer\, you’ll find your place in our welcoming community! \n\n🎯 What’s Available Tonight:\n\n✓ Featured Video Game: Wingspan! hosted by Will Prescott\n✓ Open Gaming: Bring your own games or play from our library\n✓ Pinball Machines: Multiple tables available\n✓ Arcade Games: Classic and modern arcade cabinets\n✓ Community: Meet fellow gamers and make new friends\n\n\n    🎮 RSVP Here\n    📧 Contact Us\n  \n\n    RSVPs help us plan\, but drop-ins are always welcome! This is open gaming hours – come for the featured game\, stay for pinball\, arcade games\, or just to hang out with the community.
URL:https://capitalpinballclub.com/event/video-game-night-39/
LOCATION:Capital Pinball\, 70 Pembroke Rd\, Concord\, NH\, 03301\, United States
CATEGORIES:video-games
ATTACH;FMTTYPE=image/png:https://capitalpinballclub.com/wp-content/uploads/2025/12/capital_video_game_cover-sP5bws.png
END:VEVENT
END:VCALENDAR