BEGIN:VCALENDAR
VERSION:2.0
PRODID:-//Capital Pinball - ECPv6.15.20//NONSGML v1.0//EN
CALSCALE:GREGORIAN
METHOD:PUBLISH
X-WR-CALNAME:Capital Pinball
X-ORIGINAL-URL:https://capitalpinballclub.com
X-WR-CALDESC:Events for Capital Pinball
REFRESH-INTERVAL;VALUE=DURATION:PT1H
X-Robots-Tag:noindex
X-PUBLISHED-TTL:PT1H
BEGIN:VTIMEZONE
TZID:America/New_York
BEGIN:DAYLIGHT
TZOFFSETFROM:-0500
TZOFFSETTO:-0400
TZNAME:EDT
DTSTART:20240310T070000
END:DAYLIGHT
BEGIN:STANDARD
TZOFFSETFROM:-0400
TZOFFSETTO:-0500
TZNAME:EST
DTSTART:20241103T060000
END:STANDARD
BEGIN:DAYLIGHT
TZOFFSETFROM:-0500
TZOFFSETTO:-0400
TZNAME:EDT
DTSTART:20250309T070000
END:DAYLIGHT
BEGIN:STANDARD
TZOFFSETFROM:-0400
TZOFFSETTO:-0500
TZNAME:EST
DTSTART:20251102T060000
END:STANDARD
BEGIN:DAYLIGHT
TZOFFSETFROM:-0500
TZOFFSETTO:-0400
TZNAME:EDT
DTSTART:20260308T070000
END:DAYLIGHT
BEGIN:STANDARD
TZOFFSETFROM:-0400
TZOFFSETTO:-0500
TZNAME:EST
DTSTART:20261101T060000
END:STANDARD
END:VTIMEZONE
BEGIN:VEVENT
DTSTART;TZID=America/New_York:20250910T180000
DTEND;TZID=America/New_York:20250910T220000
DTSTAMP:20260424T021307
CREATED:20250816T131947Z
LAST-MODIFIED:20250816T133159Z
UID:7507-1757527200-1757541600@capitalpinballclub.com
SUMMARY:Video Game Night
DESCRIPTION:Video Game Night\nfeaturing Super Smash Bros. Ultimate on Nintendo Switch \nWednesday\, September 10\, 2025 • 6:00 PM – 10:00 PM \n\n \n\nFeatured Game: Super Smash Bros. Ultimate\n\n\n      Platform:\n      Nintendo Switch\n    \n\n      Genre:\n      Fighting/Party\n    \n\n      Players:\n      1-8\n    \n\n      Difficulty:\n      Medium\n    \nThe biggest crossover in gaming history! Battle as your favorite Nintendo characters and special guests in the ultimate fighting game experience. \n\n    Why You’ll Love It:\n    Everyone has a main! From casual button mashing to competitive tournament play Smash Bros creates incredible moments and heated rivalries in the best way possible.\n  \n\n \n\nWhat to Expect\n\n🎮 Gaming Atmosphere\nBalanced mix of casual and competitive play. Whether you’re new to Super Smash Bros. Ultimate or a seasoned veteran\, you’ll find your perfect gaming experience here. \n \n\n🎯 Game Style\nTournament brackets naturally emerge\, but casual matches are always happening too. \n \n\n✨ Special Note\nAll skill levels welcome! Our community loves helping newcomers learn while experienced players can showcase their skills. Come hungry for fun and maybe some friendly competition! \n \n\n \n\nEvent Information\n\n\n📅 When\nWednesday\, September 10\, 20256:00 PM – 10:00 PM \n \n\n📍 Where\nCapital Pinball Club70 Pembroke Road\, Concord\, NH 03301 \n \n\n💰 Cost\n$15 guest pass or $50/month membership(Snacks & drinks available for purchase) \n \n\n🎮 What to Bring\nJust yourself!All equipment provided \n \n\n \n\nReady to Game?\nJoin us for an evening of epic gaming\, great company\, and unforgettable moments. Whether you’re a casual player or a hardcore gamer\, you’ll find your place in our welcoming community! \n\n    📧 Contact Us
URL:https://capitalpinballclub.com/event/video-game-night/
LOCATION:NH
CATEGORIES:Video Game
ATTACH;FMTTYPE=image/webp:https://capitalpinballclub.com/wp-content/uploads/2025/08/capital_video_game_cover.webp
END:VEVENT
END:VCALENDAR