BEGIN:VCALENDAR
VERSION:2.0
PRODID:-//Capital Pinball - ECPv6.15.20//NONSGML v1.0//EN
CALSCALE:GREGORIAN
METHOD:PUBLISH
X-ORIGINAL-URL:https://capitalpinballclub.com
X-WR-CALDESC:Events for Capital Pinball
REFRESH-INTERVAL;VALUE=DURATION:PT1H
X-Robots-Tag:noindex
X-PUBLISHED-TTL:PT1H
BEGIN:VTIMEZONE
TZID:America/New_York
BEGIN:DAYLIGHT
TZOFFSETFROM:-0500
TZOFFSETTO:-0400
TZNAME:EDT
DTSTART:20240310T070000
END:DAYLIGHT
BEGIN:STANDARD
TZOFFSETFROM:-0400
TZOFFSETTO:-0500
TZNAME:EST
DTSTART:20241103T060000
END:STANDARD
BEGIN:DAYLIGHT
TZOFFSETFROM:-0500
TZOFFSETTO:-0400
TZNAME:EDT
DTSTART:20250309T070000
END:DAYLIGHT
BEGIN:STANDARD
TZOFFSETFROM:-0400
TZOFFSETTO:-0500
TZNAME:EST
DTSTART:20251102T060000
END:STANDARD
BEGIN:DAYLIGHT
TZOFFSETFROM:-0500
TZOFFSETTO:-0400
TZNAME:EDT
DTSTART:20260308T070000
END:DAYLIGHT
BEGIN:STANDARD
TZOFFSETFROM:-0400
TZOFFSETTO:-0500
TZNAME:EST
DTSTART:20261101T060000
END:STANDARD
END:VTIMEZONE
BEGIN:VEVENT
DTSTART;TZID=America/New_York:20251203T180000
DTEND;TZID=America/New_York:20251203T220000
DTSTAMP:20260423T182713
CREATED:20250914T143008Z
LAST-MODIFIED:20250914T143008Z
UID:7736-1764784800-1764799200@capitalpinballclub.com
SUMMARY:Video Game Night
DESCRIPTION:Video Game Night\nfeaturing Hyper Gunsport on Nintendo Switch \nWednesday\, December 03\, 2025 • 6:00 PM – 10:00 PM \n\n \n\nFeatured Game: Hyper Gunsport\n\n\n      Platform:\n      Nintendo Switch\n    \n\n      Genre:\n      Sports/Action\n    \n\n      Players:\n      2-4\n    \n\n      Difficulty:\n      Medium\n    \nCyberpunk volleyball with guns! Teams compete to score goals by shooting a ball into the opponent’s goal zone in this unique futuristic sport. \n\n    Why You’ll Love It:\n    Volleyball meets cyberpunk action! This unique sports game combines strategy teamwork and quick reflexes in an exciting futuristic setting.\n  \n\n \n\nWhat to Expect\n\n🎮 Gaming Atmosphere\nBalanced mix of casual and competitive play. Whether you’re new to Hyper Gunsport or a seasoned veteran\, you’ll find your perfect gaming experience here. \n \n\n🎯 Game Style\nMix of tournament-style brackets and casual pick-up games throughout the evening. \n \n\n✨ Special Note\nAll skill levels welcome! Our community loves helping newcomers learn while experienced players can showcase their skills. Come hungry for fun and maybe some friendly competition! \n \n\n \n\n🎮 Open Gaming Hours at Capital Pinball Club\n\n    This is an open game night! Come for the featured video game\, stay for open gaming\, pinball\, arcade games\, and community fun.\n    Can’t join the featured game? No problem! Open gaming\, pinball\, arcade games\, and our full game library are available all evening.\n   \n\n \n\nEvent Information\n\n\n📅 When\nWednesday\, December 03\, 20256:00 PM – 10:00 PM \n \n\n📍 Where\nCapital Pinball Club70 Pembroke Road\, Concord\, NH 03301 \n \n\n💰 Cost\n$15 guest pass or $50/month membership \n \n\n🎮 What to Bring\nJust yourself!All gaming equipment provided \n \n\n \n\nReady to Game?\nJoin us for an evening of epic gaming\, great company\, and unforgettable moments. Whether you’re a casual player or a hardcore gamer\, you’ll find your place in our welcoming community! \n\n🎯 What’s Available Tonight:\n\n✓ Featured Video Game: Hyper Gunsport on Nintendo Switch\n✓ Open Gaming: Bring your own games or play from our library\n✓ Pinball Machines: Multiple tables available\n✓ Arcade Games: Classic and modern arcade cabinets\n✓ Community: Meet fellow gamers and make new friends\n\n\n    📧 Contact Us\n  \n\n    No RSVP required! This is open gaming hours – come for video games\, pinball\, arcade games\, or just to hang out with the community.
URL:https://capitalpinballclub.com/event/video-game-night-13/
LOCATION:NH
CATEGORIES:Video Game
ATTACH;FMTTYPE=image/webp:https://capitalpinballclub.com/wp-content/uploads/2025/08/capital_video_game_cover.webp
END:VEVENT
BEGIN:VEVENT
DTSTART;TZID=America/New_York:20251210T180000
DTEND;TZID=America/New_York:20251210T220000
DTSTAMP:20260423T182713
CREATED:20250914T143008Z
LAST-MODIFIED:20250914T143008Z
UID:7737-1765389600-1765404000@capitalpinballclub.com
SUMMARY:Video Game Night
DESCRIPTION:Video Game Night\nfeaturing Keep Talking and Nobody Explodes on PC/Multiple Platforms \nWednesday\, December 10\, 2025 • 6:00 PM – 10:00 PM \n\n \n\nFeatured Game: Keep Talking and Nobody Explodes\n\n\n      Platform:\n      PC/Multiple Platforms\n    \n\n      Genre:\n      Puzzle/Co-op\n    \n\n      Players:\n      2-6\n    \n\n      Difficulty:\n      Medium\n    \nOne player defuses a bomb while others read the manual and provide instructions. Communication and teamwork are essential to prevent explosive failure. \n\n    Why You’ll Love It:\n    The ultimate test of communication! Tension builds as the clock ticks down and you frantically try to relay bomb defusal instructions to your teammate.\n  \n\n \n\nWhat to Expect\n\n🎮 Gaming Atmosphere\nBalanced mix of casual and competitive play. Whether you’re new to Keep Talking and Nobody Explodes or a seasoned veteran\, you’ll find your perfect gaming experience here. \n \n\n🎯 Game Style\nThoughtful gameplay with players helping each other solve challenges. \n \n\n✨ Special Note\nAll skill levels welcome! Our community loves helping newcomers learn while experienced players can showcase their skills. Come hungry for fun and maybe some friendly competition! \n \n\n \n\n🎮 Open Gaming Hours at Capital Pinball Club\n\n    This is an open game night! Come for the featured video game\, stay for open gaming\, pinball\, arcade games\, and community fun.\n    Can’t join the featured game? No problem! Open gaming\, pinball\, arcade games\, and our full game library are available all evening.\n   \n\n \n\nEvent Information\n\n\n📅 When\nWednesday\, December 10\, 20256:00 PM – 10:00 PM \n \n\n📍 Where\nCapital Pinball Club70 Pembroke Road\, Concord\, NH 03301 \n \n\n💰 Cost\n$15 guest pass or $50/month membership \n \n\n🎮 What to Bring\nJust yourself!All gaming equipment provided \n \n\n \n\nReady to Game?\nJoin us for an evening of epic gaming\, great company\, and unforgettable moments. Whether you’re a casual player or a hardcore gamer\, you’ll find your place in our welcoming community! \n\n🎯 What’s Available Tonight:\n\n✓ Featured Video Game: Keep Talking and Nobody Explodes on PC/Multiple Platforms\n✓ Open Gaming: Bring your own games or play from our library\n✓ Pinball Machines: Multiple tables available\n✓ Arcade Games: Classic and modern arcade cabinets\n✓ Community: Meet fellow gamers and make new friends\n\n\n    📧 Contact Us\n  \n\n    No RSVP required! This is open gaming hours – come for video games\, pinball\, arcade games\, or just to hang out with the community.
URL:https://capitalpinballclub.com/event/video-game-night-14/
LOCATION:NH
CATEGORIES:Video Game
ATTACH;FMTTYPE=image/webp:https://capitalpinballclub.com/wp-content/uploads/2025/08/capital_video_game_cover.webp
END:VEVENT
END:VCALENDAR