BEGIN:VCALENDAR
VERSION:2.0
PRODID:-//Capital Pinball - ECPv6.15.20//NONSGML v1.0//EN
CALSCALE:GREGORIAN
METHOD:PUBLISH
X-ORIGINAL-URL:https://capitalpinballclub.com
X-WR-CALDESC:Events for Capital Pinball
REFRESH-INTERVAL;VALUE=DURATION:PT1H
X-Robots-Tag:noindex
X-PUBLISHED-TTL:PT1H
BEGIN:VTIMEZONE
TZID:America/New_York
BEGIN:DAYLIGHT
TZOFFSETFROM:-0500
TZOFFSETTO:-0400
TZNAME:EDT
DTSTART:20240310T070000
END:DAYLIGHT
BEGIN:STANDARD
TZOFFSETFROM:-0400
TZOFFSETTO:-0500
TZNAME:EST
DTSTART:20241103T060000
END:STANDARD
BEGIN:DAYLIGHT
TZOFFSETFROM:-0500
TZOFFSETTO:-0400
TZNAME:EDT
DTSTART:20250309T070000
END:DAYLIGHT
BEGIN:STANDARD
TZOFFSETFROM:-0400
TZOFFSETTO:-0500
TZNAME:EST
DTSTART:20251102T060000
END:STANDARD
BEGIN:DAYLIGHT
TZOFFSETFROM:-0500
TZOFFSETTO:-0400
TZNAME:EDT
DTSTART:20260308T070000
END:DAYLIGHT
BEGIN:STANDARD
TZOFFSETFROM:-0400
TZOFFSETTO:-0500
TZNAME:EST
DTSTART:20261101T060000
END:STANDARD
END:VTIMEZONE
BEGIN:VEVENT
DTSTART;TZID=America/New_York:20251105T180000
DTEND;TZID=America/New_York:20251105T220000
DTSTAMP:20260423T223145
CREATED:20250816T132000Z
LAST-MODIFIED:20251102T142803Z
UID:7515-1762365600-1762380000@capitalpinballclub.com
SUMMARY:Video Game Night
DESCRIPTION:Video Game Night\nfeaturing Fighting Games on PC/Multiple Platforms \nWednesday\, November 05\, 2025 • 6:00 PM – 10:00 PM \n\n \n\nFeatured Game: Fighting Games\n\nPlatform:\nPC/Multiple Platforms\nGenre:\nFighting\nPlayers:\n1-4\nDifficulty:\nMedium\n\nWhy You’ll Love It:\nWe will play a variety of fighting games and see who comes out on top!\n\n \n\nWhat to Expect\n\n🎮 Gaming Atmosphere\nBalanced mix of casual and competitive play. \n\n\n🎯 Game Style\nTime trials and head-to-head fights – competitive racing with friendly rivalry. \n\n\n✨ Special Note\nAll skill levels welcome! Our community loves helping newcomers learn while experienced players can showcase their skills. Come hungry for fun and maybe some friendly competition! \n\n\n \n\n🎮 Open Gaming Hours at Capital Pinball Club\nThis is an open game night! Come for the featured video game\, stay for open gaming\, pinball\, arcade games\, and community fun.\nCan’t join the featured game? No problem! Open gaming\, pinball\, arcade games\, and our full game library are available all evening. \n\n \n\nEvent Information\n\n\n📅 When\nWednesday\, November 05\, 2025\n6:00 PM – 10:00 PM \n\n\n📍 Where\nCapital Pinball Club\n70 Pembroke Road\, Concord\, NH 03301 \n\n\n💰 Cost\n$15 guest pass or $50/month membership \n\n\n🎮 What to Bring\nJust yourself!\nAll gaming equipment provided \n\n\n\n \n\nReady to Game?\nJoin us for an evening of epic gaming\, great company\, and unforgettable moments. Whether you’re a casual player or a hardcore gamer\, you’ll find your place in our welcoming community! \n\n🎯 What’s Available Tonight:\n\n✓ Featured Video Game: Speedrunners on PC/Multiple Platforms\n✓ Open Gaming: Bring your own games or play from our library\n✓ Pinball Machines: Multiple tables available\n✓ Arcade Games: Classic and modern arcade cabinets\n✓ Community: Meet fellow gamers and make new friends\n\n\n📧 Contact Us\nNo RSVP required! This is open gaming hours – come for video games\, pinball\, arcade games\, or just to hang out with the community.
URL:https://capitalpinballclub.com/event/video-game-night-9/
LOCATION:NH
CATEGORIES:Video Game
ATTACH;FMTTYPE=image/webp:https://capitalpinballclub.com/wp-content/uploads/2025/08/capital_video_game_cover.webp
END:VEVENT
BEGIN:VEVENT
DTSTART;TZID=America/New_York:20251112T180000
DTEND;TZID=America/New_York:20251112T220000
DTSTAMP:20260423T223145
CREATED:20250816T132003Z
LAST-MODIFIED:20251106T212958Z
UID:7516-1762970400-1762984800@capitalpinballclub.com
SUMMARY:Video Game Night
DESCRIPTION:Video Game Night\nfeaturing Kirby Air Ride on Game Cube \nWednesday\, November 12\, 2025 • 6:00 PM – 10:00 PM \n\n \n\nFeatured Game: Kirby Air Ride\n\nPlatform:\nNintendo Game Cube\nDifficulty:\nEasy\n\n\n \n\nWhat to Expect\n\n🎮 Gaming Atmosphere\nRelaxed and welcoming atmosphere perfect for newcomers to Super Bomberman R. Experienced players love helping others learn the ropes\, creating a supportive gaming community. \n\n\n🎯 Game Style\nGroup fun with rotating players – more about laughs than competition. \n\n\n✨ Special Note\nAll skill levels welcome! Our community loves helping newcomers learn while experienced players can showcase their skills. Come hungry for fun and maybe some friendly competition! \n\n\n \n\n🎮 Open Gaming Hours at Capital Pinball Club\nThis is an open game night! Come for the featured video game\, stay for open gaming\, pinball\, arcade games\, and community fun.\nCan’t join the featured game? No problem! Open gaming\, pinball\, arcade games\, and our full game library are available all evening. \n\n \n\nEvent Information\n\n\n📅 When\nWednesday\, November 12\, 2025\n6:00 PM – 10:00 PM \n\n\n📍 Where\nCapital Pinball Club\n70 Pembroke Road\, Concord\, NH 03301 \n\n\n💰 Cost\n$15 guest pass or $50/month membership \n\n\n🎮 What to Bring\nJust yourself!\nAll gaming equipment provided \n\n\n\n \n\nReady to Game?\nJoin us for an evening of epic gaming\, great company\, and unforgettable moments. Whether you’re a casual player or a hardcore gamer\, you’ll find your place in our welcoming community! \n\n🎯 What’s Available Tonight:\n\n✓ Featured Video Game: Super Bomberman R on Nintendo Switch\n✓ Open Gaming: Bring your own games or play from our library\n✓ Pinball Machines: Multiple tables available\n✓ Arcade Games: Classic and modern arcade cabinets\n✓ Community: Meet fellow gamers and make new friends\n\n\n📧 Contact Us\nNo RSVP required! This is open gaming hours – come for video games\, pinball\, arcade games\, or just to hang out with the community.
URL:https://capitalpinballclub.com/event/video-game-night-10/
LOCATION:NH
CATEGORIES:Video Game
ATTACH;FMTTYPE=image/webp:https://capitalpinballclub.com/wp-content/uploads/2025/08/capital_video_game_cover.webp
END:VEVENT
BEGIN:VEVENT
DTSTART;TZID=America/New_York:20251119T180000
DTEND;TZID=America/New_York:20251119T220000
DTSTAMP:20260423T223145
CREATED:20250816T132013Z
LAST-MODIFIED:20250914T142955Z
UID:7517-1763575200-1763589600@capitalpinballclub.com
SUMMARY:Video Game Night
DESCRIPTION:Video Game Night\nfeaturing Puyo Puyo Tetris on Nintendo Switch \nWednesday\, November 19\, 2025 • 6:00 PM – 10:00 PM \n\n \n\nFeatured Game: Puyo Puyo Tetris\n\n\n      Platform:\n      Nintendo Switch\n    \n\n      Genre:\n      Puzzle\n    \n\n      Players:\n      1-4\n    \n\n      Difficulty:\n      Medium\n    \nThe ultimate puzzle game mashup combining the chain-building strategy of Puyo Puyo with the line-clearing action of Tetris in various game modes. \n\n    Why You’ll Love It:\n    Two puzzle legends unite! Whether you prefer Puyo chains or Tetris lines this game offers endless puzzle action for competitive and casual players alike.\n  \n\n \n\nWhat to Expect\n\n🎮 Gaming Atmosphere\nBalanced mix of casual and competitive play. Whether you’re new to Puyo Puyo Tetris or a seasoned veteran\, you’ll find your perfect gaming experience here. \n \n\n🎯 Game Style\nThoughtful gameplay with players helping each other solve challenges. \n \n\n✨ Special Note\nAll skill levels welcome! Our community loves helping newcomers learn while experienced players can showcase their skills. Come hungry for fun and maybe some friendly competition! \n \n\n \n\n🎮 Open Gaming Hours at Capital Pinball Club\n\n    This is an open game night! Come for the featured video game\, stay for open gaming\, pinball\, arcade games\, and community fun.\n    Can’t join the featured game? No problem! Open gaming\, pinball\, arcade games\, and our full game library are available all evening.\n   \n\n \n\nEvent Information\n\n\n📅 When\nWednesday\, November 19\, 20256:00 PM – 10:00 PM \n \n\n📍 Where\nCapital Pinball Club70 Pembroke Road\, Concord\, NH 03301 \n \n\n💰 Cost\n$15 guest pass or $50/month membership \n \n\n🎮 What to Bring\nJust yourself!All gaming equipment provided \n \n\n \n\nReady to Game?\nJoin us for an evening of epic gaming\, great company\, and unforgettable moments. Whether you’re a casual player or a hardcore gamer\, you’ll find your place in our welcoming community! \n\n🎯 What’s Available Tonight:\n\n✓ Featured Video Game: Puyo Puyo Tetris on Nintendo Switch\n✓ Open Gaming: Bring your own games or play from our library\n✓ Pinball Machines: Multiple tables available\n✓ Arcade Games: Classic and modern arcade cabinets\n✓ Community: Meet fellow gamers and make new friends\n\n\n    📧 Contact Us\n  \n\n    No RSVP required! This is open gaming hours – come for video games\, pinball\, arcade games\, or just to hang out with the community.
URL:https://capitalpinballclub.com/event/video-game-night-11/
LOCATION:NH
CATEGORIES:Video Game
ATTACH;FMTTYPE=image/webp:https://capitalpinballclub.com/wp-content/uploads/2025/08/capital_video_game_cover.webp
END:VEVENT
BEGIN:VEVENT
DTSTART;TZID=America/New_York:20251126T180000
DTEND;TZID=America/New_York:20251126T220000
DTSTAMP:20260423T223145
CREATED:20250816T132013Z
LAST-MODIFIED:20250914T143007Z
UID:7518-1764180000-1764194400@capitalpinballclub.com
SUMMARY:Video Game Night
DESCRIPTION:Video Game Night\nfeaturing Rock Band 4 on PlayStation 4 \nWednesday\, November 26\, 2025 • 6:00 PM – 10:00 PM \n\n \n\nFeatured Game: Rock Band 4\n\n\n      Platform:\n      PlayStation 4\n    \n\n      Genre:\n      Rhythm/Music\n    \n\n      Players:\n      1-4\n    \n\n      Difficulty:\n      Easy\n    \nLive out your rock star dreams with friends as you play guitar bass drums and vocals to hit songs creating the ultimate band experience. \n\n    Why You’ll Love It:\n    Rock out with friends! Nothing beats the feeling of nailing that epic guitar solo or hitting those high notes in perfect harmony with your bandmates.\n  \n\n \n\nWhat to Expect\n\n🎮 Gaming Atmosphere\nRelaxed and welcoming atmosphere perfect for newcomers to Rock Band 4. Experienced players love helping others learn the ropes\, creating a supportive gaming community. \n \n\n🎯 Game Style\nMix of tournament-style brackets and casual pick-up games throughout the evening. \n \n\n✨ Special Note\nAll skill levels welcome! Our community loves helping newcomers learn while experienced players can showcase their skills. Come hungry for fun and maybe some friendly competition! \n \n\n \n\n🎮 Open Gaming Hours at Capital Pinball Club\n\n    This is an open game night! Come for the featured video game\, stay for open gaming\, pinball\, arcade games\, and community fun.\n    Can’t join the featured game? No problem! Open gaming\, pinball\, arcade games\, and our full game library are available all evening.\n   \n\n \n\nEvent Information\n\n\n📅 When\nWednesday\, November 26\, 20256:00 PM – 10:00 PM \n \n\n📍 Where\nCapital Pinball Club70 Pembroke Road\, Concord\, NH 03301 \n \n\n💰 Cost\n$15 guest pass or $50/month membership \n \n\n🎮 What to Bring\nJust yourself!All gaming equipment provided \n \n\n \n\nReady to Game?\nJoin us for an evening of epic gaming\, great company\, and unforgettable moments. Whether you’re a casual player or a hardcore gamer\, you’ll find your place in our welcoming community! \n\n🎯 What’s Available Tonight:\n\n✓ Featured Video Game: Rock Band 4 on PlayStation 4\n✓ Open Gaming: Bring your own games or play from our library\n✓ Pinball Machines: Multiple tables available\n✓ Arcade Games: Classic and modern arcade cabinets\n✓ Community: Meet fellow gamers and make new friends\n\n\n    📧 Contact Us\n  \n\n    No RSVP required! This is open gaming hours – come for video games\, pinball\, arcade games\, or just to hang out with the community.
URL:https://capitalpinballclub.com/event/video-game-night-12/
LOCATION:NH
CATEGORIES:Video Game
ATTACH;FMTTYPE=image/webp:https://capitalpinballclub.com/wp-content/uploads/2025/08/capital_video_game_cover.webp
END:VEVENT
END:VCALENDAR