BEGIN:VCALENDAR
VERSION:2.0
PRODID:-//Capital Pinball - ECPv6.15.20//NONSGML v1.0//EN
CALSCALE:GREGORIAN
METHOD:PUBLISH
X-WR-CALNAME:Capital Pinball
X-ORIGINAL-URL:https://capitalpinballclub.com
X-WR-CALDESC:Events for Capital Pinball
REFRESH-INTERVAL;VALUE=DURATION:PT1H
X-Robots-Tag:noindex
X-PUBLISHED-TTL:PT1H
BEGIN:VTIMEZONE
TZID:America/New_York
BEGIN:DAYLIGHT
TZOFFSETFROM:-0500
TZOFFSETTO:-0400
TZNAME:EDT
DTSTART:20240310T070000
END:DAYLIGHT
BEGIN:STANDARD
TZOFFSETFROM:-0400
TZOFFSETTO:-0500
TZNAME:EST
DTSTART:20241103T060000
END:STANDARD
BEGIN:DAYLIGHT
TZOFFSETFROM:-0500
TZOFFSETTO:-0400
TZNAME:EDT
DTSTART:20250309T070000
END:DAYLIGHT
BEGIN:STANDARD
TZOFFSETFROM:-0400
TZOFFSETTO:-0500
TZNAME:EST
DTSTART:20251102T060000
END:STANDARD
BEGIN:DAYLIGHT
TZOFFSETFROM:-0500
TZOFFSETTO:-0400
TZNAME:EDT
DTSTART:20260308T070000
END:DAYLIGHT
BEGIN:STANDARD
TZOFFSETFROM:-0400
TZOFFSETTO:-0500
TZNAME:EST
DTSTART:20261101T060000
END:STANDARD
END:VTIMEZONE
BEGIN:VEVENT
DTSTART;TZID=America/New_York:20251001T180000
DTEND;TZID=America/New_York:20251001T220000
DTSTAMP:20260423T234802
CREATED:20250816T131949Z
LAST-MODIFIED:20250914T142948Z
UID:7510-1759341600-1759356000@capitalpinballclub.com
SUMMARY:Video Game Night
DESCRIPTION:Video Game Night\nfeaturing Overcooked! All You Can Eat on Nintendo Switch \nWednesday\, October 01\, 2025 • 6:00 PM – 10:00 PM \n\n \n\nFeatured Game: Overcooked! All You Can Eat\n\n\n      Platform:\n      Nintendo Switch\n    \n\n      Genre:\n      Co-op/Party\n    \n\n      Players:\n      1-4\n    \n\n      Difficulty:\n      Medium\n    \nChaotic cooking simulator that tests teamwork and communication as you prepare meals in increasingly ridiculous kitchens with moving platforms and fire hazards. \n\n    Why You’ll Love It:\n    Pure cooperative chaos! Overcooked brings out the best and worst in teamwork creating hilarious moments of panic coordination and culinary disasters.\n  \n\n \n\nWhat to Expect\n\n🎮 Gaming Atmosphere\nBalanced mix of casual and competitive play. Whether you’re new to Overcooked! All You Can Eat or a seasoned veteran\, you’ll find your perfect gaming experience here. \n \n\n🎯 Game Style\nGroup fun with rotating players – more about laughs than competition. \n \n\n✨ Special Note\nAll skill levels welcome! Our community loves helping newcomers learn while experienced players can showcase their skills. Come hungry for fun and maybe some friendly competition! \n \n\n \n\n🎮 Open Gaming Hours at Capital Pinball Club\n\n    This is an open game night! Come for the featured video game\, stay for open gaming\, pinball\, arcade games\, and community fun.\n    Can’t join the featured game? No problem! Open gaming\, pinball\, arcade games\, and our full game library are available all evening.\n   \n\n \n\nEvent Information\n\n\n📅 When\nWednesday\, October 01\, 20256:00 PM – 10:00 PM \n \n\n📍 Where\nCapital Pinball Club70 Pembroke Road\, Concord\, NH 03301 \n \n\n💰 Cost\n$15 guest pass or $50/month membership \n \n\n🎮 What to Bring\nJust yourself!All gaming equipment provided \n \n\n \n\nReady to Game?\nJoin us for an evening of epic gaming\, great company\, and unforgettable moments. Whether you’re a casual player or a hardcore gamer\, you’ll find your place in our welcoming community! \n\n🎯 What’s Available Tonight:\n\n✓ Featured Video Game: Overcooked! All You Can Eat on Nintendo Switch\n✓ Open Gaming: Bring your own games or play from our library\n✓ Pinball Machines: Multiple tables available\n✓ Arcade Games: Classic and modern arcade cabinets\n✓ Community: Meet fellow gamers and make new friends\n\n\n    📧 Contact Us\n  \n\n    No RSVP required! This is open gaming hours – come for video games\, pinball\, arcade games\, or just to hang out with the community.
URL:https://capitalpinballclub.com/event/video-game-night-4/
LOCATION:NH
CATEGORIES:Video Game
ATTACH;FMTTYPE=image/webp:https://capitalpinballclub.com/wp-content/uploads/2025/08/capital_video_game_cover.webp
END:VEVENT
BEGIN:VEVENT
DTSTART;TZID=America/New_York:20251008T180000
DTEND;TZID=America/New_York:20251008T220000
DTSTAMP:20260423T234802
CREATED:20250816T131950Z
LAST-MODIFIED:20250914T142949Z
UID:7511-1759946400-1759960800@capitalpinballclub.com
SUMMARY:Video Game Night
DESCRIPTION:Video Game Night\nfeaturing Mario Party Superstars on Nintendo Switch \nWednesday\, October 08\, 2025 • 6:00 PM – 10:00 PM \n\n \n\nFeatured Game: Mario Party Superstars\n\n\n      Platform:\n      Nintendo Switch\n    \n\n      Genre:\n      Party/Board Game\n    \n\n      Players:\n      1-4\n    \n\n      Difficulty:\n      Easy\n    \nClassic Mario Party gameplay featuring the best boards and mini-games from the series history with updated graphics and online play. \n\n    Why You’ll Love It:\n    Pure chaos and fun! Mario Party is all about luck strategy and hilarious mini-games that will have everyone laughing and competing for the crown.\n  \n\n \n\nWhat to Expect\n\n🎮 Gaming Atmosphere\nRelaxed and welcoming atmosphere perfect for newcomers to Mario Party Superstars. Experienced players love helping others learn the ropes\, creating a supportive gaming community. \n \n\n🎯 Game Style\nGroup fun with rotating players – more about laughs than competition. \n \n\n✨ Special Note\nAll skill levels welcome! Our community loves helping newcomers learn while experienced players can showcase their skills. Come hungry for fun and maybe some friendly competition! \n \n\n \n\n🎮 Open Gaming Hours at Capital Pinball Club\n\n    This is an open game night! Come for the featured video game\, stay for open gaming\, pinball\, arcade games\, and community fun.\n    Can’t join the featured game? No problem! Open gaming\, pinball\, arcade games\, and our full game library are available all evening.\n   \n\n \n\nEvent Information\n\n\n📅 When\nWednesday\, October 08\, 20256:00 PM – 10:00 PM \n \n\n📍 Where\nCapital Pinball Club70 Pembroke Road\, Concord\, NH 03301 \n \n\n💰 Cost\n$15 guest pass or $50/month membership \n \n\n🎮 What to Bring\nJust yourself!All gaming equipment provided \n \n\n \n\nReady to Game?\nJoin us for an evening of epic gaming\, great company\, and unforgettable moments. Whether you’re a casual player or a hardcore gamer\, you’ll find your place in our welcoming community! \n\n🎯 What’s Available Tonight:\n\n✓ Featured Video Game: Mario Party Superstars on Nintendo Switch\n✓ Open Gaming: Bring your own games or play from our library\n✓ Pinball Machines: Multiple tables available\n✓ Arcade Games: Classic and modern arcade cabinets\n✓ Community: Meet fellow gamers and make new friends\n\n\n    📧 Contact Us\n  \n\n    No RSVP required! This is open gaming hours – come for video games\, pinball\, arcade games\, or just to hang out with the community.
URL:https://capitalpinballclub.com/event/video-game-night-5/
LOCATION:NH
CATEGORIES:Video Game
ATTACH;FMTTYPE=image/webp:https://capitalpinballclub.com/wp-content/uploads/2025/08/capital_video_game_cover.webp
END:VEVENT
BEGIN:VEVENT
DTSTART;TZID=America/New_York:20251015T180000
DTEND;TZID=America/New_York:20251015T220000
DTSTAMP:20260423T234802
CREATED:20250816T131955Z
LAST-MODIFIED:20250914T142950Z
UID:7512-1760551200-1760565600@capitalpinballclub.com
SUMMARY:Video Game Night
DESCRIPTION:Video Game Night\nfeaturing TMNT: Shredder’s Revenge on Multiple Platforms \nWednesday\, October 15\, 2025 • 6:00 PM – 10:00 PM \n\n \n\nFeatured Game: TMNT: Shredder’s Revenge\n\n\n      Platform:\n      Multiple Platforms\n    \n\n      Genre:\n      Beat ’em Up\n    \n\n      Players:\n      1-6\n    \n\n      Difficulty:\n      Easy\n    \nRetro-inspired beat ’em up featuring the beloved Teenage Mutant Ninja Turtles in pixel-perfect arcade action with modern gameplay enhancements. \n\n    Why You’ll Love It:\n    Cowabunga! Classic arcade action with modern polish that captures the essence of the original TMNT games while adding new cooperative fun.\n  \n\n \n\nWhat to Expect\n\n🎮 Gaming Atmosphere\nRelaxed and welcoming atmosphere perfect for newcomers to TMNT: Shredder’s Revenge. Experienced players love helping others learn the ropes\, creating a supportive gaming community. \n \n\n🎯 Game Style\nMix of tournament-style brackets and casual pick-up games throughout the evening. \n \n\n✨ Special Note\nAll skill levels welcome! Our community loves helping newcomers learn while experienced players can showcase their skills. Come hungry for fun and maybe some friendly competition! \n \n\n \n\n🎮 Open Gaming Hours at Capital Pinball Club\n\n    This is an open game night! Come for the featured video game\, stay for open gaming\, pinball\, arcade games\, and community fun.\n    Can’t join the featured game? No problem! Open gaming\, pinball\, arcade games\, and our full game library are available all evening.\n   \n\n \n\nEvent Information\n\n\n📅 When\nWednesday\, October 15\, 20256:00 PM – 10:00 PM \n \n\n📍 Where\nCapital Pinball Club70 Pembroke Road\, Concord\, NH 03301 \n \n\n💰 Cost\n$15 guest pass or $50/month membership \n \n\n🎮 What to Bring\nJust yourself!All gaming equipment provided \n \n\n \n\nReady to Game?\nJoin us for an evening of epic gaming\, great company\, and unforgettable moments. Whether you’re a casual player or a hardcore gamer\, you’ll find your place in our welcoming community! \n\n🎯 What’s Available Tonight:\n\n✓ Featured Video Game: TMNT: Shredder’s Revenge on Multiple Platforms\n✓ Open Gaming: Bring your own games or play from our library\n✓ Pinball Machines: Multiple tables available\n✓ Arcade Games: Classic and modern arcade cabinets\n✓ Community: Meet fellow gamers and make new friends\n\n\n    📧 Contact Us\n  \n\n    No RSVP required! This is open gaming hours – come for video games\, pinball\, arcade games\, or just to hang out with the community.
URL:https://capitalpinballclub.com/event/video-game-night-6/
LOCATION:NH
CATEGORIES:Video Game
ATTACH;FMTTYPE=image/webp:https://capitalpinballclub.com/wp-content/uploads/2025/08/capital_video_game_cover.webp
END:VEVENT
BEGIN:VEVENT
DTSTART;TZID=America/New_York:20251022T180000
DTEND;TZID=America/New_York:20251022T220000
DTSTAMP:20260423T234802
CREATED:20250816T131956Z
LAST-MODIFIED:20251021T190450Z
UID:7513-1761156000-1761170400@capitalpinballclub.com
SUMMARY:Video Game Night
DESCRIPTION:Video Game Night\nfeaturing Speed Runners \nWednesday\, October 22\, 2025 • 6:00 PM – 10:00 PM \n\n \n\nFeatured Game: Speed Runners\n\nPlatform:\nSteam\nPlayers:\n1-4\nDifficulty:\nMedium\n\n\n \n\nWhat to Expect\n\n🎮 Gaming Atmosphere\nBalanced mix of casual and competitive play. Whether you’re new to Perfect Dark or a seasoned veteran\, you’ll find your perfect gaming experience here. \n\n\n🎯 Game Style\nMix of tournament-style brackets and casual pick-up games throughout the evening. \n\n\n✨ Special Note\nAll skill levels welcome! Our community loves helping newcomers learn while experienced players can showcase their skills. Come hungry for fun and maybe some friendly competition! \n\n\n \n\n🎮 Open Gaming Hours at Capital Pinball Club\nThis is an open game night! Come for the featured video game\, stay for open gaming\, pinball\, arcade games\, and community fun.\nCan’t join the featured game? No problem! Open gaming\, pinball\, arcade games\, and our full game library are available all evening. \n\n \n\nEvent Information\n\n\n📅 When\nWednesday\, October 22\, 2025\n6:00 PM – 10:00 PM \n\n\n📍 Where\nCapital Pinball Club\n70 Pembroke Road\, Concord\, NH 03301 \n\n\n💰 Cost\n$15 guest pass or $50/month membership \n\n\n🎮 What to Bring\nJust yourself!\nAll gaming equipment provided \n\n\n\n \n\nReady to Game?\nJoin us for an evening of epic gaming\, great company\, and unforgettable moments. Whether you’re a casual player or a hardcore gamer\, you’ll find your place in our welcoming community! \n\n🎯 What’s Available Tonight:\n\n✓ Featured Video Game: Perfect Dark on Nintendo 64\n✓ Open Gaming: Bring your own games or play from our library\n✓ Pinball Machines: Multiple tables available\n✓ Arcade Games: Classic and modern arcade cabinets\n✓ Community: Meet fellow gamers and make new friends\n\n\n📧 Contact Us\nNo RSVP required! This is open gaming hours – come for video games\, pinball\, arcade games\, or just to hang out with the community.
URL:https://capitalpinballclub.com/event/video-game-night-7/
LOCATION:NH
CATEGORIES:Video Game
ATTACH;FMTTYPE=image/webp:https://capitalpinballclub.com/wp-content/uploads/2025/08/capital_video_game_cover.webp
END:VEVENT
BEGIN:VEVENT
DTSTART;TZID=America/New_York:20251029T180000
DTEND;TZID=America/New_York:20251029T220000
DTSTAMP:20260423T234802
CREATED:20250816T131958Z
LAST-MODIFIED:20250914T142953Z
UID:7514-1761760800-1761775200@capitalpinballclub.com
SUMMARY:Video Game Night
DESCRIPTION:Video Game Night\nfeaturing Tony Hawk’s Pro Skater 3 on PlayStation 2 \nWednesday\, October 29\, 2025 • 6:00 PM – 10:00 PM \n\n \n\nFeatured Game: Tony Hawk’s Pro Skater 3\n\n\n      Platform:\n      PlayStation 2\n    \n\n      Genre:\n      Sports/Skateboarding\n    \n\n      Players:\n      1-2\n    \n\n      Difficulty:\n      Medium\n    \nThe peak of the classic Tony Hawk series featuring the best level design trick system and soundtrack that defined early 2000s extreme sports gaming. \n\n    Why You’ll Love It:\n    Legendary skateboarding at its finest! Land incredible combos explore amazing levels and experience the game that many consider the best in the series.\n  \n\n \n\nWhat to Expect\n\n🎮 Gaming Atmosphere\nBalanced mix of casual and competitive play. Whether you’re new to Tony Hawk’s Pro Skater 3 or a seasoned veteran\, you’ll find your perfect gaming experience here. \n \n\n🎯 Game Style\nMix of tournament-style brackets and casual pick-up games throughout the evening. \n \n\n✨ Special Note\nAll skill levels welcome! Our community loves helping newcomers learn while experienced players can showcase their skills. Come hungry for fun and maybe some friendly competition! \n \n\n \n\n🎮 Open Gaming Hours at Capital Pinball Club\n\n    This is an open game night! Come for the featured video game\, stay for open gaming\, pinball\, arcade games\, and community fun.\n    Can’t join the featured game? No problem! Open gaming\, pinball\, arcade games\, and our full game library are available all evening.\n   \n\n \n\nEvent Information\n\n\n📅 When\nWednesday\, October 29\, 20256:00 PM – 10:00 PM \n \n\n📍 Where\nCapital Pinball Club70 Pembroke Road\, Concord\, NH 03301 \n \n\n💰 Cost\n$15 guest pass or $50/month membership \n \n\n🎮 What to Bring\nJust yourself!All gaming equipment provided \n \n\n \n\nReady to Game?\nJoin us for an evening of epic gaming\, great company\, and unforgettable moments. Whether you’re a casual player or a hardcore gamer\, you’ll find your place in our welcoming community! \n\n🎯 What’s Available Tonight:\n\n✓ Featured Video Game: Tony Hawk’s Pro Skater 3 on PlayStation 2\n✓ Open Gaming: Bring your own games or play from our library\n✓ Pinball Machines: Multiple tables available\n✓ Arcade Games: Classic and modern arcade cabinets\n✓ Community: Meet fellow gamers and make new friends\n\n\n    📧 Contact Us\n  \n\n    No RSVP required! This is open gaming hours – come for video games\, pinball\, arcade games\, or just to hang out with the community.
URL:https://capitalpinballclub.com/event/video-game-night-8/
LOCATION:NH
CATEGORIES:Video Game
ATTACH;FMTTYPE=image/webp:https://capitalpinballclub.com/wp-content/uploads/2025/08/capital_video_game_cover.webp
END:VEVENT
END:VCALENDAR