BEGIN:VCALENDAR
VERSION:2.0
PRODID:-//Capital Pinball - ECPv6.15.20//NONSGML v1.0//EN
CALSCALE:GREGORIAN
METHOD:PUBLISH
X-WR-CALNAME:Capital Pinball
X-ORIGINAL-URL:https://capitalpinballclub.com
X-WR-CALDESC:Events for Capital Pinball
REFRESH-INTERVAL;VALUE=DURATION:PT1H
X-Robots-Tag:noindex
X-PUBLISHED-TTL:PT1H
BEGIN:VTIMEZONE
TZID:America/New_York
BEGIN:DAYLIGHT
TZOFFSETFROM:-0500
TZOFFSETTO:-0400
TZNAME:EDT
DTSTART:20240310T070000
END:DAYLIGHT
BEGIN:STANDARD
TZOFFSETFROM:-0400
TZOFFSETTO:-0500
TZNAME:EST
DTSTART:20241103T060000
END:STANDARD
BEGIN:DAYLIGHT
TZOFFSETFROM:-0500
TZOFFSETTO:-0400
TZNAME:EDT
DTSTART:20250309T070000
END:DAYLIGHT
BEGIN:STANDARD
TZOFFSETFROM:-0400
TZOFFSETTO:-0500
TZNAME:EST
DTSTART:20251102T060000
END:STANDARD
BEGIN:DAYLIGHT
TZOFFSETFROM:-0500
TZOFFSETTO:-0400
TZNAME:EDT
DTSTART:20260308T070000
END:DAYLIGHT
BEGIN:STANDARD
TZOFFSETFROM:-0400
TZOFFSETTO:-0500
TZNAME:EST
DTSTART:20261101T060000
END:STANDARD
END:VTIMEZONE
BEGIN:VTIMEZONE
TZID:Asia/Karachi
BEGIN:STANDARD
TZOFFSETFROM:+0500
TZOFFSETTO:+0500
TZNAME:PKT
DTSTART:20240101T000000
END:STANDARD
END:VTIMEZONE
BEGIN:VTIMEZONE
TZID:UTC
BEGIN:STANDARD
TZOFFSETFROM:+0000
TZOFFSETTO:+0000
TZNAME:UTC
DTSTART:20240101T000000
END:STANDARD
END:VTIMEZONE
BEGIN:VEVENT
DTSTART;TZID=America/New_York:20250214T190000
DTEND;TZID=America/New_York:20250214T210000
DTSTAMP:20260423T153215
CREATED:20241117T101349Z
LAST-MODIFIED:20250123T140442Z
UID:5675-1739559600-1739566800@capitalpinballclub.com
SUMMARY:New England Pinball League - Week 6 Season 33
DESCRIPTION:Join us at Capital Pinball for a night of fun\, friendly competition as part of the New England Pinball League (NEPL)! Whether you’re a seasoned player or just getting into the game\, our league nights are the perfect opportunity to play some pinball\, meet fellow enthusiasts\, and improve your skills. \nFormat:\nLeague Play: All league players who are in attendance at league start time will be randomly assigned to 3- and 4-player groups. Groups are selected randomly by a manual method\, i.e. drawing cards. Games are selected by the league players in each group. In 4-player groups\, each league player will select one machine to be played\, and those four machines will make up the group’s schedule for the session. In 3-player groups\, the fourth game will be chosen by the league player currently in first place. If there is a tie for the most points\, the player who placed higher in the most recent game has game choice. No machine may be selected more than once unless there are fewer than four functioning machines at the location. The player who chooses the game plays first on that game then play order continues as follows: Scoring: Players earn points based on their performance each week\, with rankings updated throughout the season. At the end of the season\, the top players will qualify for the playoffs\, where the best of the best will face off to determine the league champion. In each game\, a league player scores points for their finish against their opponents. The winner of a game gets 7 points\, and last place gets 1 point. Specific points available depend on the size of the group: 3-league player group: 1st = 7 points\, 2nd = 4 points\, 3rd = 1 point 4-league player group: 1st = 7 points\, 2nd = 5 points\, 3rd = 3 points\, 4th = 1 point Inclusivity: All skill levels are welcome\, from beginners to advanced players. The league is about having fun and building a community\, so don’t worry if you’re new to the game—everyone has a shot at victory! \nWhy Participate?\nCommunity: Our league nights are a fantastic way to connect with other pinball fans\, share tips and strategies\, and enjoy the camaraderie of the pinball community. Competition: With rankings and playoffs\, you’ll have the chance to test your skills and see how you stack up against other players. Prizes: Besides the thrill of competition\, there will be prizes for top performers\, making every match count! \nDetails:\nWhere: Capital Pinball\, Concord\, NH. Entry Fee: Free for members and $15 Guest Pass Fee for non-members NEPL League: $40 per season paid to NEPL (Register Here) The money goes toward finals prize money\, swag\, and awards. All you have to do is show up for league at any one of the available dates and locations at least 5 of the 8 weekly sessions and play four games of head-to-head pinball in 3- and 4-league member groups to earn points. (Plunge extra balls / bonus balls to save time!) . League member’s 2 lowest scoring sessions are discarded to calculate their adjusted points for the season. Adjusted points at the end of week 8 will determine your position in finals Please Note – You must be registered with NEPL before arriving to this event.  Join us for the New England Pinball League at Capital Pinball\, where the flips are fierce\, the competition is friendly\, and the fun is guaranteed. Whether you’re aiming for the top or just looking to play some great games\, there’s a spot for you in the league!
URL:https://capitalpinballclub.com/event/new-england-pinball-league-week-6-season-32/
LOCATION:Capital Pinball\, 70 Pembroke Rd\, Concord\, NH\, 03301\, United States
CATEGORIES:League,NEPL,Open Hours
ATTACH;FMTTYPE=image/png:https://capitalpinballclub.com/wp-content/uploads/2024/11/NEPL-Season-34-Cover.png
END:VEVENT
BEGIN:VEVENT
DTSTART;TZID=America/New_York:20250207T190000
DTEND;TZID=America/New_York:20250207T210000
DTSTAMP:20260423T153215
CREATED:20241117T101348Z
LAST-MODIFIED:20250123T140442Z
UID:5674-1738954800-1738962000@capitalpinballclub.com
SUMMARY:New England Pinball League - Week 5 Season 33
DESCRIPTION:Join us at Capital Pinball for a night of fun\, friendly competition as part of the New England Pinball League (NEPL)! Whether you’re a seasoned player or just getting into the game\, our league nights are the perfect opportunity to play some pinball\, meet fellow enthusiasts\, and improve your skills. \nFormat:\nLeague Play: All league players who are in attendance at league start time will be randomly assigned to 3- and 4-player groups. Groups are selected randomly by a manual method\, i.e. drawing cards. Games are selected by the league players in each group. In 4-player groups\, each league player will select one machine to be played\, and those four machines will make up the group’s schedule for the session. In 3-player groups\, the fourth game will be chosen by the league player currently in first place. If there is a tie for the most points\, the player who placed higher in the most recent game has game choice. No machine may be selected more than once unless there are fewer than four functioning machines at the location. The player who chooses the game plays first on that game then play order continues as follows: Scoring: Players earn points based on their performance each week\, with rankings updated throughout the season. At the end of the season\, the top players will qualify for the playoffs\, where the best of the best will face off to determine the league champion. In each game\, a league player scores points for their finish against their opponents. The winner of a game gets 7 points\, and last place gets 1 point. Specific points available depend on the size of the group: 3-league player group: 1st = 7 points\, 2nd = 4 points\, 3rd = 1 point 4-league player group: 1st = 7 points\, 2nd = 5 points\, 3rd = 3 points\, 4th = 1 point Inclusivity: All skill levels are welcome\, from beginners to advanced players. The league is about having fun and building a community\, so don’t worry if you’re new to the game—everyone has a shot at victory! \nWhy Participate?\nCommunity: Our league nights are a fantastic way to connect with other pinball fans\, share tips and strategies\, and enjoy the camaraderie of the pinball community. Competition: With rankings and playoffs\, you’ll have the chance to test your skills and see how you stack up against other players. Prizes: Besides the thrill of competition\, there will be prizes for top performers\, making every match count! \nDetails:\nWhere: Capital Pinball\, Concord\, NH. Entry Fee: Free for members and $15 Guest Pass Fee for non-members NEPL League: $40 per season paid to NEPL (Register Here) The money goes toward finals prize money\, swag\, and awards. All you have to do is show up for league at any one of the available dates and locations at least 5 of the 8 weekly sessions and play four games of head-to-head pinball in 3- and 4-league member groups to earn points. (Plunge extra balls / bonus balls to save time!) . League member’s 2 lowest scoring sessions are discarded to calculate their adjusted points for the season. Adjusted points at the end of week 8 will determine your position in finals Please Note – You must be registered with NEPL before arriving to this event.  Join us for the New England Pinball League at Capital Pinball\, where the flips are fierce\, the competition is friendly\, and the fun is guaranteed. Whether you’re aiming for the top or just looking to play some great games\, there’s a spot for you in the league!
URL:https://capitalpinballclub.com/event/new-england-pinball-league-week-5-season-32/
LOCATION:Capital Pinball\, 70 Pembroke Rd\, Concord\, NH\, 03301\, United States
CATEGORIES:League,NEPL,Open Hours
ATTACH;FMTTYPE=image/png:https://capitalpinballclub.com/wp-content/uploads/2024/11/NEPL-Season-34-Cover.png
END:VEVENT
BEGIN:VEVENT
DTSTART;TZID=America/New_York:20250131T190000
DTEND;TZID=America/New_York:20250131T210000
DTSTAMP:20260423T153215
CREATED:20241117T101346Z
LAST-MODIFIED:20250123T140442Z
UID:5673-1738350000-1738357200@capitalpinballclub.com
SUMMARY:New England Pinball League - Week 4 Season 33
DESCRIPTION:Join us at Capital Pinball for a night of fun\, friendly competition as part of the New England Pinball League (NEPL)! Whether you’re a seasoned player or just getting into the game\, our league nights are the perfect opportunity to play some pinball\, meet fellow enthusiasts\, and improve your skills. \nFormat:\nLeague Play: All league players who are in attendance at league start time will be randomly assigned to 3- and 4-player groups. Groups are selected randomly by a manual method\, i.e. drawing cards. Games are selected by the league players in each group. In 4-player groups\, each league player will select one machine to be played\, and those four machines will make up the group’s schedule for the session. In 3-player groups\, the fourth game will be chosen by the league player currently in first place. If there is a tie for the most points\, the player who placed higher in the most recent game has game choice. No machine may be selected more than once unless there are fewer than four functioning machines at the location. The player who chooses the game plays first on that game then play order continues as follows: Scoring: Players earn points based on their performance each week\, with rankings updated throughout the season. At the end of the season\, the top players will qualify for the playoffs\, where the best of the best will face off to determine the league champion. In each game\, a league player scores points for their finish against their opponents. The winner of a game gets 7 points\, and last place gets 1 point. Specific points available depend on the size of the group: 3-league player group: 1st = 7 points\, 2nd = 4 points\, 3rd = 1 point 4-league player group: 1st = 7 points\, 2nd = 5 points\, 3rd = 3 points\, 4th = 1 point Inclusivity: All skill levels are welcome\, from beginners to advanced players. The league is about having fun and building a community\, so don’t worry if you’re new to the game—everyone has a shot at victory! \nWhy Participate?\nCommunity: Our league nights are a fantastic way to connect with other pinball fans\, share tips and strategies\, and enjoy the camaraderie of the pinball community. Competition: With rankings and playoffs\, you’ll have the chance to test your skills and see how you stack up against other players. Prizes: Besides the thrill of competition\, there will be prizes for top performers\, making every match count! \nDetails:\nWhere: Capital Pinball\, Concord\, NH. Entry Fee: Free for members and $15 Guest Pass Fee for non-members NEPL League: $40 per season paid to NEPL (Register Here) The money goes toward finals prize money\, swag\, and awards. All you have to do is show up for league at any one of the available dates and locations at least 5 of the 8 weekly sessions and play four games of head-to-head pinball in 3- and 4-league member groups to earn points. (Plunge extra balls / bonus balls to save time!) . League member’s 2 lowest scoring sessions are discarded to calculate their adjusted points for the season. Adjusted points at the end of week 8 will determine your position in finals Please Note – You must be registered with NEPL before arriving to this event.  Join us for the New England Pinball League at Capital Pinball\, where the flips are fierce\, the competition is friendly\, and the fun is guaranteed. Whether you’re aiming for the top or just looking to play some great games\, there’s a spot for you in the league!
URL:https://capitalpinballclub.com/event/new-england-pinball-league-week-4-season-32/
LOCATION:Capital Pinball\, 70 Pembroke Rd\, Concord\, NH\, 03301\, United States
CATEGORIES:League,NEPL,Open Hours
ATTACH;FMTTYPE=image/png:https://capitalpinballclub.com/wp-content/uploads/2024/11/NEPL-Season-34-Cover.png
END:VEVENT
BEGIN:VEVENT
DTSTART;TZID=Asia/Karachi:20250124T190000
DTEND;TZID=Asia/Karachi:20250124T210000
DTSTAMP:20260423T153215
CREATED:20241117T090010Z
LAST-MODIFIED:20250123T140442Z
UID:5649-1737745200-1737752400@capitalpinballclub.com
SUMMARY:New England Pinball League - Week 3 Season 33
DESCRIPTION:Join us at Capital Pinball for a night of fun\, friendly competition as part of the New England Pinball League (NEPL)! Whether you’re a seasoned player or just getting into the game\, our league nights are the perfect opportunity to play some pinball\, meet fellow enthusiasts\, and improve your skills. \nFormat: \nLeague Play: All league players who are in attendance at league start time will be randomly assigned to 3- and 4-player groups. Groups are selected randomly by a manual method\, i.e. drawing cards. Games are selected by the league players in each group. In 4-player groups\, each league player will select one machine to be played\, and those four machines will make up the group’s schedule for the session. In 3-player groups\, the fourth game will be chosen by the league player currently in first place. If there is a tie for the most points\, the player who placed higher in the most recent game has game choice. No machine may be selected more than once unless there are fewer than four functioning machines at the location. The player who chooses the game plays first on that game then play order continues as follows: \nScoring: Players earn points based on their performance each week\, with rankings updated throughout the season. At the end of the season\, the top players will qualify for the playoffs\, where the best of the best will face off to determine the league champion. \nIn each game\, a league player scores points for their finish against their opponents. The winner of a game gets 7 points\, and last place gets 1 point. Specific points available depend on the size of the group: \n3-league player group: 1st = 7 points\, 2nd = 4 points\, 3rd = 1 point \n4-league player group: 1st = 7 points\, 2nd = 5 points\, 3rd = 3 points\, 4th = 1 point \nInclusivity: All skill levels are welcome\, from beginners to advanced players. The league is about having fun and building a community\, so don’t worry if you’re new to the game—everyone has a shot at victory! \nWhy Participate? \nCommunity: Our league nights are a fantastic way to connect with other pinball fans\, share tips and strategies\, and enjoy the camaraderie of the pinball community. \nCompetition: With rankings and playoffs\, you’ll have the chance to test your skills and see how you stack up against other players. \nPrizes: Besides the thrill of competition\, there will be prizes for top performers\, making every match count! \nDetails: \nWhere: Capital Pinball\, Concord\, NH. \nEntry Fee: Free for members and $15 Guest Pass Fee for non-members \nNEPL League: $40 per season paid to NEPL (Register Here) \nThe money goes toward finals prize money\, swag\, and awards. All you have to do is show up for league at any one of the available dates and locations at least 5 of the 8 weekly sessions and play four games of head-to-head pinball in 3- and 4-league member groups to earn points. (Plunge extra balls / bonus balls to save time!) . \nLeague member’s 2 lowest scoring sessions are discarded to calculate their adjusted points for the season. \nAdjusted points at the end of week 8 will determine your position in finals \nPlease Note – You must be registered with NEPL before arriving to this event. \nJoin us for the New England Pinball League at Capital Pinball\, where the flips are fierce\, the competition is friendly\, and the fun is guaranteed. Whether you’re aiming for the top or just looking to play some great games\, there’s a spot for you in the league! \n 
URL:https://capitalpinballclub.com/event/new-england-pinball-league-week-3-season-32/
LOCATION:Capital Pinball\, 70 Pembroke Rd\, Concord\, NH\, 03301\, United States
CATEGORIES:League,NEPL,Open Hours
ATTACH;FMTTYPE=image/png:https://capitalpinballclub.com/wp-content/uploads/2024/11/NEPL-Season-34-Cover.png
END:VEVENT
BEGIN:VEVENT
DTSTART;TZID=Asia/Karachi:20250117T190000
DTEND;TZID=Asia/Karachi:20250117T210000
DTSTAMP:20260423T153215
CREATED:20241117T085349Z
LAST-MODIFIED:20250123T140442Z
UID:5642-1737140400-1737147600@capitalpinballclub.com
SUMMARY:New England Pinball League - Week 2 Season 33
DESCRIPTION:Join us at Capital Pinball for a night of fun\, friendly competition as part of the New England Pinball League (NEPL)! Whether you’re a seasoned player or just getting into the game\, our league nights are the perfect opportunity to play some pinball\, meet fellow enthusiasts\, and improve your skills. \nFormat: \nLeague Play: All league players who are in attendance at league start time will be randomly assigned to 3- and 4-player groups. Groups are selected randomly by a manual method\, i.e. drawing cards. Games are selected by the league players in each group. In 4-player groups\, each league player will select one machine to be played\, and those four machines will make up the group’s schedule for the session. In 3-player groups\, the fourth game will be chosen by the league player currently in first place. If there is a tie for the most points\, the player who placed higher in the most recent game has game choice. No machine may be selected more than once unless there are fewer than four functioning machines at the location. The player who chooses the game plays first on that game then play order continues as follows: \nScoring: Players earn points based on their performance each week\, with rankings updated throughout the season. At the end of the season\, the top players will qualify for the playoffs\, where the best of the best will face off to determine the league champion. \nIn each game\, a league player scores points for their finish against their opponents. The winner of a game gets 7 points\, and last place gets 1 point. Specific points available depend on the size of the group: \n3-league player group: 1st = 7 points\, 2nd = 4 points\, 3rd = 1 point \n4-league player group: 1st = 7 points\, 2nd = 5 points\, 3rd = 3 points\, 4th = 1 point \nInclusivity: All skill levels are welcome\, from beginners to advanced players. The league is about having fun and building a community\, so don’t worry if you’re new to the game—everyone has a shot at victory! \nWhy Participate? \nCommunity: Our league nights are a fantastic way to connect with other pinball fans\, share tips and strategies\, and enjoy the camaraderie of the pinball community. \nCompetition: With rankings and playoffs\, you’ll have the chance to test your skills and see how you stack up against other players. \nPrizes: Besides the thrill of competition\, there will be prizes for top performers\, making every match count! \nDetails: \nWhere: Capital Pinball\, Concord\, NH. \nEntry Fee: Free for members and $15 Guest Pass Fee for non-members \nNEPL League: $40 per season paid to NEPL (Register Here) \nThe money goes toward finals prize money\, swag\, and awards. All you have to do is show up for league at any one of the available dates and locations at least 5 of the 8 weekly sessions and play four games of head-to-head pinball in 3- and 4-league member groups to earn points. (Plunge extra balls / bonus balls to save time!) . \nLeague member’s 2 lowest scoring sessions are discarded to calculate their adjusted points for the season. \nAdjusted points at the end of week 8 will determine your position in finals \nPlease Note – You must be registered with NEPL before arriving to this event. \nJoin us for the New England Pinball League at Capital Pinball\, where the flips are fierce\, the competition is friendly\, and the fun is guaranteed. Whether you’re aiming for the top or just looking to play some great games\, there’s a spot for you in the league! \n 
URL:https://capitalpinballclub.com/event/5642/
LOCATION:Capital Pinball\, 70 Pembroke Rd\, Concord\, NH\, 03301\, United States
CATEGORIES:League,NEPL,Open Hours
ATTACH;FMTTYPE=image/png:https://capitalpinballclub.com/wp-content/uploads/2024/11/NEPL-Season-34-Cover.png
END:VEVENT
BEGIN:VEVENT
DTSTART;TZID=UTC:20250110T190000
DTEND;TZID=UTC:20250110T210000
DTSTAMP:20260423T153215
CREATED:20240901T211340Z
LAST-MODIFIED:20250123T140442Z
UID:4948-1736535600-1736542800@capitalpinballclub.com
SUMMARY:New England Pinball League - Week 1 Season 33
DESCRIPTION:Join us at Capital Pinball for a night of fun\, friendly competition as part of the New England Pinball League (NEPL)! Whether you’re a seasoned player or just getting into the game\, our league nights are the perfect opportunity to play some pinball\, meet fellow enthusiasts\, and improve your skills. \nFormat:\nLeague Play: All league players who are in attendance at league start time will be randomly assigned to 3- and 4-player groups. Groups are selected randomly by a manual method\, i.e. drawing cards. Games are selected by the league players in each group. In 4-player groups\, each league player will select one machine to be played\, and those four machines will make up the group’s schedule for the session. In 3-player groups\, the fourth game will be chosen by the league player currently in first place. If there is a tie for the most points\, the player who placed higher in the most recent game has game choice. No machine may be selected more than once unless there are fewer than four functioning machines at the location. The player who chooses the game plays first on that game then play order continues as follows: \nScoring: Players earn points based on their performance each week\, with rankings updated throughout the season. At the end of the season\, the top players will qualify for the playoffs\, where the best of the best will face off to determine the league champion. \nIn each game\, a league player scores points for their finish against their opponents. The winner of a game gets 7 points\, and last place gets 1 point. Specific points available depend on the size of the group: \n3-league player group: 1st = 7 points\, 2nd = 4 points\, 3rd = 1 point \n4-league player group: 1st = 7 points\, 2nd = 5 points\, 3rd = 3 points\, 4th = 1 point \nInclusivity: All skill levels are welcome\, from beginners to advanced players. The league is about having fun and building a community\, so don’t worry if you’re new to the game—everyone has a shot at victory! \nWhy Participate?\nCommunity: Our league nights are a fantastic way to connect with other pinball fans\, share tips and strategies\, and enjoy the camaraderie of the pinball community. \nCompetition: With rankings and playoffs\, you’ll have the chance to test your skills and see how you stack up against other players. \nPrizes: Besides the thrill of competition\, there will be prizes for top performers\, making every match count! \nDetails:\nWhere: Capital Pinball\, Concord\, NH. \nEntry Fee: Free for members and $15 Guest Pass Fee for non-members \nNEPL League: $40 per season paid to NEPL (Register Here) \nThe money goes toward finals prize money\, swag\, and awards. All you have to do is show up for league at any one of the available dates and locations at least 5 of the 8 weekly sessions and play four games of head-to-head pinball in 3- and 4-league member groups to earn points. (Plunge extra balls / bonus balls to save time!) . \nLeague member’s 2 lowest scoring sessions are discarded to calculate their adjusted points for the season. \nAdjusted points at the end of week 8 will determine your position in finals \nPlease Note – You must be registered with NEPL before arriving to this event.  \nJoin us for the New England Pinball League at Capital Pinball\, where the flips are fierce\, the competition is friendly\, and the fun is guaranteed. Whether you’re aiming for the top or just looking to play some great games\, there’s a spot for you in the league!
URL:https://capitalpinballclub.com/event/new-england-pinball-league-week-1/
LOCATION:Capital Pinball\, 70 Pembroke Rd\, Concord\, NH\, 03301\, United States
CATEGORIES:League,NEPL,Open Hours
ATTACH;FMTTYPE=image/png:https://capitalpinballclub.com/wp-content/uploads/2024/11/NEPL-Season-34-Cover.png
END:VEVENT
END:VCALENDAR