BEGIN:VCALENDAR
VERSION:2.0
PRODID:-//Capital Pinball - ECPv6.15.20//NONSGML v1.0//EN
CALSCALE:GREGORIAN
METHOD:PUBLISH
X-WR-CALNAME:Capital Pinball
X-ORIGINAL-URL:https://capitalpinballclub.com
X-WR-CALDESC:Events for Capital Pinball
REFRESH-INTERVAL;VALUE=DURATION:PT1H
X-Robots-Tag:noindex
X-PUBLISHED-TTL:PT1H
BEGIN:VTIMEZONE
TZID:Asia/Karachi
BEGIN:STANDARD
TZOFFSETFROM:+0500
TZOFFSETTO:+0500
TZNAME:PKT
DTSTART:20240101T000000
END:STANDARD
END:VTIMEZONE
BEGIN:VTIMEZONE
TZID:UTC
BEGIN:STANDARD
TZOFFSETFROM:+0000
TZOFFSETTO:+0000
TZNAME:UTC
DTSTART:20230101T000000
END:STANDARD
END:VTIMEZONE
BEGIN:VEVENT
DTSTART;TZID=Asia/Karachi:20250330T120000
DTEND;TZID=Asia/Karachi:20250330T170000
DTSTAMP:20260423T141252
CREATED:20250122T083211Z
LAST-MODIFIED:20250205T124936Z
UID:5843-1743336000-1743354000@capitalpinballclub.com
SUMMARY:March Madness
DESCRIPTION:Tournament Date: 03/30\nCheck In: 12PM\nStart Time: 1PM\nTournament Fee: $15\nDay Pass Fee (non-members): $15 \nQualifiers: Flip Frenzy (3 hours)\nFinals: Amazing race\nTop 8 will make finals\nPrizes and trophies for top 4 \nPlayer Limit: 30\n*All games set to Freeplay\nRegister Here: https://app.matchplay.events/tournaments/176084\nPrepay Here: https://square.link/u/0ESw3tff
URL:https://capitalpinballclub.com/event/capital-pinballs-march-madness/
LOCATION:Capital Pinball\, 70 Pembroke Rd\, Concord\, NH\, 03301\, United States
CATEGORIES:Capital Cup,IFPA,Open Hours,Tournament
ATTACH;FMTTYPE=image/jpeg:https://capitalpinballclub.com/wp-content/uploads/2025/01/Leonardo_Phoenix_10_A_sleek_reflective_solid_silver_pinball_ab_3.jpg
END:VEVENT
BEGIN:VEVENT
DTSTART;TZID=Asia/Karachi:20250321T170000
DTEND;TZID=Asia/Karachi:20250321T220000
DTSTAMP:20260423T141252
CREATED:20250122T082830Z
LAST-MODIFIED:20250305T013535Z
UID:5841-1742576400-1742594400@capitalpinballclub.com
SUMMARY:NEPL Finals Warm-up Knockout
DESCRIPTION:Tournament Date: 03/21\nCheck In: 5PM\nStart Time: 6PM\nTournament Fee: $15\nDay Pass Fee (non-members): $15 \nQualifiers: Knockout/Strikeout\nFinals: Amazing race\nTop 8 will make finals\nPrizes and trophies for top 4 \nPlayer Limit: 30\n*All games set to Freeplay\nRegister Here: https://app.matchplay.events/tournaments/176083\nPrepay Here: https://square.link/u/0ESw3tff
URL:https://capitalpinballclub.com/event/capital-pinballs-nepl-finals-warm-up/
LOCATION:Capital Pinball\, 70 Pembroke Rd\, Concord\, NH\, 03301\, United States
CATEGORIES:IFPA,Open Hours,Tournament
ATTACH;FMTTYPE=image/jpeg:https://capitalpinballclub.com/wp-content/uploads/2025/01/Leonardo_Phoenix_10_A_set_of_shiny_solid_silver_pinball_balls_2.jpg
END:VEVENT
BEGIN:VEVENT
DTSTART;TZID=Asia/Karachi:20250223T120000
DTEND;TZID=Asia/Karachi:20250223T170000
DTSTAMP:20260423T141252
CREATED:20250122T082347Z
LAST-MODIFIED:20250127T012121Z
UID:5835-1740312000-1740330000@capitalpinballclub.com
SUMMARY:Capital Pinball is Flippin' Frozen
DESCRIPTION:Tournament Date: 02/23\nCheck In: 12PM\nStart Time: 1PM\nTournament Fee: $15\nDay Pass Fee (non-members): $15 \nQualifiers: 8 Rounds of Group Match Play Scoring: IFPA scoring (7/5/3/1)\nFinals: Ladder elimination bracket \nTop 8 will make finals\nPrizes and trophies for top 4 \nPlayer Limit: 30\n*All games set to Freeplay\nRegister Here: https://app.matchplay.events/tournaments/176080\nPrepay Here: https://square.link/u/0ESw3tff
URL:https://capitalpinballclub.com/event/capital-pinballs-flippin-frozen/
LOCATION:Capital Pinball\, 70 Pembroke Rd\, Concord\, NH\, 03301\, United States
CATEGORIES:Capital Cup,IFPA,Open Hours,Tournament
END:VEVENT
BEGIN:VEVENT
DTSTART;TZID=Asia/Karachi:20250125T120000
DTEND;TZID=Asia/Karachi:20250125T170000
DTSTAMP:20260423T141252
CREATED:20241211T033656Z
LAST-MODIFIED:20250110T005719Z
UID:5770-1737806400-1737824400@capitalpinballclub.com
SUMMARY:IFPA Metallica Launch Party
DESCRIPTION:IFPA Metallica Launch Party Group Match Play Tournament \nCheck-in: 12:00 PM \nStart Time: 1:00 PM \nTournament Fee: $15 \nDay Pass Fee (non-members): $15 \nPlayer Limit: 40 \n  \nJoin us for an exciting IFPA-sanctioned Group Match Play Tournament! Here’s what to expect: \n  \nFormat: 8 Rounds of Group Match Play \nSeeding: Random \nPlayer Pairing: Balanced pairing for each round \nRounds: 8 Rounds \nPlayer Order: Balanced and managed for fairness across rounds \nArena Assignment: Balanced to provide variety in play \nScoring System: Standard IFPA scoring (7/5/3/1) for each match \nTiebreakers: Automatic tiebreaker system\, no manual tiebreakers \nCutoff Line: Top 8 \n  \nWhether you’re an experienced player or new to competitive pinball\, this is a great chance to test your skills\, meet other pinball enthusiasts\, and have a blast! Space is limited to 28 players\, so be sure to register early. \n  \nRegister Here: https://app.matchplay.events/tournaments/169976/rsvp \nPrepay Here: https://square.link/u/0ESw3tff
URL:https://capitalpinballclub.com/event/ifpa-metallica-launch-party/
LOCATION:Capital Pinball\, 70 Pembroke Rd\, Concord\, NH\, 03301\, United States
CATEGORIES:IFPA,Tournament
ATTACH;FMTTYPE=image/jpeg:https://capitalpinballclub.com/wp-content/uploads/2024/12/JIMI_SOCIAL2.jpg
END:VEVENT
BEGIN:VEVENT
DTSTART;TZID=UTC:20241228T120000
DTEND;TZID=UTC:20241228T170000
DTSTAMP:20260423T141252
CREATED:20241017T234358Z
LAST-MODIFIED:20241127T053346Z
UID:5353-1735387200-1735405200@capitalpinballclub.com
SUMMARY:IFPA Uncanny X-Men Launch Party
DESCRIPTION:IFPA Group Match Play Tournament at Capital Pinball Club\nCheck-in: 12:00 PM\nStart Time: 1:00 PM\nEntry Fee: $15\nPlayer Limit: 28 \nJoin us for an exciting IFPA-sanctioned Group Match Play Tournament! Here’s what to expect: \n\nFormat: 6 Rounds of Group Match Play\nSeeding: Random\nPlayer Pairing: Balanced pairing for each round\nRounds: 6 Rounds\nPlayer Order: Balanced and managed for fairness across rounds\nArena Assignment: Balanced to provide variety in play\nScoring System: Standard IFPA scoring (7/5/3/1) for each match\nTiebreakers: Automatic tiebreaker system\, no manual tiebreakers\nCutoff Line: Top 8\n\nWhether you’re an experienced player or new to competitive pinball\, this is a great chance to test your skills\, meet other pinball enthusiasts\, and have a blast! Space is limited to 28 players\, so be sure to register early. \nRegister Here: https://app.matchplay.events/tournaments/166863/rsvp\nPrepay Here: https://square.link/u/0ESw3tff
URL:https://capitalpinballclub.com/event/ifpa-group-match-play/
LOCATION:Capital Pinball\, 70 Pembroke Rd\, Concord\, NH\, 03301\, United States
CATEGORIES:IFPA,Tournament
ATTACH;FMTTYPE=image/jpeg:https://capitalpinballclub.com/wp-content/uploads/2024/10/X-MEN-FB_social-media-LE-cover-scaled.jpg
END:VEVENT
END:VCALENDAR