BEGIN:VCALENDAR
VERSION:2.0
PRODID:-//Capital Pinball - ECPv6.15.20//NONSGML v1.0//EN
CALSCALE:GREGORIAN
METHOD:PUBLISH
X-WR-CALNAME:Capital Pinball
X-ORIGINAL-URL:https://capitalpinballclub.com
X-WR-CALDESC:Events for Capital Pinball
REFRESH-INTERVAL;VALUE=DURATION:PT1H
X-Robots-Tag:noindex
X-PUBLISHED-TTL:PT1H
BEGIN:VTIMEZONE
TZID:America/New_York
BEGIN:DAYLIGHT
TZOFFSETFROM:-0500
TZOFFSETTO:-0400
TZNAME:EDT
DTSTART:20240310T070000
END:DAYLIGHT
BEGIN:STANDARD
TZOFFSETFROM:-0400
TZOFFSETTO:-0500
TZNAME:EST
DTSTART:20241103T060000
END:STANDARD
BEGIN:DAYLIGHT
TZOFFSETFROM:-0500
TZOFFSETTO:-0400
TZNAME:EDT
DTSTART:20250309T070000
END:DAYLIGHT
BEGIN:STANDARD
TZOFFSETFROM:-0400
TZOFFSETTO:-0500
TZNAME:EST
DTSTART:20251102T060000
END:STANDARD
BEGIN:DAYLIGHT
TZOFFSETFROM:-0500
TZOFFSETTO:-0400
TZNAME:EDT
DTSTART:20260308T070000
END:DAYLIGHT
BEGIN:STANDARD
TZOFFSETFROM:-0400
TZOFFSETTO:-0500
TZNAME:EST
DTSTART:20261101T060000
END:STANDARD
END:VTIMEZONE
BEGIN:VEVENT
DTSTART;TZID=America/New_York:20251206T120000
DTEND;TZID=America/New_York:20251206T170000
DTSTAMP:20260423T201201
CREATED:20251027T220056Z
LAST-MODIFIED:20251102T163334Z
UID:7797-1765022400-1765040400@capitalpinballclub.com
SUMMARY:Star Wars Fall of the Empire Launch Party
DESCRIPTION:Join us for another exciting Capital Cup tournament! This IFPA-sanctioned event features competitive pinball action with trophies for the top 4 finishers. \nTournament Format\n\nQualifying: 8 Rounds of Group Match Play\nFinals: Single Elimination Bracket\nAdvancement: Top 8 advance to finals\n\nEvent Details\n\nCheck In: 12:00 PM\nStart Time: 1:00 PM\nDuration: Approximately 5 hours\nCost: $30 total ($15 tournament + $15 day pass for non-members)\nPlayer Limit: 32 players\nPrizes: Trophies for top 4\n\nRegistration: https://app.matchplay.events/tournaments/218769
URL:https://capitalpinballclub.com/event/star-wars-fall-of-the-empire-launch-party/
LOCATION:Capital Pinball\, 70 Pembroke Rd\, Concord\, NH\, 03301\, United States
CATEGORIES:Capital Cup,IFPA,Tournament
ATTACH;FMTTYPE=image/jpeg:https://capitalpinballclub.com/wp-content/uploads/2025/10/BUCK-social-media-LE-scaled.jpg
END:VEVENT
END:VCALENDAR