BEGIN:VCALENDAR
VERSION:2.0
PRODID:-//Capital Pinball - ECPv6.15.20//NONSGML v1.0//EN
CALSCALE:GREGORIAN
METHOD:PUBLISH
X-ORIGINAL-URL:https://capitalpinballclub.com
X-WR-CALDESC:Events for Capital Pinball
REFRESH-INTERVAL;VALUE=DURATION:PT1H
X-Robots-Tag:noindex
X-PUBLISHED-TTL:PT1H
BEGIN:VTIMEZONE
TZID:Asia/Karachi
BEGIN:STANDARD
TZOFFSETFROM:+0500
TZOFFSETTO:+0500
TZNAME:PKT
DTSTART:20240101T000000
END:STANDARD
END:VTIMEZONE
BEGIN:VEVENT
DTSTART;TZID=Asia/Karachi:20250927T120000
DTEND;TZID=Asia/Karachi:20250927T170000
DTSTAMP:20260423T223321
CREATED:20250123T050255Z
LAST-MODIFIED:20250901T191010Z
UID:5859-1758974400-1758992400@capitalpinballclub.com
SUMMARY:Flippin in September
DESCRIPTION:Tournament Date: 9/27\nCheck In: 12PM\nStart Time: 1PM\nTournament Fee: $15\nDay Pass Fee (non-members): $15 \nQualifiers: 8 Rounds of Group Match Play Scoring: IFPA scoring (7/5/3/1) .\nFinals: Group Knockout Elimination\nTop 8 will make finals\nPrizes and trophies for top 4 \nPlayer Limit: 30\n*All games set to Freeplay\nRegister Here: https://app.matchplay.events/tournaments/176095\nPrepay Here: https://square.link/u/0ESw3tff
URL:https://capitalpinballclub.com/event/capital-pinball-flippin-in-september/
LOCATION:Capital Pinball\, 70 Pembroke Rd\, Concord\, NH\, 03301\, United States
CATEGORIES:Capital Cup,IFPA,Open Hours,Tournament
ATTACH;FMTTYPE=image/jpeg:https://capitalpinballclub.com/wp-content/uploads/2025/01/AlbedoBase_XL_One_solid_silver_pinball_ball_laying_in_a_pile_o_2.jpg
END:VEVENT
END:VCALENDAR