BEGIN:VCALENDAR
VERSION:2.0
PRODID:-//Capital Pinball - ECPv6.15.20//NONSGML v1.0//EN
CALSCALE:GREGORIAN
METHOD:PUBLISH
X-ORIGINAL-URL:https://capitalpinballclub.com
X-WR-CALDESC:Events for Capital Pinball
REFRESH-INTERVAL;VALUE=DURATION:PT1H
X-Robots-Tag:noindex
X-PUBLISHED-TTL:PT1H
BEGIN:VTIMEZONE
TZID:Asia/Karachi
BEGIN:STANDARD
TZOFFSETFROM:+0500
TZOFFSETTO:+0500
TZNAME:PKT
DTSTART:20240101T000000
END:STANDARD
END:VTIMEZONE
BEGIN:VEVENT
DTSTART;TZID=Asia/Karachi:20250125T120000
DTEND;TZID=Asia/Karachi:20250125T170000
DTSTAMP:20260424T084551
CREATED:20241211T033656Z
LAST-MODIFIED:20250110T005719Z
UID:5770-1737806400-1737824400@capitalpinballclub.com
SUMMARY:IFPA Metallica Launch Party
DESCRIPTION:IFPA Metallica Launch Party Group Match Play Tournament \nCheck-in: 12:00 PM \nStart Time: 1:00 PM \nTournament Fee: $15 \nDay Pass Fee (non-members): $15 \nPlayer Limit: 40 \n  \nJoin us for an exciting IFPA-sanctioned Group Match Play Tournament! Here’s what to expect: \n  \nFormat: 8 Rounds of Group Match Play \nSeeding: Random \nPlayer Pairing: Balanced pairing for each round \nRounds: 8 Rounds \nPlayer Order: Balanced and managed for fairness across rounds \nArena Assignment: Balanced to provide variety in play \nScoring System: Standard IFPA scoring (7/5/3/1) for each match \nTiebreakers: Automatic tiebreaker system\, no manual tiebreakers \nCutoff Line: Top 8 \n  \nWhether you’re an experienced player or new to competitive pinball\, this is a great chance to test your skills\, meet other pinball enthusiasts\, and have a blast! Space is limited to 28 players\, so be sure to register early. \n  \nRegister Here: https://app.matchplay.events/tournaments/169976/rsvp \nPrepay Here: https://square.link/u/0ESw3tff
URL:https://capitalpinballclub.com/event/ifpa-metallica-launch-party/
LOCATION:Capital Pinball\, 70 Pembroke Rd\, Concord\, NH\, 03301\, United States
CATEGORIES:IFPA,Tournament
ATTACH;FMTTYPE=image/jpeg:https://capitalpinballclub.com/wp-content/uploads/2024/12/JIMI_SOCIAL2.jpg
END:VEVENT
END:VCALENDAR