BEGIN:VCALENDAR
VERSION:2.0
PRODID:-//Capital Pinball - ECPv6.15.20//NONSGML v1.0//EN
CALSCALE:GREGORIAN
METHOD:PUBLISH
X-ORIGINAL-URL:https://capitalpinballclub.com
X-WR-CALDESC:Events for Capital Pinball
REFRESH-INTERVAL;VALUE=DURATION:PT1H
X-Robots-Tag:noindex
X-PUBLISHED-TTL:PT1H
BEGIN:VTIMEZONE
TZID:UTC
BEGIN:STANDARD
TZOFFSETFROM:+0000
TZOFFSETTO:+0000
TZNAME:UTC
DTSTART:20230101T000000
END:STANDARD
END:VTIMEZONE
BEGIN:VEVENT
DTSTART;TZID=UTC:20241228T120000
DTEND;TZID=UTC:20241228T170000
DTSTAMP:20260424T100626
CREATED:20241017T234358Z
LAST-MODIFIED:20241127T053346Z
UID:5353-1735387200-1735405200@capitalpinballclub.com
SUMMARY:IFPA Uncanny X-Men Launch Party
DESCRIPTION:IFPA Group Match Play Tournament at Capital Pinball Club\nCheck-in: 12:00 PM\nStart Time: 1:00 PM\nEntry Fee: $15\nPlayer Limit: 28 \nJoin us for an exciting IFPA-sanctioned Group Match Play Tournament! Here’s what to expect: \n\nFormat: 6 Rounds of Group Match Play\nSeeding: Random\nPlayer Pairing: Balanced pairing for each round\nRounds: 6 Rounds\nPlayer Order: Balanced and managed for fairness across rounds\nArena Assignment: Balanced to provide variety in play\nScoring System: Standard IFPA scoring (7/5/3/1) for each match\nTiebreakers: Automatic tiebreaker system\, no manual tiebreakers\nCutoff Line: Top 8\n\nWhether you’re an experienced player or new to competitive pinball\, this is a great chance to test your skills\, meet other pinball enthusiasts\, and have a blast! Space is limited to 28 players\, so be sure to register early. \nRegister Here: https://app.matchplay.events/tournaments/166863/rsvp\nPrepay Here: https://square.link/u/0ESw3tff
URL:https://capitalpinballclub.com/event/ifpa-group-match-play/
LOCATION:Capital Pinball\, 70 Pembroke Rd\, Concord\, NH\, 03301\, United States
CATEGORIES:IFPA,Tournament
ATTACH;FMTTYPE=image/jpeg:https://capitalpinballclub.com/wp-content/uploads/2024/10/X-MEN-FB_social-media-LE-cover-scaled.jpg
END:VEVENT
END:VCALENDAR