BEGIN:VCALENDAR
VERSION:2.0
PRODID:-//Capital Pinball - ECPv6.15.20//NONSGML v1.0//EN
CALSCALE:GREGORIAN
METHOD:PUBLISH
X-WR-CALNAME:Capital Pinball
X-ORIGINAL-URL:https://capitalpinballclub.com
X-WR-CALDESC:Events for Capital Pinball
REFRESH-INTERVAL;VALUE=DURATION:PT1H
X-Robots-Tag:noindex
X-PUBLISHED-TTL:PT1H
BEGIN:VTIMEZONE
TZID:America/New_York
BEGIN:DAYLIGHT
TZOFFSETFROM:-0500
TZOFFSETTO:-0400
TZNAME:EDT
DTSTART:20250309T070000
END:DAYLIGHT
BEGIN:STANDARD
TZOFFSETFROM:-0400
TZOFFSETTO:-0500
TZNAME:EST
DTSTART:20251102T060000
END:STANDARD
BEGIN:DAYLIGHT
TZOFFSETFROM:-0500
TZOFFSETTO:-0400
TZNAME:EDT
DTSTART:20260308T070000
END:DAYLIGHT
BEGIN:STANDARD
TZOFFSETFROM:-0400
TZOFFSETTO:-0500
TZNAME:EST
DTSTART:20261101T060000
END:STANDARD
BEGIN:DAYLIGHT
TZOFFSETFROM:-0500
TZOFFSETTO:-0400
TZNAME:EDT
DTSTART:20270314T070000
END:DAYLIGHT
BEGIN:STANDARD
TZOFFSETFROM:-0400
TZOFFSETTO:-0500
TZNAME:EST
DTSTART:20271107T060000
END:STANDARD
END:VTIMEZONE
BEGIN:VEVENT
DTSTART;TZID=America/New_York:20260417T190000
DTEND;TZID=America/New_York:20260417T210000
DTSTAMP:20260423T122013
CREATED:20251205T161201Z
LAST-MODIFIED:20251205T161201Z
UID:7931-1776452400-1776459600@capitalpinballclub.com
SUMMARY:Division A Finals for NPC Season 2
DESCRIPTION:The culmination of 7 weeks of intense competition! The top four players from Capital Pinball who competed throughout the Northeast Pinball Challenge Season 2 will face off in the Division A Finals.   \nFormat:\n Ladder Elimination Bracket: The finals use a ladder elimination format\, giving players multiple chances to advance and fight their way to the championship.   \nWhat’s at Stake:\n\nRegional Glory: Represent Capital Pinball in the NPC Grand Finals\nIFPA-Sanctioned: Earn valuable WPPR points\nPrizes: Compete for prizes and bragging rights\nTeam Competition: Participate in both individual and team events\n\nWho Competes:\n Only the top four players from Capital Pinball based on their performance during the 7-week regular season qualify for this event.   \nTournament Details:\n View full tournament details and track results on Matchplay: Division A Finals Series Info: NPC Season 2 Series   \nWhen:\n Thursday\, April 17\, 2026 at 7:00 PM
URL:https://capitalpinballclub.com/event/division-a-finals-for-npc-season-2/
LOCATION:Capital Pinball\, 70 Pembroke Rd\, Concord\, NH\, 03301\, United States
CATEGORIES:Finals,NPC,Tournament
ATTACH;FMTTYPE=image/png:https://capitalpinballclub.com/wp-content/uploads/2025/06/npctitlecard-1536x864-1-z91wMK.png
END:VEVENT
END:VCALENDAR