BEGIN:VCALENDAR
VERSION:2.0
PRODID:-//Capital Pinball - ECPv6.15.20//NONSGML v1.0//EN
CALSCALE:GREGORIAN
METHOD:PUBLISH
X-WR-CALNAME:Capital Pinball
X-ORIGINAL-URL:https://capitalpinballclub.com
X-WR-CALDESC:Events for Capital Pinball
REFRESH-INTERVAL;VALUE=DURATION:PT1H
X-Robots-Tag:noindex
X-PUBLISHED-TTL:PT1H
BEGIN:VTIMEZONE
TZID:America/New_York
BEGIN:DAYLIGHT
TZOFFSETFROM:-0500
TZOFFSETTO:-0400
TZNAME:EDT
DTSTART:20240310T070000
END:DAYLIGHT
BEGIN:STANDARD
TZOFFSETFROM:-0400
TZOFFSETTO:-0500
TZNAME:EST
DTSTART:20241103T060000
END:STANDARD
BEGIN:DAYLIGHT
TZOFFSETFROM:-0500
TZOFFSETTO:-0400
TZNAME:EDT
DTSTART:20250309T070000
END:DAYLIGHT
BEGIN:STANDARD
TZOFFSETFROM:-0400
TZOFFSETTO:-0500
TZNAME:EST
DTSTART:20251102T060000
END:STANDARD
BEGIN:DAYLIGHT
TZOFFSETFROM:-0500
TZOFFSETTO:-0400
TZNAME:EDT
DTSTART:20260308T070000
END:DAYLIGHT
BEGIN:STANDARD
TZOFFSETFROM:-0400
TZOFFSETTO:-0500
TZNAME:EST
DTSTART:20261101T060000
END:STANDARD
BEGIN:DAYLIGHT
TZOFFSETFROM:-0500
TZOFFSETTO:-0400
TZNAME:EDT
DTSTART:20270314T070000
END:DAYLIGHT
BEGIN:STANDARD
TZOFFSETFROM:-0400
TZOFFSETTO:-0500
TZNAME:EST
DTSTART:20271107T060000
END:STANDARD
END:VTIMEZONE
BEGIN:VTIMEZONE
TZID:America/New_York
BEGIN:DAYLIGHT
TZOFFSETFROM:-0500
TZOFFSETTO:-0400
TZNAME:EDT
DTSTART:20240310T070000
END:DAYLIGHT
BEGIN:STANDARD
TZOFFSETFROM:-0400
TZOFFSETTO:-0500
TZNAME:EST
DTSTART:20241103T060000
END:STANDARD
BEGIN:DAYLIGHT
TZOFFSETFROM:-0500
TZOFFSETTO:-0400
TZNAME:EDT
DTSTART:20250309T070000
END:DAYLIGHT
BEGIN:STANDARD
TZOFFSETFROM:-0400
TZOFFSETTO:-0500
TZNAME:EST
DTSTART:20251102T060000
END:STANDARD
BEGIN:DAYLIGHT
TZOFFSETFROM:-0500
TZOFFSETTO:-0400
TZNAME:EDT
DTSTART:20260308T070000
END:DAYLIGHT
BEGIN:STANDARD
TZOFFSETFROM:-0400
TZOFFSETTO:-0500
TZNAME:EST
DTSTART:20261101T060000
END:STANDARD
END:VTIMEZONE
BEGIN:VEVENT
DTSTART;TZID=America/New_York:20260419T140000
DTEND;TZID=America/New_York:20260419T170000
DTSTAMP:20260423T150859
CREATED:20260419T030000Z
LAST-MODIFIED:20260419T030000Z
UID:8565-1776607200-1776618000@capitalpinballclub.com
SUMMARY:Club Maintenance & Repair Day
DESCRIPTION:Capital Pinball Maintenance Day\nwith host jeremy corson \nApril 19\, 2026 • Monthly Club Care Day \n\n \n\nJoin us at Capital Pinball for our monthly maintenance and repair day. This event is open to everyone interested in learning machine care\, helping with repairs\, or lending a hand to keep the club in top shape. \n\n \n\nWhat You’ll Do\n\n🛠 Hands-On Learning: Learn how to remove the glass\, clean playfields\, and perform basic maintenance.\n🔧 Technical Repairs: Experienced pinball techs tackle known issues and perform necessary repairs.\n📦 Pre-Ordered Parts: We aim to have needed parts ready to go for known issues.\n\n\n \n\nWhy It Matters\nA well-maintained club means better games\, fewer malfunctions\, and an arcade that players admire. By participating\, you help ensure machines stay in top condition for everyone to enjoy while building confidence with common pinball maintenance skills. \n\n \n\nSkills You’ll Learn\n\n✓ Basic Maintenance: Glass removal\, playfield cleaning\, and waxing\n✓ Minor Adjustments: Keep games running smoothly\n✓ Advanced Repairs: Learn from experienced techs on larger issues\n\n\n \n\nHelp Keep the Club Running Strong 🔧\nRSVP to join this maintenance day so we can plan work areas and parts. \n\n    🛠 RSVP Here\n  \n\nNew to maintenance? No problem. This is beginner-friendly and collaborative. \n \n\n \n\nJoin us for a hands-on learning experience while helping keep our machines in top condition for the whole community.
URL:https://capitalpinballclub.com/event/club-maintenance-repair-day-25/
LOCATION:Capital Pinball\, 70 Pembroke Rd\, Concord\, NH\, 03301\, United States
CATEGORIES:Maintenance,Open Hours,other,Repair
ATTACH;FMTTYPE=image/png:https://capitalpinballclub.com/wp-content/uploads/2025/03/CP-Maintenance-Cover.png
END:VEVENT
BEGIN:VEVENT
DTSTART;TZID=America/New_York:20260315T140000
DTEND;TZID=America/New_York:20260315T170000
DTSTAMP:20260423T150859
CREATED:20251027T222715Z
LAST-MODIFIED:20251027T222715Z
UID:7834-1773583200-1773594000@capitalpinballclub.com
SUMMARY:Club Maintenance & Repair Day
DESCRIPTION:Join us at Capital Pinball for our monthly maintenance and repair day! This event is open to everyone interested in learning how to maintain and repair pinball machines or just lend a helping hand to the club. \nWhat You’ll Do\n\n🛠 Hands-On Learning – Learn how to remove the glass\, clean playfields\, and perform basic maintenance.\n🔧 Technical Repairs – Experienced pinball techs will tackle known issues and perform necessary repairs.\n📦 Pre-Ordered Parts – We aim to have necessary parts ready to go for known issues.\n\nWhy It Matters\nA well-maintained club means better games\, fewer malfunctions\, and an arcade that players admire. By participating\, you help ensure that the machines stay in top condition for everyone to enjoy. Plus\, you’ll gain the confidence to handle common pinball issues yourself! \nSkills You’ll Learn\n\nBasic Maintenance: Glass removal\, playfield cleaning and waxing\nMinor Adjustments: Keep games running smoothly\nAdvanced Repairs: Learn from experienced techs working on larger issues\n\nJoin us for a hands-on learning experience while helping keep our beloved pinball machines in top condition!
URL:https://capitalpinballclub.com/event/club-maintenance-repair-day-15/
LOCATION:Capital Pinball\, 70 Pembroke Rd\, Concord\, NH\, 03301\, United States
CATEGORIES:Maintenance,Open Hours,Repair
ATTACH;FMTTYPE=image/png:https://capitalpinballclub.com/wp-content/uploads/2025/03/CP-Maintenance-Cover.png
END:VEVENT
BEGIN:VEVENT
DTSTART;TZID=America/New_York:20260222T140000
DTEND;TZID=America/New_York:20260222T170000
DTSTAMP:20260423T150859
CREATED:20251027T222714Z
LAST-MODIFIED:20260209T231753Z
UID:7833-1771768800-1771779600@capitalpinballclub.com
SUMMARY:Club Maintenance & Repair Day
DESCRIPTION:Join us at Capital Pinball for our monthly maintenance and repair day! This event is open to everyone interested in learning how to maintain and repair pinball machines or just lend a helping hand to the club. \nWhat You’ll Do\n\n🛠 Hands-On Learning – Learn how to remove the glass\, clean playfields\, and perform basic maintenance.\n🔧 Technical Repairs – Experienced pinball techs will tackle known issues and perform necessary repairs.\n📦 Pre-Ordered Parts – We aim to have necessary parts ready to go for known issues.\n\nWhy It Matters\nA well-maintained club means better games\, fewer malfunctions\, and an arcade that players admire. By participating\, you help ensure that the machines stay in top condition for everyone to enjoy. Plus\, you’ll gain the confidence to handle common pinball issues yourself! \nSkills You’ll Learn\n\nBasic Maintenance: Glass removal\, playfield cleaning and waxing\nMinor Adjustments: Keep games running smoothly\nAdvanced Repairs: Learn from experienced techs working on larger issues\n\nJoin us for a hands-on learning experience while helping keep our beloved pinball machines in top condition!
URL:https://capitalpinballclub.com/event/club-maintenance-repair-day-14/
LOCATION:Capital Pinball\, 70 Pembroke Rd\, Concord\, NH\, 03301\, United States
CATEGORIES:Maintenance,Open Hours,Repair
ATTACH;FMTTYPE=image/png:https://capitalpinballclub.com/wp-content/uploads/2025/03/CP-Maintenance-Cover.png
END:VEVENT
BEGIN:VEVENT
DTSTART;TZID=America/New_York:20260118T140000
DTEND;TZID=America/New_York:20260118T170000
DTSTAMP:20260423T150859
CREATED:20251027T222713Z
LAST-MODIFIED:20251027T222713Z
UID:7832-1768744800-1768755600@capitalpinballclub.com
SUMMARY:Club Maintenance & Repair Day
DESCRIPTION:Join us at Capital Pinball for our monthly maintenance and repair day! This event is open to everyone interested in learning how to maintain and repair pinball machines or just lend a helping hand to the club. \nWhat You’ll Do\n\n🛠 Hands-On Learning – Learn how to remove the glass\, clean playfields\, and perform basic maintenance.\n🔧 Technical Repairs – Experienced pinball techs will tackle known issues and perform necessary repairs.\n📦 Pre-Ordered Parts – We aim to have necessary parts ready to go for known issues.\n\nWhy It Matters\nA well-maintained club means better games\, fewer malfunctions\, and an arcade that players admire. By participating\, you help ensure that the machines stay in top condition for everyone to enjoy. Plus\, you’ll gain the confidence to handle common pinball issues yourself! \nSkills You’ll Learn\n\nBasic Maintenance: Glass removal\, playfield cleaning and waxing\nMinor Adjustments: Keep games running smoothly\nAdvanced Repairs: Learn from experienced techs working on larger issues\n\nJoin us for a hands-on learning experience while helping keep our beloved pinball machines in top condition!
URL:https://capitalpinballclub.com/event/club-maintenance-repair-day-13/
LOCATION:Capital Pinball\, 70 Pembroke Rd\, Concord\, NH\, 03301\, United States
CATEGORIES:Maintenance,Open Hours,Repair
ATTACH;FMTTYPE=image/png:https://capitalpinballclub.com/wp-content/uploads/2025/03/CP-Maintenance-Cover.png
END:VEVENT
BEGIN:VEVENT
DTSTART;TZID=America/New_York:20251221T140000
DTEND;TZID=America/New_York:20251221T170000
DTSTAMP:20260423T150859
CREATED:20251027T222711Z
LAST-MODIFIED:20251027T222711Z
UID:7831-1766325600-1766336400@capitalpinballclub.com
SUMMARY:Club Maintenance & Repair Day
DESCRIPTION:Join us at Capital Pinball for our monthly maintenance and repair day! This event is open to everyone interested in learning how to maintain and repair pinball machines or just lend a helping hand to the club. \nWhat You’ll Do\n\n🛠 Hands-On Learning – Learn how to remove the glass\, clean playfields\, and perform basic maintenance.\n🔧 Technical Repairs – Experienced pinball techs will tackle known issues and perform necessary repairs.\n📦 Pre-Ordered Parts – We aim to have necessary parts ready to go for known issues.\n\nWhy It Matters\nA well-maintained club means better games\, fewer malfunctions\, and an arcade that players admire. By participating\, you help ensure that the machines stay in top condition for everyone to enjoy. Plus\, you’ll gain the confidence to handle common pinball issues yourself! \nSkills You’ll Learn\n\nBasic Maintenance: Glass removal\, playfield cleaning and waxing\nMinor Adjustments: Keep games running smoothly\nAdvanced Repairs: Learn from experienced techs working on larger issues\n\nJoin us for a hands-on learning experience while helping keep our beloved pinball machines in top condition!
URL:https://capitalpinballclub.com/event/club-maintenance-repair-day-12/
LOCATION:Capital Pinball\, 70 Pembroke Rd\, Concord\, NH\, 03301\, United States
CATEGORIES:Maintenance,Open Hours,Repair
ATTACH;FMTTYPE=image/png:https://capitalpinballclub.com/wp-content/uploads/2025/03/CP-Maintenance-Cover.png
END:VEVENT
BEGIN:VEVENT
DTSTART;TZID=America/New_York:20251130T140000
DTEND;TZID=America/New_York:20251130T170000
DTSTAMP:20260423T150859
CREATED:20251027T222704Z
LAST-MODIFIED:20251102T160801Z
UID:7830-1764511200-1764522000@capitalpinballclub.com
SUMMARY:Club Maintenance & Repair Day
DESCRIPTION:Join us at Capital Pinball for our monthly maintenance and repair day! This event is open to everyone interested in learning how to maintain and repair pinball machines or just lend a helping hand to the club. \nWhat You’ll Do\n\n🛠 Hands-On Learning – Learn how to remove the glass\, clean playfields\, and perform basic maintenance.\n🔧 Technical Repairs – Experienced pinball techs will tackle known issues and perform necessary repairs.\n📦 Pre-Ordered Parts – We aim to have necessary parts ready to go for known issues.\n\nWhy It Matters\nA well-maintained club means better games\, fewer malfunctions\, and an arcade that players admire. By participating\, you help ensure that the machines stay in top condition for everyone to enjoy. Plus\, you’ll gain the confidence to handle common pinball issues yourself! \nSkills You’ll Learn\n\nBasic Maintenance: Glass removal\, playfield cleaning and waxing\nMinor Adjustments: Keep games running smoothly\nAdvanced Repairs: Learn from experienced techs working on larger issues\n\nJoin us for a hands-on learning experience while helping keep our beloved pinball machines in top condition!
URL:https://capitalpinballclub.com/event/club-maintenance-repair-day-11/
LOCATION:Capital Pinball\, 70 Pembroke Rd\, Concord\, NH\, 03301\, United States
CATEGORIES:Maintenance,Open Hours,Repair
ATTACH;FMTTYPE=image/png:https://capitalpinballclub.com/wp-content/uploads/2025/03/CP-Maintenance-Cover.png
END:VEVENT
BEGIN:VEVENT
DTSTART;TZID=America/New_York:20250817T140000
DTEND;TZID=America/New_York:20250817T170000
DTSTAMP:20260423T150859
CREATED:20250619T143117Z
LAST-MODIFIED:20250619T143117Z
UID:6560-1755439200-1755450000@capitalpinballclub.com
SUMMARY:Club Maintenance & Repair Day
DESCRIPTION:Join us at Capital Pinball for our monthly maintenance and repair day! This event is open to everyone interested in learning how to maintain and repair pinball machines or just lend a helping hand to the club. \n\n🛠 Hands-On Learning – Learn how to remove the glass\, clean playfields\, and perform basic maintenance.\n🔧 Technical Repairs – Experienced pinball techs will tackle known issues and perform necessary repairs.\n📦 Pre-Ordered Parts – We aim to have necessary parts ready to go for known issues.\n\n📅 When: The third Sunday of each month \n📍 Where: Capital Pinball
URL:https://capitalpinballclub.com/event/club-maintenance-repair-day-10/
LOCATION:Capital Pinball\, 70 Pembroke Rd\, Concord\, NH\, 03301\, United States
CATEGORIES:Maintenance,Open Hours,Repair
ATTACH;FMTTYPE=image/png:https://capitalpinballclub.com/wp-content/uploads/2025/03/CP-Maintenance-Cover.png
END:VEVENT
BEGIN:VEVENT
DTSTART;TZID=America/New_York:20250720T140000
DTEND;TZID=America/New_York:20250720T170000
DTSTAMP:20260423T150859
CREATED:20250619T142724Z
LAST-MODIFIED:20250619T143006Z
UID:6558-1753020000-1753030800@capitalpinballclub.com
SUMMARY:Club Maintenance & Repair Day
DESCRIPTION:Join us at Capital Pinball for our monthly maintenance and repair day! This event is open to everyone interested in learning how to maintain and repair pinball machines or just lend a helping hand to the club. \n\n🛠 Hands-On Learning – Learn how to remove the glass\, clean playfields\, and perform basic maintenance.\n🔧 Technical Repairs – Experienced pinball techs will tackle known issues and perform necessary repairs.\n📦 Pre-Ordered Parts – We aim to have necessary parts ready to go for known issues.\n\n📅 When: The third Sunday of each month \n📍 Where: Capital Pinball
URL:https://capitalpinballclub.com/event/club-maintenance-repair-day-9/
LOCATION:Capital Pinball\, 70 Pembroke Rd\, Concord\, NH\, 03301\, United States
CATEGORIES:Maintenance,Open Hours,Repair
ATTACH;FMTTYPE=image/png:https://capitalpinballclub.com/wp-content/uploads/2025/03/CP-Maintenance-Cover.png
END:VEVENT
BEGIN:VEVENT
DTSTART;TZID=America/New_York:20250615T140000
DTEND;TZID=America/New_York:20250615T170000
DTSTAMP:20260423T150859
CREATED:20250304T085657Z
LAST-MODIFIED:20250304T085657Z
UID:6342-1749996000-1750006800@capitalpinballclub.com
SUMMARY:Club Maintenance & Repair Day
DESCRIPTION:Join us at Capital Pinball for our monthly maintenance and repair day! This event is open to everyone interested in learning how to maintain and repair pinball machines or just lend a helping hand to the club. \n\n🛠 Hands-On Learning – Learn how to remove the glass\, clean playfields\, and perform basic maintenance.\n🔧 Technical Repairs – Experienced pinball techs will tackle known issues and perform necessary repairs.\n📦 Pre-Ordered Parts – We aim to have necessary parts ready to go for known issues.\n\n📅 When: The third Sunday of each month \n📍 Where: Capital Pinball
URL:https://capitalpinballclub.com/event/club-maintenance-repair-day-8/
LOCATION:Capital Pinball\, 70 Pembroke Rd\, Concord\, NH\, 03301\, United States
CATEGORIES:Maintenance,Open Hours,Repair
ATTACH;FMTTYPE=image/png:https://capitalpinballclub.com/wp-content/uploads/2025/03/CP-Maintenance-Cover.png
END:VEVENT
BEGIN:VEVENT
DTSTART;TZID=America/New_York:20250518T140000
DTEND;TZID=America/New_York:20250518T170000
DTSTAMP:20260423T150859
CREATED:20250304T085657Z
LAST-MODIFIED:20250508T214331Z
UID:6341-1747576800-1747587600@capitalpinballclub.com
SUMMARY:Club Maintenance & Repair Day
DESCRIPTION:Join us at Capital Pinball for our monthly maintenance and repair day! This event is open to everyone interested in learning how to maintain and repair pinball machines or just lend a helping hand to the club. \n\n🛠 Hands-On Learning – Learn how to remove the glass\, clean playfields\, and perform basic maintenance.\n🔧 Technical Repairs – Experienced pinball techs will tackle known issues and perform necessary repairs.\n📦 Pre-Ordered Parts – We aim to have necessary parts ready to go for known issues.\n\n📅 When: The third Sunday of each month \n📍 Where: Capital Pinball
URL:https://capitalpinballclub.com/event/club-maintenance-repair-day-7/
LOCATION:Capital Pinball\, 70 Pembroke Rd\, Concord\, NH\, 03301\, United States
CATEGORIES:Maintenance,Open Hours,Repair
ATTACH;FMTTYPE=image/png:https://capitalpinballclub.com/wp-content/uploads/2025/03/CP-Maintenance-Cover.png
END:VEVENT
BEGIN:VEVENT
DTSTART;TZID=America/New_York:20250420T140000
DTEND;TZID=America/New_York:20250420T170000
DTSTAMP:20260423T150859
CREATED:20250304T085656Z
LAST-MODIFIED:20250304T085656Z
UID:6340-1745157600-1745168400@capitalpinballclub.com
SUMMARY:Club Maintenance & Repair Day
DESCRIPTION:Join us at Capital Pinball for our monthly maintenance and repair day! This event is open to everyone interested in learning how to maintain and repair pinball machines or just lend a helping hand to the club. \n\n🛠 Hands-On Learning – Learn how to remove the glass\, clean playfields\, and perform basic maintenance.\n🔧 Technical Repairs – Experienced pinball techs will tackle known issues and perform necessary repairs.\n📦 Pre-Ordered Parts – We aim to have necessary parts ready to go for known issues.\n\n📅 When: The third Sunday of each month \n📍 Where: Capital Pinball
URL:https://capitalpinballclub.com/event/club-maintenance-repair-day-6/
LOCATION:Capital Pinball\, 70 Pembroke Rd\, Concord\, NH\, 03301\, United States
CATEGORIES:Maintenance,Open Hours,Repair
ATTACH;FMTTYPE=image/png:https://capitalpinballclub.com/wp-content/uploads/2025/03/CP-Maintenance-Cover.png
END:VEVENT
BEGIN:VEVENT
DTSTART;TZID=America/New_York:20250316T140000
DTEND;TZID=America/New_York:20250316T170000
DTSTAMP:20260423T150859
CREATED:20250304T085655Z
LAST-MODIFIED:20250304T085655Z
UID:6339-1742133600-1742144400@capitalpinballclub.com
SUMMARY:Club Maintenance & Repair Day
DESCRIPTION:Join us at Capital Pinball for our monthly maintenance and repair day! This event is open to everyone interested in learning how to maintain and repair pinball machines or just lend a helping hand to the club. \n\n🛠 Hands-On Learning – Learn how to remove the glass\, clean playfields\, and perform basic maintenance.\n🔧 Technical Repairs – Experienced pinball techs will tackle known issues and perform necessary repairs.\n📦 Pre-Ordered Parts – We aim to have necessary parts ready to go for known issues.\n\n📅 When: The third Sunday of each month \n📍 Where: Capital Pinball
URL:https://capitalpinballclub.com/event/club-maintenance-repair-day-5/
LOCATION:Capital Pinball\, 70 Pembroke Rd\, Concord\, NH\, 03301\, United States
CATEGORIES:Maintenance,Open Hours,Repair
ATTACH;FMTTYPE=image/png:https://capitalpinballclub.com/wp-content/uploads/2025/03/CP-Maintenance-Cover.png
END:VEVENT
END:VCALENDAR