BEGIN:VCALENDAR
VERSION:2.0
PRODID:-//Capital Pinball - ECPv6.15.20//NONSGML v1.0//EN
CALSCALE:GREGORIAN
METHOD:PUBLISH
X-WR-CALNAME:Capital Pinball
X-ORIGINAL-URL:https://capitalpinballclub.com
X-WR-CALDESC:Events for Capital Pinball
REFRESH-INTERVAL;VALUE=DURATION:PT1H
X-Robots-Tag:noindex
X-PUBLISHED-TTL:PT1H
BEGIN:VTIMEZONE
TZID:America/New_York
BEGIN:DAYLIGHT
TZOFFSETFROM:-0500
TZOFFSETTO:-0400
TZNAME:EDT
DTSTART:20240310T070000
END:DAYLIGHT
BEGIN:STANDARD
TZOFFSETFROM:-0400
TZOFFSETTO:-0500
TZNAME:EST
DTSTART:20241103T060000
END:STANDARD
BEGIN:DAYLIGHT
TZOFFSETFROM:-0500
TZOFFSETTO:-0400
TZNAME:EDT
DTSTART:20250309T070000
END:DAYLIGHT
BEGIN:STANDARD
TZOFFSETFROM:-0400
TZOFFSETTO:-0500
TZNAME:EST
DTSTART:20251102T060000
END:STANDARD
BEGIN:DAYLIGHT
TZOFFSETFROM:-0500
TZOFFSETTO:-0400
TZNAME:EDT
DTSTART:20260308T070000
END:DAYLIGHT
BEGIN:STANDARD
TZOFFSETFROM:-0400
TZOFFSETTO:-0500
TZNAME:EST
DTSTART:20261101T060000
END:STANDARD
BEGIN:DAYLIGHT
TZOFFSETFROM:-0500
TZOFFSETTO:-0400
TZNAME:EDT
DTSTART:20270314T070000
END:DAYLIGHT
BEGIN:STANDARD
TZOFFSETFROM:-0400
TZOFFSETTO:-0500
TZNAME:EST
DTSTART:20271107T060000
END:STANDARD
END:VTIMEZONE
BEGIN:VTIMEZONE
TZID:America/New_York
BEGIN:DAYLIGHT
TZOFFSETFROM:-0500
TZOFFSETTO:-0400
TZNAME:EDT
DTSTART:20240310T070000
END:DAYLIGHT
BEGIN:STANDARD
TZOFFSETFROM:-0400
TZOFFSETTO:-0500
TZNAME:EST
DTSTART:20241103T060000
END:STANDARD
BEGIN:DAYLIGHT
TZOFFSETFROM:-0500
TZOFFSETTO:-0400
TZNAME:EDT
DTSTART:20250309T070000
END:DAYLIGHT
BEGIN:STANDARD
TZOFFSETFROM:-0400
TZOFFSETTO:-0500
TZNAME:EST
DTSTART:20251102T060000
END:STANDARD
BEGIN:DAYLIGHT
TZOFFSETFROM:-0500
TZOFFSETTO:-0400
TZNAME:EDT
DTSTART:20260308T070000
END:DAYLIGHT
BEGIN:STANDARD
TZOFFSETFROM:-0400
TZOFFSETTO:-0500
TZNAME:EST
DTSTART:20261101T060000
END:STANDARD
END:VTIMEZONE
BEGIN:VEVENT
DTSTART;TZID=America/New_York:20260405T140000
DTEND;TZID=America/New_York:20260405T180000
DTSTAMP:20260423T110323
CREATED:20250810T155341Z
LAST-MODIFIED:20250810T160302Z
UID:6835-1775397600-1775412000@capitalpinballclub.com
SUMMARY:Queer Pinball
DESCRIPTION:Come join us for an afternoon of community\, connection\, and pinball! Queer Pinball is a welcoming space for LGBTQ+ folks and allies to hang out\, play some amazing pinball machines\, and meet new people in a fun and inclusive environment.   \nWhat to Expect:\n\nInclusive Community: A safe and welcoming space for all members of the LGBTQ+ community and allies\nFree Play Games: All pinball machines are set to free play – no quarters needed!\nLight Refreshments: Snacks and beverages provided throughout the event\nSocial Atmosphere: Perfect opportunity to meet new people and connect with fellow pinball enthusiasts\n\nEvent Details:\n\nWhen: First Sunday of every month\, 2:00 PM – 6:00 PM\nWhere: Capital Pinball\, 70 Pembroke Road\, Concord\, NH\nCost: $15 day pass fee for non-members\nOrganizer: Courtney Bazarian\n\nAccessibility & Inclusion:\nWe are committed to making this event accessible to everyone. If the entry fee is a barrier for attendance\, please reach out to us – we want all community members to be included and will work with you to ensure you can participate. \nWhy Join Us?\n\nCommunity Building: Connect with other LGBTQ+ folks in a fun\, relaxed setting\nSkill Development: Learn new pinball techniques or improve your existing skills\nStress Relief: Enjoy some quality downtime with great games and good company\nSafe Space: Experience pinball in an environment that celebrates diversity and inclusion\n\nWhether you’re a pinball wizard or have never played before\, all skill levels are welcome! Come as you are and join us for an afternoon of flips\, friends\, and fun at Capital Pinball. \nQuestions? Feel free to reach out to Courtney Bazarian or contact Capital Pinball directly.
URL:https://capitalpinballclub.com/event/queer-pinball-13/
LOCATION:Capital Pinball\, 70 Pembroke Rd\, Concord\, NH\, 03301\, United States
CATEGORIES:Open Hours,Queer
ATTACH;FMTTYPE=image/webp:https://capitalpinballclub.com/wp-content/uploads/2025/08/Rainbow-Playful-Pride-Information-Session-Instagram-Post-Presentation_20250408_131036_0000-phX4C9.webp
END:VEVENT
BEGIN:VEVENT
DTSTART;TZID=America/New_York:20260301T140000
DTEND;TZID=America/New_York:20260301T180000
DTSTAMP:20260423T110323
CREATED:20250810T155336Z
LAST-MODIFIED:20250810T160300Z
UID:6834-1772373600-1772388000@capitalpinballclub.com
SUMMARY:Queer Pinball
DESCRIPTION:Come join us for an afternoon of community\, connection\, and pinball! Queer Pinball is a welcoming space for LGBTQ+ folks and allies to hang out\, play some amazing pinball machines\, and meet new people in a fun and inclusive environment.   \nWhat to Expect:\n\nInclusive Community: A safe and welcoming space for all members of the LGBTQ+ community and allies\nFree Play Games: All pinball machines are set to free play – no quarters needed!\nLight Refreshments: Snacks and beverages provided throughout the event\nSocial Atmosphere: Perfect opportunity to meet new people and connect with fellow pinball enthusiasts\n\nEvent Details:\n\nWhen: First Sunday of every month\, 2:00 PM – 6:00 PM\nWhere: Capital Pinball\, 70 Pembroke Road\, Concord\, NH\nCost: $15 day pass fee for non-members\nOrganizer: Courtney Bazarian\n\nAccessibility & Inclusion:\nWe are committed to making this event accessible to everyone. If the entry fee is a barrier for attendance\, please reach out to us – we want all community members to be included and will work with you to ensure you can participate. \nWhy Join Us?\n\nCommunity Building: Connect with other LGBTQ+ folks in a fun\, relaxed setting\nSkill Development: Learn new pinball techniques or improve your existing skills\nStress Relief: Enjoy some quality downtime with great games and good company\nSafe Space: Experience pinball in an environment that celebrates diversity and inclusion\n\nWhether you’re a pinball wizard or have never played before\, all skill levels are welcome! Come as you are and join us for an afternoon of flips\, friends\, and fun at Capital Pinball. \nQuestions? Feel free to reach out to Courtney Bazarian or contact Capital Pinball directly.
URL:https://capitalpinballclub.com/event/queer-pinball-12/
LOCATION:Capital Pinball\, 70 Pembroke Rd\, Concord\, NH\, 03301\, United States
CATEGORIES:Open Hours,Queer
ATTACH;FMTTYPE=image/webp:https://capitalpinballclub.com/wp-content/uploads/2025/08/Rainbow-Playful-Pride-Information-Session-Instagram-Post-Presentation_20250408_131036_0000-phX4C9.webp
END:VEVENT
BEGIN:VEVENT
DTSTART;TZID=America/New_York:20260201T140000
DTEND;TZID=America/New_York:20260201T180000
DTSTAMP:20260423T110323
CREATED:20250810T155331Z
LAST-MODIFIED:20250810T160258Z
UID:6833-1769954400-1769968800@capitalpinballclub.com
SUMMARY:Queer Pinball
DESCRIPTION:Come join us for an afternoon of community\, connection\, and pinball! Queer Pinball is a welcoming space for LGBTQ+ folks and allies to hang out\, play some amazing pinball machines\, and meet new people in a fun and inclusive environment.   \nWhat to Expect:\n\nInclusive Community: A safe and welcoming space for all members of the LGBTQ+ community and allies\nFree Play Games: All pinball machines are set to free play – no quarters needed!\nLight Refreshments: Snacks and beverages provided throughout the event\nSocial Atmosphere: Perfect opportunity to meet new people and connect with fellow pinball enthusiasts\n\nEvent Details:\n\nWhen: First Sunday of every month\, 2:00 PM – 6:00 PM\nWhere: Capital Pinball\, 70 Pembroke Road\, Concord\, NH\nCost: $15 day pass fee for non-members\nOrganizer: Courtney Bazarian\n\nAccessibility & Inclusion:\nWe are committed to making this event accessible to everyone. If the entry fee is a barrier for attendance\, please reach out to us – we want all community members to be included and will work with you to ensure you can participate. \nWhy Join Us?\n\nCommunity Building: Connect with other LGBTQ+ folks in a fun\, relaxed setting\nSkill Development: Learn new pinball techniques or improve your existing skills\nStress Relief: Enjoy some quality downtime with great games and good company\nSafe Space: Experience pinball in an environment that celebrates diversity and inclusion\n\nWhether you’re a pinball wizard or have never played before\, all skill levels are welcome! Come as you are and join us for an afternoon of flips\, friends\, and fun at Capital Pinball. \nQuestions? Feel free to reach out to Courtney Bazarian or contact Capital Pinball directly.
URL:https://capitalpinballclub.com/event/queer-pinball-11/
LOCATION:Capital Pinball\, 70 Pembroke Rd\, Concord\, NH\, 03301\, United States
CATEGORIES:Open Hours,Queer
ATTACH;FMTTYPE=image/webp:https://capitalpinballclub.com/wp-content/uploads/2025/08/Rainbow-Playful-Pride-Information-Session-Instagram-Post-Presentation_20250408_131036_0000-phX4C9.webp
END:VEVENT
BEGIN:VEVENT
DTSTART;TZID=America/New_York:20260104T140000
DTEND;TZID=America/New_York:20260104T180000
DTSTAMP:20260423T110323
CREATED:20250810T155314Z
LAST-MODIFIED:20250810T160254Z
UID:6829-1767535200-1767549600@capitalpinballclub.com
SUMMARY:Queer Pinball
DESCRIPTION:Come join us for an afternoon of community\, connection\, and pinball! Queer Pinball is a welcoming space for LGBTQ+ folks and allies to hang out\, play some amazing pinball machines\, and meet new people in a fun and inclusive environment.   \nWhat to Expect:\n\nInclusive Community: A safe and welcoming space for all members of the LGBTQ+ community and allies\nFree Play Games: All pinball machines are set to free play – no quarters needed!\nLight Refreshments: Snacks and beverages provided throughout the event\nSocial Atmosphere: Perfect opportunity to meet new people and connect with fellow pinball enthusiasts\n\nEvent Details:\n\nWhen: First Sunday of every month\, 2:00 PM – 6:00 PM\nWhere: Capital Pinball\, 70 Pembroke Road\, Concord\, NH\nCost: $15 day pass fee for non-members\nOrganizer: Courtney Bazarian\n\nAccessibility & Inclusion:\nWe are committed to making this event accessible to everyone. If the entry fee is a barrier for attendance\, please reach out to us – we want all community members to be included and will work with you to ensure you can participate. \nWhy Join Us?\n\nCommunity Building: Connect with other LGBTQ+ folks in a fun\, relaxed setting\nSkill Development: Learn new pinball techniques or improve your existing skills\nStress Relief: Enjoy some quality downtime with great games and good company\nSafe Space: Experience pinball in an environment that celebrates diversity and inclusion\n\nWhether you’re a pinball wizard or have never played before\, all skill levels are welcome! Come as you are and join us for an afternoon of flips\, friends\, and fun at Capital Pinball. \nQuestions? Feel free to reach out to Courtney Bazarian or contact Capital Pinball directly.
URL:https://capitalpinballclub.com/event/queer-pinball-10/
LOCATION:Capital Pinball\, 70 Pembroke Rd\, Concord\, NH\, 03301\, United States
CATEGORIES:Open Hours,Queer
ATTACH;FMTTYPE=image/webp:https://capitalpinballclub.com/wp-content/uploads/2025/08/Rainbow-Playful-Pride-Information-Session-Instagram-Post-Presentation_20250408_131036_0000-phX4C9.webp
END:VEVENT
BEGIN:VEVENT
DTSTART;TZID=America/New_York:20251102T140000
DTEND;TZID=America/New_York:20251102T180000
DTSTAMP:20260423T110323
CREATED:20250810T155308Z
LAST-MODIFIED:20250810T160251Z
UID:6825-1762092000-1762106400@capitalpinballclub.com
SUMMARY:Queer Pinball
DESCRIPTION:Come join us for an afternoon of community\, connection\, and pinball! Queer Pinball is a welcoming space for LGBTQ+ folks and allies to hang out\, play some amazing pinball machines\, and meet new people in a fun and inclusive environment.   \nWhat to Expect:\n\nInclusive Community: A safe and welcoming space for all members of the LGBTQ+ community and allies\nFree Play Games: All pinball machines are set to free play – no quarters needed!\nLight Refreshments: Snacks and beverages provided throughout the event\nSocial Atmosphere: Perfect opportunity to meet new people and connect with fellow pinball enthusiasts\n\nEvent Details:\n\nWhen: First Sunday of every month\, 2:00 PM – 6:00 PM\nWhere: Capital Pinball\, 70 Pembroke Road\, Concord\, NH\nCost: $15 day pass fee for non-members\nOrganizer: Courtney Bazarian\n\nAccessibility & Inclusion:\nWe are committed to making this event accessible to everyone. If the entry fee is a barrier for attendance\, please reach out to us – we want all community members to be included and will work with you to ensure you can participate. \nWhy Join Us?\n\nCommunity Building: Connect with other LGBTQ+ folks in a fun\, relaxed setting\nSkill Development: Learn new pinball techniques or improve your existing skills\nStress Relief: Enjoy some quality downtime with great games and good company\nSafe Space: Experience pinball in an environment that celebrates diversity and inclusion\n\nWhether you’re a pinball wizard or have never played before\, all skill levels are welcome! Come as you are and join us for an afternoon of flips\, friends\, and fun at Capital Pinball. \nQuestions? Feel free to reach out to Courtney Bazarian or contact Capital Pinball directly.
URL:https://capitalpinballclub.com/event/queer-pinball-8/
LOCATION:Capital Pinball\, 70 Pembroke Rd\, Concord\, NH\, 03301\, United States
CATEGORIES:Open Hours,Queer
ATTACH;FMTTYPE=image/webp:https://capitalpinballclub.com/wp-content/uploads/2025/08/Rainbow-Playful-Pride-Information-Session-Instagram-Post-Presentation_20250408_131036_0000-phX4C9.webp
END:VEVENT
BEGIN:VEVENT
DTSTART;TZID=America/New_York:20251005T140000
DTEND;TZID=America/New_York:20251005T180000
DTSTAMP:20260423T110323
CREATED:20250810T155306Z
LAST-MODIFIED:20250810T160250Z
UID:6824-1759672800-1759687200@capitalpinballclub.com
SUMMARY:Queer Pinball
DESCRIPTION:Come join us for an afternoon of community\, connection\, and pinball! Queer Pinball is a welcoming space for LGBTQ+ folks and allies to hang out\, play some amazing pinball machines\, and meet new people in a fun and inclusive environment.   \nWhat to Expect:\n\nInclusive Community: A safe and welcoming space for all members of the LGBTQ+ community and allies\nFree Play Games: All pinball machines are set to free play – no quarters needed!\nLight Refreshments: Snacks and beverages provided throughout the event\nSocial Atmosphere: Perfect opportunity to meet new people and connect with fellow pinball enthusiasts\n\nEvent Details:\n\nWhen: First Sunday of every month\, 2:00 PM – 6:00 PM\nWhere: Capital Pinball\, 70 Pembroke Road\, Concord\, NH\nCost: $15 day pass fee for non-members\nOrganizer: Courtney Bazarian\n\nAccessibility & Inclusion:\nWe are committed to making this event accessible to everyone. If the entry fee is a barrier for attendance\, please reach out to us – we want all community members to be included and will work with you to ensure you can participate. \nWhy Join Us?\n\nCommunity Building: Connect with other LGBTQ+ folks in a fun\, relaxed setting\nSkill Development: Learn new pinball techniques or improve your existing skills\nStress Relief: Enjoy some quality downtime with great games and good company\nSafe Space: Experience pinball in an environment that celebrates diversity and inclusion\n\nWhether you’re a pinball wizard or have never played before\, all skill levels are welcome! Come as you are and join us for an afternoon of flips\, friends\, and fun at Capital Pinball. \nQuestions? Feel free to reach out to Courtney Bazarian or contact Capital Pinball directly.
URL:https://capitalpinballclub.com/event/queer-pinball-7/
LOCATION:Capital Pinball\, 70 Pembroke Rd\, Concord\, NH\, 03301\, United States
CATEGORIES:Open Hours,Queer
ATTACH;FMTTYPE=image/webp:https://capitalpinballclub.com/wp-content/uploads/2025/08/Rainbow-Playful-Pride-Information-Session-Instagram-Post-Presentation_20250408_131036_0000-phX4C9.webp
END:VEVENT
BEGIN:VEVENT
DTSTART;TZID=America/New_York:20250907T140000
DTEND;TZID=America/New_York:20250907T180000
DTSTAMP:20260423T110323
CREATED:20250810T155305Z
LAST-MODIFIED:20250810T160248Z
UID:6823-1757253600-1757268000@capitalpinballclub.com
SUMMARY:Queer Pinball
DESCRIPTION:Come join us for an afternoon of community\, connection\, and pinball! Queer Pinball is a welcoming space for LGBTQ+ folks and allies to hang out\, play some amazing pinball machines\, and meet new people in a fun and inclusive environment.   \nWhat to Expect:\n\nInclusive Community: A safe and welcoming space for all members of the LGBTQ+ community and allies\nFree Play Games: All pinball machines are set to free play – no quarters needed!\nLight Refreshments: Snacks and beverages provided throughout the event\nSocial Atmosphere: Perfect opportunity to meet new people and connect with fellow pinball enthusiasts\n\nEvent Details:\n\nWhen: First Sunday of every month\, 2:00 PM – 6:00 PM\nWhere: Capital Pinball\, 70 Pembroke Road\, Concord\, NH\nCost: $15 day pass fee for non-members\nOrganizer: Courtney Bazarian\n\nAccessibility & Inclusion:\nWe are committed to making this event accessible to everyone. If the entry fee is a barrier for attendance\, please reach out to us – we want all community members to be included and will work with you to ensure you can participate. \nWhy Join Us?\n\nCommunity Building: Connect with other LGBTQ+ folks in a fun\, relaxed setting\nSkill Development: Learn new pinball techniques or improve your existing skills\nStress Relief: Enjoy some quality downtime with great games and good company\nSafe Space: Experience pinball in an environment that celebrates diversity and inclusion\n\nWhether you’re a pinball wizard or have never played before\, all skill levels are welcome! Come as you are and join us for an afternoon of flips\, friends\, and fun at Capital Pinball. \nQuestions? Feel free to reach out to Courtney Bazarian or contact Capital Pinball directly.
URL:https://capitalpinballclub.com/event/queer-pinball-6/
LOCATION:Capital Pinball\, 70 Pembroke Rd\, Concord\, NH\, 03301\, United States
CATEGORIES:Open Hours,Queer
ATTACH;FMTTYPE=image/webp:https://capitalpinballclub.com/wp-content/uploads/2025/08/Rainbow-Playful-Pride-Information-Session-Instagram-Post-Presentation_20250408_131036_0000-phX4C9.webp
END:VEVENT
BEGIN:VEVENT
DTSTART;TZID=America/New_York:20250803T140000
DTEND;TZID=America/New_York:20250803T180000
DTSTAMP:20260423T110323
CREATED:20250408T172159Z
LAST-MODIFIED:20250421T183809Z
UID:6381-1754229600-1754244000@capitalpinballclub.com
SUMMARY:Queer Pinball
DESCRIPTION:Come join us for a night to hang with other queers\, play some pinball and meet new people! \n  \n$15 day pass fee for Non-Members* \nGames are set to Free Play \nLight refreshments will be provided \n  \n*please DM if this is a barrier for attendance as we want all to be included
URL:https://capitalpinballclub.com/event/queer-pinball-5/
LOCATION:Capital Pinball\, 70 Pembroke Rd\, Concord\, NH\, 03301\, United States
CATEGORIES:Open Hours,Queer
ATTACH;FMTTYPE=image/png:https://capitalpinballclub.com/wp-content/uploads/2025/04/Rainbow-Playful-Pride-Information-Session-Instagram-Post-Presentation_20250408_131036_0000.png
END:VEVENT
BEGIN:VEVENT
DTSTART;TZID=America/New_York:20250706T140000
DTEND;TZID=America/New_York:20250706T180000
DTSTAMP:20260423T110323
CREATED:20250408T171952Z
LAST-MODIFIED:20250421T183842Z
UID:6379-1751810400-1751824800@capitalpinballclub.com
SUMMARY:Queer Pinball
DESCRIPTION:Come join us for a night to hang with other queers\, play some pinball and meet new people! \n  \n$15 day pass fee for Non-Members* \nGames are set to Free Play \nLight refreshments will be provided \n  \n*please DM if this is a barrier for attendance as we want all to be included
URL:https://capitalpinballclub.com/event/queer-pinball-4/
LOCATION:Capital Pinball\, 70 Pembroke Rd\, Concord\, NH\, 03301\, United States
CATEGORIES:Open Hours,Queer
ATTACH;FMTTYPE=image/png:https://capitalpinballclub.com/wp-content/uploads/2025/04/Rainbow-Playful-Pride-Information-Session-Instagram-Post-Presentation_20250408_131036_0000.png
END:VEVENT
BEGIN:VEVENT
DTSTART;TZID=America/New_York:20250601T140000
DTEND;TZID=America/New_York:20250601T180000
DTSTAMP:20260423T110323
CREATED:20250408T171623Z
LAST-MODIFIED:20250421T183921Z
UID:6377-1748786400-1748800800@capitalpinballclub.com
SUMMARY:Queer Pinball
DESCRIPTION:Come join us for a night to hang with other queers\, play some pinball and meet new people! \n  \n$15 day pass fee for Non-Members* \nGames are set to Free Play \nLight refreshments will be provided \n  \n*please DM if this is a barrier for attendance as we want all to be included
URL:https://capitalpinballclub.com/event/queer-pinball-3/
LOCATION:Capital Pinball\, 70 Pembroke Rd\, Concord\, NH\, 03301\, United States
CATEGORIES:Open Hours,Queer
ATTACH;FMTTYPE=image/png:https://capitalpinballclub.com/wp-content/uploads/2025/04/Rainbow-Playful-Pride-Information-Session-Instagram-Post-Presentation_20250408_131036_0000.png
END:VEVENT
BEGIN:VEVENT
DTSTART;TZID=America/New_York:20250504T140000
DTEND;TZID=America/New_York:20250504T180000
DTSTAMP:20260423T110323
CREATED:20250408T171211Z
LAST-MODIFIED:20250421T183936Z
UID:6374-1746367200-1746381600@capitalpinballclub.com
SUMMARY:Queer Pinball
DESCRIPTION:Come join us for a night to hang with other queers\, play some pinball and meet new people! \n  \n$15 day pass fee for Non-Members* \nGames are set to Free Play \nLight refreshments will be provided \n  \n*please DM if this is a barrier for attendance as we want all to be included
URL:https://capitalpinballclub.com/event/queer-pinball-2/
LOCATION:Capital Pinball\, 70 Pembroke Rd\, Concord\, NH\, 03301\, United States
CATEGORIES:Open Hours,Queer
ATTACH;FMTTYPE=image/png:https://capitalpinballclub.com/wp-content/uploads/2025/04/Rainbow-Playful-Pride-Information-Session-Instagram-Post-Presentation_20250408_131036_0000.png
END:VEVENT
END:VCALENDAR