BEGIN:VCALENDAR
VERSION:2.0
PRODID:-//Capital Pinball - ECPv6.15.20//NONSGML v1.0//EN
CALSCALE:GREGORIAN
METHOD:PUBLISH
X-WR-CALNAME:Capital Pinball
X-ORIGINAL-URL:https://capitalpinballclub.com
X-WR-CALDESC:Events for Capital Pinball
REFRESH-INTERVAL;VALUE=DURATION:PT1H
X-Robots-Tag:noindex
X-PUBLISHED-TTL:PT1H
BEGIN:VTIMEZONE
TZID:America/New_York
BEGIN:DAYLIGHT
TZOFFSETFROM:-0500
TZOFFSETTO:-0400
TZNAME:EDT
DTSTART:20240310T070000
END:DAYLIGHT
BEGIN:STANDARD
TZOFFSETFROM:-0400
TZOFFSETTO:-0500
TZNAME:EST
DTSTART:20241103T060000
END:STANDARD
BEGIN:DAYLIGHT
TZOFFSETFROM:-0500
TZOFFSETTO:-0400
TZNAME:EDT
DTSTART:20250309T070000
END:DAYLIGHT
BEGIN:STANDARD
TZOFFSETFROM:-0400
TZOFFSETTO:-0500
TZNAME:EST
DTSTART:20251102T060000
END:STANDARD
BEGIN:DAYLIGHT
TZOFFSETFROM:-0500
TZOFFSETTO:-0400
TZNAME:EDT
DTSTART:20260308T070000
END:DAYLIGHT
BEGIN:STANDARD
TZOFFSETFROM:-0400
TZOFFSETTO:-0500
TZNAME:EST
DTSTART:20261101T060000
END:STANDARD
BEGIN:DAYLIGHT
TZOFFSETFROM:-0500
TZOFFSETTO:-0400
TZNAME:EDT
DTSTART:20270314T070000
END:DAYLIGHT
BEGIN:STANDARD
TZOFFSETFROM:-0400
TZOFFSETTO:-0500
TZNAME:EST
DTSTART:20271107T060000
END:STANDARD
END:VTIMEZONE
BEGIN:VEVENT
DTSTART;TZID=America/New_York:20260409T183000
DTEND;TZID=America/New_York:20260409T213000
DTSTAMP:20260423T133302
CREATED:20250813T021529Z
LAST-MODIFIED:20250813T022949Z
UID:7115-1775759400-1775770200@capitalpinballclub.com
SUMMARY:Private Booking
DESCRIPTION:Capital Pinball will be hosting a private event during this time. The club will remain open to members and event participants\, but please be aware that it may be busier than usual. Some areas\, including the new room\, may be reserved or temporarily inaccessible. We appreciate your understanding and encourage you to enjoy the available games and spaces during your visit.
URL:https://capitalpinballclub.com/event/private-booking-8/
LOCATION:Capital Pinball\, 70 Pembroke Rd\, Concord\, NH\, 03301\, United States
CATEGORIES:Private
ATTACH;FMTTYPE=image/webp:https://capitalpinballclub.com/wp-content/uploads/2025/08/capit_private_booking.webp
END:VEVENT
BEGIN:VEVENT
DTSTART;TZID=America/New_York:20260322T130000
DTEND;TZID=America/New_York:20260322T160000
DTSTAMP:20260423T133302
CREATED:20250813T022414Z
LAST-MODIFIED:20250813T022852Z
UID:7142-1774184400-1774195200@capitalpinballclub.com
SUMMARY:Private Booking
DESCRIPTION:Capital Pinball will be hosting a private event during this time. The club will remain open to members and event participants\, but please be aware that it may be busier than usual. Some areas\, including the new room\, may be reserved or temporarily inaccessible. We appreciate your understanding and encourage you to enjoy the available games and spaces during your visit.
URL:https://capitalpinballclub.com/event/private-booking-31/
LOCATION:Capital Pinball\, 70 Pembroke Rd\, Concord\, NH\, 03301\, United States
CATEGORIES:Private
ATTACH;FMTTYPE=image/webp:https://capitalpinballclub.com/wp-content/uploads/2025/08/capit_private_booking.webp
END:VEVENT
BEGIN:VEVENT
DTSTART;TZID=America/New_York:20260312T183000
DTEND;TZID=America/New_York:20260312T213000
DTSTAMP:20260423T133302
CREATED:20250813T021526Z
LAST-MODIFIED:20250813T022947Z
UID:7114-1773340200-1773351000@capitalpinballclub.com
SUMMARY:Private Booking
DESCRIPTION:Capital Pinball will be hosting a private event during this time. The club will remain open to members and event participants\, but please be aware that it may be busier than usual. Some areas\, including the new room\, may be reserved or temporarily inaccessible. We appreciate your understanding and encourage you to enjoy the available games and spaces during your visit.
URL:https://capitalpinballclub.com/event/private-booking-7/
LOCATION:Capital Pinball\, 70 Pembroke Rd\, Concord\, NH\, 03301\, United States
CATEGORIES:Private
ATTACH;FMTTYPE=image/webp:https://capitalpinballclub.com/wp-content/uploads/2025/08/capit_private_booking.webp
END:VEVENT
BEGIN:VEVENT
DTSTART;TZID=America/New_York:20260222T130000
DTEND;TZID=America/New_York:20260222T160000
DTSTAMP:20260423T133302
CREATED:20250813T022411Z
LAST-MODIFIED:20260220T174824Z
UID:7141-1771765200-1771776000@capitalpinballclub.com
SUMMARY:Private Booking
DESCRIPTION:Capital Pinball will be hosting a private event during this time. The club will remain open to members and event participants\, but please be aware that it may be busier than usual. Some areas\, including the new room\, may be reserved or temporarily inaccessible. We appreciate your understanding and encourage you to enjoy the available games and spaces during your visit.
URL:https://capitalpinballclub.com/event/private-booking-30/
LOCATION:Capital Pinball\, 70 Pembroke Rd\, Concord\, NH\, 03301\, United States
CATEGORIES:Private
ATTACH;FMTTYPE=image/webp:https://capitalpinballclub.com/wp-content/uploads/2025/08/capit_private_booking.webp
END:VEVENT
BEGIN:VEVENT
DTSTART;TZID=America/New_York:20260212T183000
DTEND;TZID=America/New_York:20260212T213000
DTSTAMP:20260423T133302
CREATED:20250813T021524Z
LAST-MODIFIED:20250813T022946Z
UID:7113-1770921000-1770931800@capitalpinballclub.com
SUMMARY:Private Booking
DESCRIPTION:Capital Pinball will be hosting a private event during this time. The club will remain open to members and event participants\, but please be aware that it may be busier than usual. Some areas\, including the new room\, may be reserved or temporarily inaccessible. We appreciate your understanding and encourage you to enjoy the available games and spaces during your visit.
URL:https://capitalpinballclub.com/event/private-booking-6/
LOCATION:Capital Pinball\, 70 Pembroke Rd\, Concord\, NH\, 03301\, United States
CATEGORIES:Private
ATTACH;FMTTYPE=image/webp:https://capitalpinballclub.com/wp-content/uploads/2025/08/capit_private_booking.webp
END:VEVENT
BEGIN:VEVENT
DTSTART;TZID=America/New_York:20260125T130000
DTEND;TZID=America/New_York:20260125T160000
DTSTAMP:20260423T133302
CREATED:20250813T022405Z
LAST-MODIFIED:20250813T022846Z
UID:7140-1769346000-1769356800@capitalpinballclub.com
SUMMARY:Private Booking
DESCRIPTION:Capital Pinball will be hosting a private event during this time. The club will remain open to members and event participants\, but please be aware that it may be busier than usual. Some areas\, including the new room\, may be reserved or temporarily inaccessible. We appreciate your understanding and encourage you to enjoy the available games and spaces during your visit.
URL:https://capitalpinballclub.com/event/private-booking-29/
LOCATION:Capital Pinball\, 70 Pembroke Rd\, Concord\, NH\, 03301\, United States
CATEGORIES:Private
ATTACH;FMTTYPE=image/webp:https://capitalpinballclub.com/wp-content/uploads/2025/08/capit_private_booking.webp
END:VEVENT
BEGIN:VEVENT
DTSTART;TZID=America/New_York:20260108T183000
DTEND;TZID=America/New_York:20260108T213000
DTSTAMP:20260423T133302
CREATED:20250813T021519Z
LAST-MODIFIED:20250813T022942Z
UID:7112-1767897000-1767907800@capitalpinballclub.com
SUMMARY:Private Booking
DESCRIPTION:Capital Pinball will be hosting a private event during this time. The club will remain open to members and event participants\, but please be aware that it may be busier than usual. Some areas\, including the new room\, may be reserved or temporarily inaccessible. We appreciate your understanding and encourage you to enjoy the available games and spaces during your visit.
URL:https://capitalpinballclub.com/event/private-booking-5/
LOCATION:Capital Pinball\, 70 Pembroke Rd\, Concord\, NH\, 03301\, United States
CATEGORIES:Private
ATTACH;FMTTYPE=image/webp:https://capitalpinballclub.com/wp-content/uploads/2025/08/capit_private_booking.webp
END:VEVENT
BEGIN:VEVENT
DTSTART;TZID=America/New_York:20251228T130000
DTEND;TZID=America/New_York:20251228T160000
DTSTAMP:20260423T133302
CREATED:20250813T022403Z
LAST-MODIFIED:20250813T022845Z
UID:7139-1766926800-1766937600@capitalpinballclub.com
SUMMARY:Private Booking
DESCRIPTION:Capital Pinball will be hosting a private event during this time. The club will remain open to members and event participants\, but please be aware that it may be busier than usual. Some areas\, including the new room\, may be reserved or temporarily inaccessible. We appreciate your understanding and encourage you to enjoy the available games and spaces during your visit.
URL:https://capitalpinballclub.com/event/private-booking-28/
LOCATION:Capital Pinball\, 70 Pembroke Rd\, Concord\, NH\, 03301\, United States
CATEGORIES:Private
ATTACH;FMTTYPE=image/webp:https://capitalpinballclub.com/wp-content/uploads/2025/08/capit_private_booking.webp
END:VEVENT
BEGIN:VEVENT
DTSTART;TZID=America/New_York:20251211T183000
DTEND;TZID=America/New_York:20251211T213000
DTSTAMP:20260423T133302
CREATED:20250813T021517Z
LAST-MODIFIED:20250813T022940Z
UID:7111-1765477800-1765488600@capitalpinballclub.com
SUMMARY:Private Booking
DESCRIPTION:Capital Pinball will be hosting a private event during this time. The club will remain open to members and event participants\, but please be aware that it may be busier than usual. Some areas\, including the new room\, may be reserved or temporarily inaccessible. We appreciate your understanding and encourage you to enjoy the available games and spaces during your visit.
URL:https://capitalpinballclub.com/event/private-booking-4/
LOCATION:Capital Pinball\, 70 Pembroke Rd\, Concord\, NH\, 03301\, United States
CATEGORIES:Private
ATTACH;FMTTYPE=image/webp:https://capitalpinballclub.com/wp-content/uploads/2025/08/capit_private_booking.webp
END:VEVENT
BEGIN:VEVENT
DTSTART;TZID=America/New_York:20251123T130000
DTEND;TZID=America/New_York:20251123T160000
DTSTAMP:20260423T133302
CREATED:20250813T022400Z
LAST-MODIFIED:20250813T022844Z
UID:7138-1763902800-1763913600@capitalpinballclub.com
SUMMARY:Private Booking
DESCRIPTION:Capital Pinball will be hosting a private event during this time. The club will remain open to members and event participants\, but please be aware that it may be busier than usual. Some areas\, including the new room\, may be reserved or temporarily inaccessible. We appreciate your understanding and encourage you to enjoy the available games and spaces during your visit.
URL:https://capitalpinballclub.com/event/private-booking-27/
LOCATION:Capital Pinball\, 70 Pembroke Rd\, Concord\, NH\, 03301\, United States
CATEGORIES:Private
ATTACH;FMTTYPE=image/webp:https://capitalpinballclub.com/wp-content/uploads/2025/08/capit_private_booking.webp
END:VEVENT
BEGIN:VEVENT
DTSTART;TZID=America/New_York:20251113T183000
DTEND;TZID=America/New_York:20251113T213000
DTSTAMP:20260423T133302
CREATED:20250813T021515Z
LAST-MODIFIED:20250813T022940Z
UID:7110-1763058600-1763069400@capitalpinballclub.com
SUMMARY:Private Booking
DESCRIPTION:Capital Pinball will be hosting a private event during this time. The club will remain open to members and event participants\, but please be aware that it may be busier than usual. Some areas\, including the new room\, may be reserved or temporarily inaccessible. We appreciate your understanding and encourage you to enjoy the available games and spaces during your visit.
URL:https://capitalpinballclub.com/event/private-booking-3/
LOCATION:Capital Pinball\, 70 Pembroke Rd\, Concord\, NH\, 03301\, United States
CATEGORIES:Private
ATTACH;FMTTYPE=image/webp:https://capitalpinballclub.com/wp-content/uploads/2025/08/capit_private_booking.webp
END:VEVENT
BEGIN:VEVENT
DTSTART;TZID=America/New_York:20251025T130000
DTEND;TZID=America/New_York:20251025T160000
DTSTAMP:20260423T133302
CREATED:20250813T022358Z
LAST-MODIFIED:20251019T151729Z
UID:7137-1761397200-1761408000@capitalpinballclub.com
SUMMARY:Private Booking
DESCRIPTION:Capital Pinball will be hosting a private event during this time. The club will remain open to members and event participants\, but please be aware that it may be busier than usual. Some areas\, including the new room\, may be reserved or temporarily inaccessible. We appreciate your understanding and encourage you to enjoy the available games and spaces during your visit.
URL:https://capitalpinballclub.com/event/private-booking-26/
LOCATION:Capital Pinball\, 70 Pembroke Rd\, Concord\, NH\, 03301\, United States
CATEGORIES:Private
ATTACH;FMTTYPE=image/webp:https://capitalpinballclub.com/wp-content/uploads/2025/08/capit_private_booking.webp
END:VEVENT
BEGIN:VEVENT
DTSTART;TZID=America/New_York:20251009T183000
DTEND;TZID=America/New_York:20251009T213000
DTSTAMP:20260423T133302
CREATED:20250813T021513Z
LAST-MODIFIED:20250813T022938Z
UID:7109-1760034600-1760045400@capitalpinballclub.com
SUMMARY:Private Booking
DESCRIPTION:Capital Pinball will be hosting a private event during this time. The club will remain open to members and event participants\, but please be aware that it may be busier than usual. Some areas\, including the new room\, may be reserved or temporarily inaccessible. We appreciate your understanding and encourage you to enjoy the available games and spaces during your visit.
URL:https://capitalpinballclub.com/event/private-booking-2/
LOCATION:Capital Pinball\, 70 Pembroke Rd\, Concord\, NH\, 03301\, United States
CATEGORIES:Private
ATTACH;FMTTYPE=image/webp:https://capitalpinballclub.com/wp-content/uploads/2025/08/capit_private_booking.webp
END:VEVENT
BEGIN:VEVENT
DTSTART;TZID=America/New_York:20250928T130000
DTEND;TZID=America/New_York:20250928T160000
DTSTAMP:20260423T133302
CREATED:20250813T022356Z
LAST-MODIFIED:20250813T022841Z
UID:7136-1759064400-1759075200@capitalpinballclub.com
SUMMARY:Private Booking
DESCRIPTION:Capital Pinball will be hosting a private event during this time. The club will remain open to members and event participants\, but please be aware that it may be busier than usual. Some areas\, including the new room\, may be reserved or temporarily inaccessible. We appreciate your understanding and encourage you to enjoy the available games and spaces during your visit.
URL:https://capitalpinballclub.com/event/private-booking-25/
LOCATION:Capital Pinball\, 70 Pembroke Rd\, Concord\, NH\, 03301\, United States
CATEGORIES:Private
ATTACH;FMTTYPE=image/webp:https://capitalpinballclub.com/wp-content/uploads/2025/08/capit_private_booking.webp
END:VEVENT
END:VCALENDAR