BEGIN:VCALENDAR
VERSION:2.0
PRODID:-//Capital Pinball - ECPv6.15.20//NONSGML v1.0//EN
CALSCALE:GREGORIAN
METHOD:PUBLISH
X-ORIGINAL-URL:https://capitalpinballclub.com
X-WR-CALDESC:Events for Capital Pinball
REFRESH-INTERVAL;VALUE=DURATION:PT1H
X-Robots-Tag:noindex
X-PUBLISHED-TTL:PT1H
BEGIN:VTIMEZONE
TZID:America/New_York
BEGIN:DAYLIGHT
TZOFFSETFROM:-0500
TZOFFSETTO:-0400
TZNAME:EDT
DTSTART:20250309T070000
END:DAYLIGHT
BEGIN:STANDARD
TZOFFSETFROM:-0400
TZOFFSETTO:-0500
TZNAME:EST
DTSTART:20251102T060000
END:STANDARD
BEGIN:DAYLIGHT
TZOFFSETFROM:-0500
TZOFFSETTO:-0400
TZNAME:EDT
DTSTART:20260308T070000
END:DAYLIGHT
BEGIN:STANDARD
TZOFFSETFROM:-0400
TZOFFSETTO:-0500
TZNAME:EST
DTSTART:20261101T060000
END:STANDARD
BEGIN:DAYLIGHT
TZOFFSETFROM:-0500
TZOFFSETTO:-0400
TZNAME:EDT
DTSTART:20270314T070000
END:DAYLIGHT
BEGIN:STANDARD
TZOFFSETFROM:-0400
TZOFFSETTO:-0500
TZNAME:EST
DTSTART:20271107T060000
END:STANDARD
END:VTIMEZONE
BEGIN:VEVENT
DTSTART;TZID=America/New_York:20260611T183000
DTEND;TZID=America/New_York:20260611T213000
DTSTAMP:20260423T164324
CREATED:20250813T021534Z
LAST-MODIFIED:20250813T022952Z
UID:7117-1781202600-1781213400@capitalpinballclub.com
SUMMARY:Private Booking
DESCRIPTION:Capital Pinball will be hosting a private event during this time. The club will remain open to members and event participants\, but please be aware that it may be busier than usual. Some areas\, including the new room\, may be reserved or temporarily inaccessible. We appreciate your understanding and encourage you to enjoy the available games and spaces during your visit.
URL:https://capitalpinballclub.com/event/private-booking-10/
LOCATION:Capital Pinball\, 70 Pembroke Rd\, Concord\, NH\, 03301\, United States
CATEGORIES:Private
ATTACH;FMTTYPE=image/webp:https://capitalpinballclub.com/wp-content/uploads/2025/08/capit_private_booking.webp
END:VEVENT
END:VCALENDAR