BEGIN:VCALENDAR
VERSION:2.0
PRODID:-//Capital Pinball - ECPv6.15.20//NONSGML v1.0//EN
CALSCALE:GREGORIAN
METHOD:PUBLISH
X-ORIGINAL-URL:https://capitalpinballclub.com
X-WR-CALDESC:Events for Capital Pinball
REFRESH-INTERVAL;VALUE=DURATION:PT1H
X-Robots-Tag:noindex
X-PUBLISHED-TTL:PT1H
BEGIN:VTIMEZONE
TZID:America/New_York
BEGIN:DAYLIGHT
TZOFFSETFROM:-0500
TZOFFSETTO:-0400
TZNAME:EDT
DTSTART:20240310T070000
END:DAYLIGHT
BEGIN:STANDARD
TZOFFSETFROM:-0400
TZOFFSETTO:-0500
TZNAME:EST
DTSTART:20241103T060000
END:STANDARD
BEGIN:DAYLIGHT
TZOFFSETFROM:-0500
TZOFFSETTO:-0400
TZNAME:EDT
DTSTART:20250309T070000
END:DAYLIGHT
BEGIN:STANDARD
TZOFFSETFROM:-0400
TZOFFSETTO:-0500
TZNAME:EST
DTSTART:20251102T060000
END:STANDARD
BEGIN:DAYLIGHT
TZOFFSETFROM:-0500
TZOFFSETTO:-0400
TZNAME:EDT
DTSTART:20260308T070000
END:DAYLIGHT
BEGIN:STANDARD
TZOFFSETFROM:-0400
TZOFFSETTO:-0500
TZNAME:EST
DTSTART:20261101T060000
END:STANDARD
END:VTIMEZONE
BEGIN:VEVENT
DTSTART;TZID=America/New_York:20250325T170000
DTEND;TZID=America/New_York:20250325T210000
DTSTAMP:20260423T153214
CREATED:20250304T060705Z
LAST-MODIFIED:20250304T061311Z
UID:6198-1742922000-1742936400@capitalpinballclub.com
SUMMARY:Tuesday Night Pinball
DESCRIPTION:Come hang out at Capital Pinball for a night of open play! Whether you’re here to practice\, meet fellow players\, or just enjoy some pinball\, Tuesday Night Pinball is open to everyone. \n\n✅ Casual Play – No competition required\n🎯 Pingolf Available – Play a round if you’d like For more information about our PinGolf League\, visit our Pingolf League page.\n👥 Great for newcomers – Learn the games and meet the community\n\n💵 Entry: $15 for non-members\, free for members \nJoin us anytime between 5–9 PM and flip the night away! \nFor more information about our PinGolf League\, visit our Pingolf League page.
URL:https://capitalpinballclub.com/event/tuesday-night-pinball-3/
LOCATION:Capital Pinball\, 70 Pembroke Rd\, Concord\, NH\, 03301\, United States
CATEGORIES:League,Open Hours,PinGolf,PinGolf League
ATTACH;FMTTYPE=image/png:https://capitalpinballclub.com/wp-content/uploads/2025/03/TuesdayNightPinballCover.png
END:VEVENT
BEGIN:VEVENT
DTSTART;TZID=America/New_York:20250323T140000
DTEND;TZID=America/New_York:20250323T170000
DTSTAMP:20260423T153214
CREATED:20250304T064911Z
LAST-MODIFIED:20250304T064911Z
UID:6282-1742738400-1742749200@capitalpinballclub.com
SUMMARY:Beginners Pinball
DESCRIPTION:New to pinball? Or maybe you haven’t played since you were a kid? Come out and join us for Pinball for Beginners\, held every second and fourth Sunday of the month from 2 – 5 PM! This casual event is perfect for anyone who’s curious about pinball\, just getting started\, or looking to meet others at a similar skill level. \nAt Pinball for Beginners\, we’ll keep things relaxed and collaborative. Whether you want to practice solo\, learn game techniques together\, or swap tips\, there’s something here for everyone. Occasionally\, we’ll even remove the glass from a machine to show you the inner mechanics\, diving into what makes pinball both challenging and thrilling. And if you’re feeling up for it\, we can play beginner-friendly competitive formats like PinGolf\, where you’ll shoot for achievable target scores. \nJoin us for a low-pressure\, high-fun environment where we focus on enjoying the game\, supporting each other\, and discovering all the excitement pinball has to offer. See you there! \n\n✅ Casual Play – No competition required\n🎯 Pingolf Available – Play a round if you’d like For more information about our PinGolf League\, visit our Pingolf League page.\n👥 Great for newcomers – Learn the games and meet the community
URL:https://capitalpinballclub.com/event/beginners-pinball-10/
LOCATION:Capital Pinball\, 70 Pembroke Rd\, Concord\, NH\, 03301\, United States
CATEGORIES:Beginner Pinball,League,Open Hours,PinGolf,PinGolf League
ATTACH;FMTTYPE=image/png:https://capitalpinballclub.com/wp-content/uploads/2025/03/Pink-and-Purple-Bold-Event-Announcement-Poster-Presentation-2-4tZa9d.tmp_.png
ORGANIZER;CN="Kendra Corson":MAILTO:kendra.corson@gmail.com
END:VEVENT
BEGIN:VEVENT
DTSTART;TZID=America/New_York:20250321T180000
DTEND;TZID=America/New_York:20250321T220000
DTSTAMP:20260423T153214
CREATED:20250304T065414Z
LAST-MODIFIED:20250304T110239Z
UID:6300-1742580000-1742594400@capitalpinballclub.com
SUMMARY:Friday Night Pinball
DESCRIPTION:Come hang out at Capital Pinball for a night of open play! Whether you’re here to practice\, meet fellow players\, or just enjoy some pinball\, Friday Night Pinball is open to everyone. \n\n✅ Casual Play – No competition required\n🎯 Pingolf Available – Play a round if you’d like For more information about our PinGolf League\, visit our Pingolf League page.\n👥 Great for newcomers – Learn the games and meet the community\n\nFor more information about our PinGolf League\, visit our Pingolf League page.
URL:https://capitalpinballclub.com/event/friday-night-pinball-3/
LOCATION:Capital Pinball\, 70 Pembroke Rd\, Concord\, NH\, 03301\, United States
CATEGORIES:League,Open Hours,PinGolf,PinGolf League
ATTACH;FMTTYPE=image/png:https://capitalpinballclub.com/wp-content/uploads/2024/09/CP-Open-Hours-Cover.png
END:VEVENT
BEGIN:VEVENT
DTSTART;TZID=America/New_York:20250318T170000
DTEND;TZID=America/New_York:20250318T210000
DTSTAMP:20260423T153214
CREATED:20250304T060704Z
LAST-MODIFIED:20250304T061310Z
UID:6197-1742317200-1742331600@capitalpinballclub.com
SUMMARY:Tuesday Night Pinball
DESCRIPTION:Come hang out at Capital Pinball for a night of open play! Whether you’re here to practice\, meet fellow players\, or just enjoy some pinball\, Tuesday Night Pinball is open to everyone. \n\n✅ Casual Play – No competition required\n🎯 Pingolf Available – Play a round if you’d like For more information about our PinGolf League\, visit our Pingolf League page.\n👥 Great for newcomers – Learn the games and meet the community\n\n💵 Entry: $15 for non-members\, free for members \nJoin us anytime between 5–9 PM and flip the night away! \nFor more information about our PinGolf League\, visit our Pingolf League page.
URL:https://capitalpinballclub.com/event/tuesday-night-pinball-2/
LOCATION:Capital Pinball\, 70 Pembroke Rd\, Concord\, NH\, 03301\, United States
CATEGORIES:League,Open Hours,PinGolf,PinGolf League
ATTACH;FMTTYPE=image/png:https://capitalpinballclub.com/wp-content/uploads/2025/03/TuesdayNightPinballCover.png
END:VEVENT
BEGIN:VEVENT
DTSTART;TZID=America/New_York:20250314T180000
DTEND;TZID=America/New_York:20250314T220000
DTSTAMP:20260423T153214
CREATED:20250304T065414Z
LAST-MODIFIED:20250304T110245Z
UID:6299-1741975200-1741989600@capitalpinballclub.com
SUMMARY:Friday Night Pinball
DESCRIPTION:Come hang out at Capital Pinball for a night of open play! Whether you’re here to practice\, meet fellow players\, or just enjoy some pinball\, Friday Night Pinball is open to everyone. \n\n✅ Casual Play – No competition required\n🎯 Pingolf Available – Play a round if you’d like For more information about our PinGolf League\, visit our Pingolf League page.\n👥 Great for newcomers – Learn the games and meet the community\n\nFor more information about our PinGolf League\, visit our Pingolf League page.
URL:https://capitalpinballclub.com/event/friday-night-pinball-2/
LOCATION:Capital Pinball\, 70 Pembroke Rd\, Concord\, NH\, 03301\, United States
CATEGORIES:League,Open Hours,PinGolf,PinGolf League
ATTACH;FMTTYPE=image/png:https://capitalpinballclub.com/wp-content/uploads/2024/09/CP-Open-Hours-Cover.png
END:VEVENT
BEGIN:VEVENT
DTSTART;TZID=America/New_York:20250311T170000
DTEND;TZID=America/New_York:20250311T210000
DTSTAMP:20260423T153214
CREATED:20250304T060703Z
LAST-MODIFIED:20250304T061309Z
UID:6196-1741712400-1741726800@capitalpinballclub.com
SUMMARY:Tuesday Night Pinball
DESCRIPTION:Come hang out at Capital Pinball for a night of open play! Whether you’re here to practice\, meet fellow players\, or just enjoy some pinball\, Tuesday Night Pinball is open to everyone. \n\n✅ Casual Play – No competition required\n🎯 Pingolf Available – Play a round if you’d like For more information about our PinGolf League\, visit our Pingolf League page.\n👥 Great for newcomers – Learn the games and meet the community\n\n💵 Entry: $15 for non-members\, free for members \nJoin us anytime between 5–9 PM and flip the night away! \nFor more information about our PinGolf League\, visit our Pingolf League page.
URL:https://capitalpinballclub.com/event/tuesday-night-pinball/
LOCATION:Capital Pinball\, 70 Pembroke Rd\, Concord\, NH\, 03301\, United States
CATEGORIES:League,Open Hours,PinGolf,PinGolf League
ATTACH;FMTTYPE=image/png:https://capitalpinballclub.com/wp-content/uploads/2025/03/TuesdayNightPinballCover.png
END:VEVENT
BEGIN:VEVENT
DTSTART;TZID=America/New_York:20250307T180000
DTEND;TZID=America/New_York:20250307T220000
DTSTAMP:20260423T153214
CREATED:20250304T065412Z
LAST-MODIFIED:20250304T110250Z
UID:6298-1741370400-1741384800@capitalpinballclub.com
SUMMARY:Friday Night Pinball
DESCRIPTION:Come hang out at Capital Pinball for a night of open play! Whether you’re here to practice\, meet fellow players\, or just enjoy some pinball\, Friday Night Pinball is open to everyone. \n\n✅ Casual Play – No competition required\n🎯 Pingolf Available – Play a round if you’d like For more information about our PinGolf League\, visit our Pingolf League page.\n👥 Great for newcomers – Learn the games and meet the community\n\nFor more information about our PinGolf League\, visit our Pingolf League page.
URL:https://capitalpinballclub.com/event/friday-night-pinball/
LOCATION:Capital Pinball\, 70 Pembroke Rd\, Concord\, NH\, 03301\, United States
CATEGORIES:League,Open Hours,PinGolf,PinGolf League
ATTACH;FMTTYPE=image/png:https://capitalpinballclub.com/wp-content/uploads/2024/09/CP-Open-Hours-Cover.png
END:VEVENT
END:VCALENDAR