BEGIN:VCALENDAR
VERSION:2.0
PRODID:-//Capital Pinball - ECPv6.15.20//NONSGML v1.0//EN
CALSCALE:GREGORIAN
METHOD:PUBLISH
X-ORIGINAL-URL:https://capitalpinballclub.com
X-WR-CALDESC:Events for Capital Pinball
REFRESH-INTERVAL;VALUE=DURATION:PT1H
X-Robots-Tag:noindex
X-PUBLISHED-TTL:PT1H
BEGIN:VTIMEZONE
TZID:America/New_York
BEGIN:DAYLIGHT
TZOFFSETFROM:-0500
TZOFFSETTO:-0400
TZNAME:EDT
DTSTART:20240310T070000
END:DAYLIGHT
BEGIN:STANDARD
TZOFFSETFROM:-0400
TZOFFSETTO:-0500
TZNAME:EST
DTSTART:20241103T060000
END:STANDARD
BEGIN:DAYLIGHT
TZOFFSETFROM:-0500
TZOFFSETTO:-0400
TZNAME:EDT
DTSTART:20250309T070000
END:DAYLIGHT
BEGIN:STANDARD
TZOFFSETFROM:-0400
TZOFFSETTO:-0500
TZNAME:EST
DTSTART:20251102T060000
END:STANDARD
BEGIN:DAYLIGHT
TZOFFSETFROM:-0500
TZOFFSETTO:-0400
TZNAME:EDT
DTSTART:20260308T070000
END:DAYLIGHT
BEGIN:STANDARD
TZOFFSETFROM:-0400
TZOFFSETTO:-0500
TZNAME:EST
DTSTART:20261101T060000
END:STANDARD
END:VTIMEZONE
BEGIN:VEVENT
DTSTART;TZID=America/New_York:20251022T190000
DTEND;TZID=America/New_York:20251022T210000
DTSTAMP:20260423T135636
CREATED:20250810T153448Z
LAST-MODIFIED:20251002T032854Z
UID:6814-1761159600-1761166800@capitalpinballclub.com
SUMMARY:Pinball Gridiron Super Bowl Championship
DESCRIPTION:Get ready for the ultimate showdown in the Pinball Gridiron League! After 8 weeks of intense regular season competition\, the top 8 players advance to our championship playoff night – the Pinball Gridiron Super Bowl! \nTop 8 Bracket Championship Format:\nQuarterfinals (QF): 8 players\, 4 matches \n\nBest-of-3 head-to-head matches\nHigher seed plays at home for Games 1 & 3\, lower seed home for Game 2\nEstimated time: 45–60 minutes (run in parallel on 4 machines)\n\nSemifinals (SF): 4 players\, 2 matches \n\nBest-of-3 head-to-head matches\nSame home/away seeding rules as quarterfinals\nEstimated time: 40–60 minutes\n\nChampionship Finals + 3rd Place: \n\nFinals: Best-of-5 (higher seed home for Games 1\, 3\, 5) – 60–75 minutes\n3rd Place Match: Best-of-3 (optional\, run parallel with finals)\n\nWhat’s at Stake:\nThis is where champions are made! The regular season determined seeding – now it’s single elimination tournament action where every game counts. Only the top 8 players from the regular season qualify for this epic championship night! \nTournament Structure:\n\nTotal Event Time: Approximately 2.5 to 3 hours for top players (shorter for those eliminated earlier)\nHome/Away Rules: Higher seeds get home field advantage as earned through regular season performance\nSingle Elimination: One loss and you’re out – bring your absolute best game!\n\nWhy You Can’t Miss This:\n\nUltimate Competition: Single elimination tournament with the season’s best players\nChampionship Glory: Crown the Pinball Gridiron League Champion\nPlayoff Atmosphere: Intense tournament atmosphere with championship on the line\nRecognition & Prizes: Special awards for champion\, runner-up\, and 3rd place\n\nDetails:\n\nWhen: Wednesday October 22nd – Championship Tournament\nWhere: Capital Pinball\, 70 Pembroke Road\, Concord\, NH\nCost: $40\nHost: Tim Pelletier\nQualification: Top 8 players from regular season standings\n\nJoin us for the Pinball Gridiron Super Bowl Championship – where the best of the best compete in tournament action to determine the ultimate champion!
URL:https://capitalpinballclub.com/event/pinball-gridiron-super-bowl-championship/
LOCATION:Capital Pinball\, 70 Pembroke Rd\, Concord\, NH\, 03301\, United States
CATEGORIES:Pinball Gridiron
ATTACH;FMTTYPE=image/webp:https://capitalpinballclub.com/wp-content/uploads/2025/08/ChatGPT-Image-Aug-10-2025-10_20_41-AM-pws25U.webp
ORGANIZER;CN="Tim Pelletier":MAILTO:timepelletier@me.com
END:VEVENT
BEGIN:VEVENT
DTSTART;TZID=America/New_York:20251001T190000
DTEND;TZID=America/New_York:20251001T210000
DTSTAMP:20260423T135636
CREATED:20250810T150622Z
LAST-MODIFIED:20250818T142044Z
UID:6782-1759345200-1759352400@capitalpinballclub.com
SUMMARY:Pinball Gridiron League – Week 5
DESCRIPTION:Get ready for another exciting night of head-to-head action in the Pinball Gridiron League at Capital Pinball! This football-themed pinball league runs all season long\, with each player defending their own “home stadium” and challenging others on theirs. \nFormat:\nLeague Night: Wednesday nights featuring competitive head-to-head pinball action Start Time: 7:00 PM (approximately 2 hours of play) Format: 4 matches per night (2 home\, 2 away) Location: Capital Pinball\, Concord\, NH \nHow It Works:\nIn the Pinball Gridiron League\, each player has their own “home stadium” (pinball machine) that they defend\, while also challenging other players on their home machines. This creates an exciting dynamic where you’ll need to master multiple machines throughout the season. \nScoring & Competition:\nMatches this week will count toward playoff qualification\, so every point matters! Whether you’re defending your stadium or going for an away win\, bring your A-game. The league features a season-long format with playoffs to determine the ultimate champion. \nWhy Join?\nFootball Theme: Experience the excitement of football season combined with the skill of pinball Competitive Play: Test your skills against other dedicated players in structured matches Community: Build lasting friendships with fellow pinball enthusiasts Season-Long Competition: Work toward playoff qualification and the championship \nDetails:\nWhen: Wednesday nights\, 7:00 PM – 9:00 PM Where: Capital Pinball\, 70 Pembroke Road\, Concord\, NH Cost: $40 per week Host: Tim Pelletier Join us for the Pinball Gridiron League at Capital Pinball\, where football meets pinball in the most exciting league format around!
URL:https://capitalpinballclub.com/event/pinball-gridiron-league-week-5/
LOCATION:Capital Pinball\, 70 Pembroke Rd\, Concord\, NH\, 03301\, United States
CATEGORIES:Pinball Gridiron
ATTACH;FMTTYPE=image/webp:https://capitalpinballclub.com/wp-content/uploads/2025/08/ChatGPT-Image-Aug-10-2025-10_20_41-AM-yABfXN.webp
ORGANIZER;CN="Tim Pelletier":MAILTO:timepelletier@me.com
END:VEVENT
BEGIN:VEVENT
DTSTART;TZID=America/New_York:20250924T190000
DTEND;TZID=America/New_York:20250924T210000
DTSTAMP:20260423T135636
CREATED:20250810T150620Z
LAST-MODIFIED:20250818T142035Z
UID:6780-1758740400-1758747600@capitalpinballclub.com
SUMMARY:Pinball Gridiron League – Week 4
DESCRIPTION:Get ready for another exciting night of head-to-head action in the Pinball Gridiron League at Capital Pinball! This football-themed pinball league runs all season long\, with each player defending their own “home stadium” and challenging others on theirs. \nFormat:\nLeague Night: Wednesday nights featuring competitive head-to-head pinball action Start Time: 7:00 PM (approximately 2 hours of play) Format: 4 matches per night (2 home\, 2 away) Location: Capital Pinball\, Concord\, NH \nHow It Works:\nIn the Pinball Gridiron League\, each player has their own “home stadium” (pinball machine) that they defend\, while also challenging other players on their home machines. This creates an exciting dynamic where you’ll need to master multiple machines throughout the season. \nScoring & Competition:\nMatches this week will count toward playoff qualification\, so every point matters! Whether you’re defending your stadium or going for an away win\, bring your A-game. The league features a season-long format with playoffs to determine the ultimate champion. \nWhy Join?\nFootball Theme: Experience the excitement of football season combined with the skill of pinball Competitive Play: Test your skills against other dedicated players in structured matches Community: Build lasting friendships with fellow pinball enthusiasts Season-Long Competition: Work toward playoff qualification and the championship \nDetails:\nWhen: Wednesday nights\, 7:00 PM – 9:00 PM Where: Capital Pinball\, 70 Pembroke Road\, Concord\, NH Cost: $40 per week Host: Tim Pelletier Join us for the Pinball Gridiron League at Capital Pinball\, where football meets pinball in the most exciting league format around!
URL:https://capitalpinballclub.com/event/pinball-gridiron-league-week-4/
LOCATION:Capital Pinball\, 70 Pembroke Rd\, Concord\, NH\, 03301\, United States
CATEGORIES:Pinball Gridiron
ATTACH;FMTTYPE=image/webp:https://capitalpinballclub.com/wp-content/uploads/2025/08/ChatGPT-Image-Aug-10-2025-10_20_41-AM-wP10e3.webp
ORGANIZER;CN="Tim Pelletier":MAILTO:timepelletier@me.com
END:VEVENT
BEGIN:VEVENT
DTSTART;TZID=America/New_York:20250917T190000
DTEND;TZID=America/New_York:20250917T210000
DTSTAMP:20260423T135636
CREATED:20250810T150618Z
LAST-MODIFIED:20250818T142021Z
UID:6779-1758135600-1758142800@capitalpinballclub.com
SUMMARY:Pinball Gridiron League – Week 3
DESCRIPTION:Get ready for another exciting night of head-to-head action in the Pinball Gridiron League at Capital Pinball! This football-themed pinball league runs all season long\, with each player defending their own “home stadium” and challenging others on theirs. \nFormat:\nLeague Night: Wednesday nights featuring competitive head-to-head pinball action Start Time: 7:00 PM (approximately 2 hours of play) Format: 4 matches per night (2 home\, 2 away) Location: Capital Pinball\, Concord\, NH \nHow It Works:\nIn the Pinball Gridiron League\, each player has their own “home stadium” (pinball machine) that they defend\, while also challenging other players on their home machines. This creates an exciting dynamic where you’ll need to master multiple machines throughout the season. \nScoring & Competition:\nMatches this week will count toward playoff qualification\, so every point matters! Whether you’re defending your stadium or going for an away win\, bring your A-game. The league features a season-long format with playoffs to determine the ultimate champion. \nWhy Join?\nFootball Theme: Experience the excitement of football season combined with the skill of pinball Competitive Play: Test your skills against other dedicated players in structured matches Community: Build lasting friendships with fellow pinball enthusiasts Season-Long Competition: Work toward playoff qualification and the championship \nDetails:\nWhen: Wednesday nights\, 7:00 PM – 9:00 PM Where: Capital Pinball\, 70 Pembroke Road\, Concord\, NH Cost: $40 per week Host: Tim Pelletier Join us for the Pinball Gridiron League at Capital Pinball\, where football meets pinball in the most exciting league format around!
URL:https://capitalpinballclub.com/event/pinball-gridiron-league-week-3/
LOCATION:Capital Pinball\, 70 Pembroke Rd\, Concord\, NH\, 03301\, United States
CATEGORIES:Pinball Gridiron
ATTACH;FMTTYPE=image/webp:https://capitalpinballclub.com/wp-content/uploads/2025/08/ChatGPT-Image-Aug-10-2025-10_20_41-AM-ZfOiHQ.webp
ORGANIZER;CN="Tim Pelletier":MAILTO:timepelletier@me.com
END:VEVENT
BEGIN:VEVENT
DTSTART;TZID=America/New_York:20250910T190000
DTEND;TZID=America/New_York:20250910T210000
DTSTAMP:20260423T135636
CREATED:20250810T150616Z
LAST-MODIFIED:20250818T142001Z
UID:6778-1757530800-1757538000@capitalpinballclub.com
SUMMARY:Pinball Gridiron League – Week 2
DESCRIPTION:Get ready for another exciting night of head-to-head action in the Pinball Gridiron League at Capital Pinball! This football-themed pinball league runs all season long\, with each player defending their own “home stadium” and challenging others on theirs. \nFormat:\nLeague Night: Wednesday nights featuring competitive head-to-head pinball action Start Time: 7:00 PM (approximately 2 hours of play) Format: 4 matches per night (2 home\, 2 away) Location: Capital Pinball\, Concord\, NH \nHow It Works:\nIn the Pinball Gridiron League\, each player has their own “home stadium” (pinball machine) that they defend\, while also challenging other players on their home machines. This creates an exciting dynamic where you’ll need to master multiple machines throughout the season. \nScoring & Competition:\nMatches this week will count toward playoff qualification\, so every point matters! Whether you’re defending your stadium or going for an away win\, bring your A-game. The league features a season-long format with playoffs to determine the ultimate champion. \nWhy Join?\nFootball Theme: Experience the excitement of football season combined with the skill of pinball Competitive Play: Test your skills against other dedicated players in structured matches Community: Build lasting friendships with fellow pinball enthusiasts Season-Long Competition: Work toward playoff qualification and the championship \nDetails:\nWhen: Wednesday nights\, 7:00 PM – 9:00 PM Where: Capital Pinball\, 70 Pembroke Road\, Concord\, NH Cost: $40 per week Host: Tim Pelletier Join us for the Pinball Gridiron League at Capital Pinball\, where football meets pinball in the most exciting league format around!
URL:https://capitalpinballclub.com/event/pinball-gridiron-league-week-2/
LOCATION:Capital Pinball\, 70 Pembroke Rd\, Concord\, NH\, 03301\, United States
CATEGORIES:Pinball Gridiron
ATTACH;FMTTYPE=image/webp:https://capitalpinballclub.com/wp-content/uploads/2025/08/ChatGPT-Image-Aug-10-2025-10_20_41-AM-bSxQSs.webp
ORGANIZER;CN="Tim Pelletier":MAILTO:timepelletier@me.com
END:VEVENT
BEGIN:VEVENT
DTSTART;TZID=America/New_York:20250903T190000
DTEND;TZID=America/New_York:20250903T210000
DTSTAMP:20260423T135636
CREATED:20250810T150613Z
LAST-MODIFIED:20250818T141304Z
UID:6777-1756926000-1756933200@capitalpinballclub.com
SUMMARY:Pinball Gridiron League – Week 1
DESCRIPTION:Get ready for another exciting night of head-to-head action in the Pinball Gridiron League at Capital Pinball! This football-themed pinball league runs all season long\, with each player defending their own “home stadium” and challenging others on theirs. \nFormat:\nLeague Night: Wednesday nights featuring competitive head-to-head pinball action Start Time: 7:00 PM (approximately 2 hours of play) Format: 4 matches per night (2 home\, 2 away) Location: Capital Pinball\, Concord\, NH \nHow It Works:\nIn the Pinball Gridiron League\, each player has their own “home stadium” (pinball machine) that they defend\, while also challenging other players on their home machines. This creates an exciting dynamic where you’ll need to master multiple machines throughout the season. \nScoring & Competition:\nMatches this week will count toward playoff qualification\, so every point matters! Whether you’re defending your stadium or going for an away win\, bring your A-game. The league features a season-long format with playoffs to determine the ultimate champion. \nWhy Join?\nFootball Theme: Experience the excitement of football season combined with the skill of pinball Competitive Play: Test your skills against other dedicated players in structured matches Community: Build lasting friendships with fellow pinball enthusiasts Season-Long Competition: Work toward playoff qualification and the championship \nDetails:\nWhen: Wednesday nights\, 7:00 PM – 9:00 PM Where: Capital Pinball\, 70 Pembroke Road\, Concord\, NH Cost: $40 per week Host: Tim Pelletier Join us for the Pinball Gridiron League at Capital Pinball\, where football meets pinball in the most exciting league format around!
URL:https://capitalpinballclub.com/event/pinball-gridiron-league-week-1-2/
LOCATION:Capital Pinball\, 70 Pembroke Rd\, Concord\, NH\, 03301\, United States
CATEGORIES:Pinball Gridiron
ATTACH;FMTTYPE=image/webp:https://capitalpinballclub.com/wp-content/uploads/2025/08/ChatGPT-Image-Aug-10-2025-10_20_41-AM-W05Jqb.webp
ORGANIZER;CN="Tim Pelletier":MAILTO:timepelletier@me.com
END:VEVENT
END:VCALENDAR