BEGIN:VCALENDAR
VERSION:2.0
PRODID:-//Capital Pinball - ECPv6.15.20//NONSGML v1.0//EN
CALSCALE:GREGORIAN
METHOD:PUBLISH
X-ORIGINAL-URL:https://capitalpinballclub.com
X-WR-CALDESC:Events for Capital Pinball
REFRESH-INTERVAL;VALUE=DURATION:PT1H
X-Robots-Tag:noindex
X-PUBLISHED-TTL:PT1H
BEGIN:VTIMEZONE
TZID:America/New_York
BEGIN:DAYLIGHT
TZOFFSETFROM:-0500
TZOFFSETTO:-0400
TZNAME:EDT
DTSTART:20250309T070000
END:DAYLIGHT
BEGIN:STANDARD
TZOFFSETFROM:-0400
TZOFFSETTO:-0500
TZNAME:EST
DTSTART:20251102T060000
END:STANDARD
BEGIN:DAYLIGHT
TZOFFSETFROM:-0500
TZOFFSETTO:-0400
TZNAME:EDT
DTSTART:20260308T070000
END:DAYLIGHT
BEGIN:STANDARD
TZOFFSETFROM:-0400
TZOFFSETTO:-0500
TZNAME:EST
DTSTART:20261101T060000
END:STANDARD
BEGIN:DAYLIGHT
TZOFFSETFROM:-0500
TZOFFSETTO:-0400
TZNAME:EDT
DTSTART:20270314T070000
END:DAYLIGHT
BEGIN:STANDARD
TZOFFSETFROM:-0400
TZOFFSETTO:-0500
TZNAME:EST
DTSTART:20271107T060000
END:STANDARD
END:VTIMEZONE
BEGIN:VTIMEZONE
TZID:America/New_York
BEGIN:DAYLIGHT
TZOFFSETFROM:-0500
TZOFFSETTO:-0400
TZNAME:EDT
DTSTART:20250309T070000
END:DAYLIGHT
BEGIN:STANDARD
TZOFFSETFROM:-0400
TZOFFSETTO:-0500
TZNAME:EST
DTSTART:20251102T060000
END:STANDARD
BEGIN:DAYLIGHT
TZOFFSETFROM:-0500
TZOFFSETTO:-0400
TZNAME:EDT
DTSTART:20260308T070000
END:DAYLIGHT
BEGIN:STANDARD
TZOFFSETFROM:-0400
TZOFFSETTO:-0500
TZNAME:EST
DTSTART:20261101T060000
END:STANDARD
BEGIN:DAYLIGHT
TZOFFSETFROM:-0500
TZOFFSETTO:-0400
TZNAME:EDT
DTSTART:20270314T070000
END:DAYLIGHT
BEGIN:STANDARD
TZOFFSETFROM:-0400
TZOFFSETTO:-0500
TZNAME:EST
DTSTART:20271107T060000
END:STANDARD
END:VTIMEZONE
BEGIN:VEVENT
DTSTART;TZID=America/New_York:20260403T190000
DTEND;TZID=America/New_York:20260403T210000
DTSTAMP:20260423T122050
CREATED:20251205T161201Z
LAST-MODIFIED:20251205T161201Z
UID:7930-1775242800-1775250000@capitalpinballclub.com
SUMMARY:Northeast Pinball Challenge – Season 2 - Week 7
DESCRIPTION:Join us at Capital Pinball every Friday night for the Northeast Pinball Challenge (NPC) — a regional league series that brings players together from across New England for competitive\, community-driven pinball! Whether you’re aiming to make the finals or just want to enjoy a great night out\, NPC league nights are open to all skill levels and are a blast to play.   \nFormat:\n NPC League Play: Each week\, players will be randomly grouped into 3- or 4-player matches. Groups are created randomly each week\, so you’ll get to play with different people and machines. Machines are selected from a rotating list of 20+ titles\, ensuring a diverse and exciting experience every week.  Scoring: Points are awarded based on finishing position in each game. Rankings are updated weekly. At the end of the 7-week season\, the top four players from Capital Pinball will qualify for the NPC Grand Finals to compete in both a team event and an IFPA-sanctioned final.    \n\n3-player group: 1st = 7 pts\, 2nd = 4 pts\, 3rd = 1 pt\n4-player group: 1st = 7 pts\, 2nd = 5 pts\, 3rd = 3 pts\, 4th = 1 pt\n\nWhy Participate?\n Win Prizes & Advance: The top four players qualify for the NPC Grand Finals on April 17\, 2026. There\, you’ll compete for glory\, prizes\, and the honor of representing Capital Pinball!  All Skill Levels Welcome: New players\, veterans\, and everyone in between are encouraged to join. The NPC is all about great games\, great people\, and building the regional pinball community.  Affordable & Fun: Just $30 for the full 7-week season. Come out\, meet fellow players\, and challenge yourself each Friday night!   \nRegistration & Tracking:\n Week 7 Registration: Register on MatchplaySeries Info: NPC Season 2 Series   \nWhen:\n Fridays at 7:00 PM | First Night: February 20\, 2026
URL:https://capitalpinballclub.com/event/northeast-pinball-challenge-season-2-week-7/
LOCATION:Capital Pinball\, 70 Pembroke Rd\, Concord\, NH\, 03301\, United States
CATEGORIES:League,NPC,Open Hours
ATTACH;FMTTYPE=image/png:https://capitalpinballclub.com/wp-content/uploads/2025/06/npctitlecard-1536x864-1-z91wMK.png
END:VEVENT
BEGIN:VEVENT
DTSTART;TZID=America/New_York:20260403T203000
DTEND;TZID=America/New_York:20260403T220000
DTSTAMP:20260423T122050
CREATED:20260220T175426Z
LAST-MODIFIED:20260220T175426Z
UID:8200-1775248200-1775253600@capitalpinballclub.com
SUMMARY:Makeup! Northeast Pinball Challenge – Season 2 - Week 1
DESCRIPTION:Due to the weather forecast for this evening and concerns from our players regarding travel conditions\, we will be closed tonight and will be rescheduling both NEPL and NPC events tonight\, Friday\, 02/20. \nSchedule Updates:\nNPC Week One will be made up on Friday\, 4/3 as a double header.\nThe regularly scheduled Week 7 will begin at 7:00 PM as planned.\nThe Week One makeup session will begin immediately following the conclusion of Week 7 (approximately 8:30 PM). \n— \nJoin us at Capital Pinball every Friday night for the Northeast Pinball Challenge (NPC) — a regional league series that brings players together from across New England for competitive\, community-driven pinball! Whether you’re aiming to make the finals or just want to enjoy a great night out\, NPC league nights are open to all skill levels and are a blast to play.   \nFormat:\n NPC League Play: Each week\, players will be randomly grouped into 3- or 4-player matches. Groups are created randomly each week\, so you’ll get to play with different people and machines. Machines are selected from a rotating list of 20+ titles\, ensuring a diverse and exciting experience every week.  Scoring: Points are awarded based on finishing position in each game. Rankings are updated weekly. At the end of the 7-week season\, the top four players from Capital Pinball will qualify for the NPC Grand Finals to compete in both a team event and an IFPA-sanctioned final.    \n\n3-player group: 1st = 7 pts\, 2nd = 4 pts\, 3rd = 1 pt\n4-player group: 1st = 7 pts\, 2nd = 5 pts\, 3rd = 3 pts\, 4th = 1 pt\n\nWhy Participate?\n Win Prizes & Advance: The top four players qualify for the NPC Grand Finals on April 17\, 2026. There\, you’ll compete for glory\, prizes\, and the honor of representing Capital Pinball!  All Skill Levels Welcome: New players\, veterans\, and everyone in between are encouraged to join. The NPC is all about great games\, great people\, and building the regional pinball community.  Affordable & Fun: Just $30 for the full 7-week season. Come out\, meet fellow players\, and challenge yourself each Friday night!   \nRegistration & Tracking:\n Week 1 Registration: Register on MatchplaySeries Info: NPC Season 2 Series   \nWhen:\n Fridays at 7:00 PM | First Night: February 20\, 2026
URL:https://capitalpinballclub.com/event/makeup-northeast-pinball-challenge-season-2-week-1/
LOCATION:NH
CATEGORIES:League,NPC,Open Hours
ATTACH;FMTTYPE=image/png:https://capitalpinballclub.com/wp-content/uploads/2025/06/npctitlecard-1536x864-1-z91wMK.png
END:VEVENT
END:VCALENDAR