BEGIN:VCALENDAR
VERSION:2.0
PRODID:-//Capital Pinball - ECPv6.15.20//NONSGML v1.0//EN
CALSCALE:GREGORIAN
METHOD:PUBLISH
X-WR-CALNAME:Capital Pinball
X-ORIGINAL-URL:https://capitalpinballclub.com
X-WR-CALDESC:Events for Capital Pinball
REFRESH-INTERVAL;VALUE=DURATION:PT1H
X-Robots-Tag:noindex
X-PUBLISHED-TTL:PT1H
BEGIN:VTIMEZONE
TZID:Asia/Karachi
BEGIN:STANDARD
TZOFFSETFROM:+0500
TZOFFSETTO:+0500
TZNAME:PKT
DTSTART:20240101T000000
END:STANDARD
END:VTIMEZONE
BEGIN:VEVENT
DTSTART;TZID=Asia/Karachi:20250726T120000
DTEND;TZID=Asia/Karachi:20250726T170000
DTSTAMP:20260424T010529
CREATED:20250123T034759Z
LAST-MODIFIED:20250205T124820Z
UID:5855-1753531200-1753549200@capitalpinballclub.com
SUMMARY:A Flippin' Good Time
DESCRIPTION:Tournament Date: 7/26 \nCheck In: 12PM\nStart Time: 1PM\nTournament Fee: $15\nDay Pass Fee (non-members): $15 \nQualifiers: Flip Frenzy (3 hours)\nFinals: Group Match Play\nTop 8 will make finals\nPrizes and trophies for top 4 \nPlayer Limit: 30\n*All games set to Freeplay\nRegister Here: https://app.matchplay.events/tournaments/176091\nPrepay Here: https://square.link/u/0ESw3tff
URL:https://capitalpinballclub.com/event/capital-pinball-a-flippin-good-time-2/
LOCATION:Capital Pinball\, 70 Pembroke Rd\, Concord\, NH\, 03301\, United States
CATEGORIES:Capital Cup,IFPA,Open Hours,Tournament
ATTACH;FMTTYPE=image/jpeg:https://capitalpinballclub.com/wp-content/uploads/2025/01/Leonardo_Phoenix_10_A_few_Solid_Silver_Pinball_balls_polished_2.jpg
END:VEVENT
END:VCALENDAR