BEGIN:VCALENDAR
VERSION:2.0
PRODID:-//Capital Pinball - ECPv6.15.20//NONSGML v1.0//EN
CALSCALE:GREGORIAN
METHOD:PUBLISH
X-WR-CALNAME:Capital Pinball
X-ORIGINAL-URL:https://capitalpinballclub.com
X-WR-CALDESC:Events for Capital Pinball
REFRESH-INTERVAL;VALUE=DURATION:PT1H
X-Robots-Tag:noindex
X-PUBLISHED-TTL:PT1H
BEGIN:VTIMEZONE
TZID:Asia/Karachi
BEGIN:STANDARD
TZOFFSETFROM:+0500
TZOFFSETTO:+0500
TZNAME:PKT
DTSTART:20240101T000000
END:STANDARD
END:VTIMEZONE
BEGIN:VEVENT
DTSTART;TZID=Asia/Karachi:20250112T140000
DTEND;TZID=Asia/Karachi:20250112T170000
DTSTAMP:20260425T114159
CREATED:20241212T021422Z
LAST-MODIFIED:20250110T004545Z
UID:5773-1736690400-1736701200@capitalpinballclub.com
SUMMARY:Beginner's Pinball
DESCRIPTION:New to pinball? Or maybe you haven’t played since you were a kid? Come out and join us for Pinball for Beginners\, held every second and fourth Sunday of the month from 2 – 5 PM! This casual event is perfect for anyone who’s curious about pinball\, just getting started\, or looking to meet others at a similar skill level. \n  \nAt Pinball for Beginners\, we’ll keep things relaxed and collaborative. Whether you want to practice solo\, learn game techniques together\, or swap tips\, there’s something here for everyone. Occasionally\, we’ll even remove the glass from a machine to show you the inner mechanics\, diving into what makes pinball both challenging and thrilling. And if you’re feeling up for it\, we can play beginner-friendly competitive formats like PinGolf\, where you’ll shoot for achievable target scores. \n  \nJoin us for a low-pressure\, high-fun environment where we focus on enjoying the game\, supporting each other\, and discovering all the excitement pinball has to offer. See you there!
URL:https://capitalpinballclub.com/event/beginners-pinball/
LOCATION:Capital Pinball\, 70 Pembroke Rd\, Concord\, NH\, 03301\, United States
CATEGORIES:Open Hours
ATTACH;FMTTYPE=image/png:https://capitalpinballclub.com/wp-content/uploads/2024/11/Pink-and-Purple-Bold-Event-Announcement-Poster-Presentation-2.png
END:VEVENT
BEGIN:VEVENT
DTSTART;TZID=Asia/Karachi:20250112T160000
DTEND;TZID=Asia/Karachi:20250112T200000
DTSTAMP:20260425T114159
CREATED:20241115T060532Z
LAST-MODIFIED:20250105T024552Z
UID:5632-1736697600-1736712000@capitalpinballclub.com
SUMMARY:Queer Pinball Night
DESCRIPTION:Capital Pinball is excited to host its first Queer Pinball Night on December 19th from 6pm-9pm! \nPlease join us for some pinball\, light refreshments and a fun time meeting other queer people in the local community. \n* $15 Day Pass Fee for Non-Members
URL:https://capitalpinballclub.com/event/queer-pinball-night/
LOCATION:Capital Pinball\, 70 Pembroke Rd\, Concord\, NH\, 03301\, United States
CATEGORIES:Open Hours
ATTACH;FMTTYPE=image/png:https://capitalpinballclub.com/wp-content/uploads/2024/11/Rainbow-Playful-Pride-Information-Session-Instagram-Post-Presentation_20241126_210646_0000.png
END:VEVENT
END:VCALENDAR