BEGIN:VCALENDAR
VERSION:2.0
PRODID:-//Capital Pinball - ECPv6.15.20//NONSGML v1.0//EN
CALSCALE:GREGORIAN
METHOD:PUBLISH
X-ORIGINAL-URL:https://capitalpinballclub.com
X-WR-CALDESC:Events for Capital Pinball
REFRESH-INTERVAL;VALUE=DURATION:PT1H
X-Robots-Tag:noindex
X-PUBLISHED-TTL:PT1H
BEGIN:VTIMEZONE
TZID:America/New_York
BEGIN:DAYLIGHT
TZOFFSETFROM:-0500
TZOFFSETTO:-0400
TZNAME:EDT
DTSTART:20240310T070000
END:DAYLIGHT
BEGIN:STANDARD
TZOFFSETFROM:-0400
TZOFFSETTO:-0500
TZNAME:EST
DTSTART:20241103T060000
END:STANDARD
BEGIN:DAYLIGHT
TZOFFSETFROM:-0500
TZOFFSETTO:-0400
TZNAME:EDT
DTSTART:20250309T070000
END:DAYLIGHT
BEGIN:STANDARD
TZOFFSETFROM:-0400
TZOFFSETTO:-0500
TZNAME:EST
DTSTART:20251102T060000
END:STANDARD
BEGIN:DAYLIGHT
TZOFFSETFROM:-0500
TZOFFSETTO:-0400
TZNAME:EDT
DTSTART:20260308T070000
END:DAYLIGHT
BEGIN:STANDARD
TZOFFSETFROM:-0400
TZOFFSETTO:-0500
TZNAME:EST
DTSTART:20261101T060000
END:STANDARD
END:VTIMEZONE
BEGIN:VTIMEZONE
TZID:America/New_York
BEGIN:DAYLIGHT
TZOFFSETFROM:-0500
TZOFFSETTO:-0400
TZNAME:EDT
DTSTART:20240310T070000
END:DAYLIGHT
BEGIN:STANDARD
TZOFFSETFROM:-0400
TZOFFSETTO:-0500
TZNAME:EST
DTSTART:20241103T060000
END:STANDARD
BEGIN:DAYLIGHT
TZOFFSETFROM:-0500
TZOFFSETTO:-0400
TZNAME:EDT
DTSTART:20250309T070000
END:DAYLIGHT
BEGIN:STANDARD
TZOFFSETFROM:-0400
TZOFFSETTO:-0500
TZNAME:EST
DTSTART:20251102T060000
END:STANDARD
BEGIN:DAYLIGHT
TZOFFSETFROM:-0500
TZOFFSETTO:-0400
TZNAME:EDT
DTSTART:20260308T070000
END:DAYLIGHT
BEGIN:STANDARD
TZOFFSETFROM:-0400
TZOFFSETTO:-0500
TZNAME:EST
DTSTART:20261101T060000
END:STANDARD
END:VTIMEZONE
BEGIN:VEVENT
DTSTART;TZID=America/New_York:20251205T180000
DTEND;TZID=America/New_York:20251205T220000
DTSTAMP:20260423T165900
CREATED:20251102T152714Z
LAST-MODIFIED:20251102T152714Z
UID:7873-1764957600-1764972000@capitalpinballclub.com
SUMMARY:Pingolf Season 3 Week 5
DESCRIPTION:November 7 – December 26Fridays\, 6–10 PM (during open hours) \nJoin us for eight weeks of friendly competition in the Capital Pinball Pingolf League!Each week\, test your pinball skills on 9 unique “holes” in this fun\, pingolf-style format. Whether you’re a seasoned player or just here for a good time\, everyone’s welcome! \n\n🕹️ Format\nEach week features a new Pingolf card with a new lineup of games. \nBuy a Pingolf card from the Tournament Directors (Courtney or Jeremy) for $1 to play. \nComplete your card (or forfeit) and turn it in when finished. \nWant another shot? Buy another card and play again — or trust your scores to hold up! \nTop 4 each night win $5 each. \nHandicaps will be updated weekly and applied to the next week’s scores. \n\n📅 Schedule\nFridays\, November 7 – December 26Dates: 11/7\, 11/14\, 11/21\, 11/28\, 12/5\, 12/12\, 12/19\, 12/26Time: 6–10 PM \n\n💰 League Details\nFormat: Pingolf \n9 holes per session \nEntry: $1 per Pingolf card \nGuests: Must purchase a day pass to participate \n\n🏆 Prizes\nEach week\, the lowest score wins the nightly prize pool. \nAfter 8 weeks\, the overall lowest scorer will have their name added to the Capital Cup! \n\nCome for the competition\, stay for the fun — bring your friends and enjoy a full season of pinball excitement at Capital Pinball!
URL:https://capitalpinballclub.com/event/pingolf-season-3-week-5/
LOCATION:Capital Pinball\, 70 Pembroke Rd\, Concord\, NH\, 03301\, United States
CATEGORIES:Open Hours,PinGolf,PinGolf League
ATTACH;FMTTYPE=image/jpeg:https://capitalpinballclub.com/wp-content/uploads/2025/03/Leonardo_Phoenix_A_vibrant_mesmerizing_scene_featuring_a_singl_1-3flFv4.tmp_.jpg
END:VEVENT
BEGIN:VEVENT
DTSTART;TZID=America/New_York:20251212T180000
DTEND;TZID=America/New_York:20251212T220000
DTSTAMP:20260423T165900
CREATED:20251102T152753Z
LAST-MODIFIED:20251102T152753Z
UID:7875-1765562400-1765576800@capitalpinballclub.com
SUMMARY:Pingolf Season 3 Week 6
DESCRIPTION:November 7 – December 26Fridays\, 6–10 PM (during open hours) \nJoin us for eight weeks of friendly competition in the Capital Pinball Pingolf League!Each week\, test your pinball skills on 9 unique “holes” in this fun\, pingolf-style format. Whether you’re a seasoned player or just here for a good time\, everyone’s welcome! \n\n🕹️ Format\nEach week features a new Pingolf card with a new lineup of games. \nBuy a Pingolf card from the Tournament Directors (Courtney or Jeremy) for $1 to play. \nComplete your card (or forfeit) and turn it in when finished. \nWant another shot? Buy another card and play again — or trust your scores to hold up! \nTop 4 each night win $5 each. \nHandicaps will be updated weekly and applied to the next week’s scores. \n\n📅 Schedule\nFridays\, November 7 – December 26Dates: 11/7\, 11/14\, 11/21\, 11/28\, 12/5\, 12/12\, 12/19\, 12/26Time: 6–10 PM \n\n💰 League Details\nFormat: Pingolf \n9 holes per session \nEntry: $1 per Pingolf card \nGuests: Must purchase a day pass to participate \n\n🏆 Prizes\nEach week\, the lowest score wins the nightly prize pool. \nAfter 8 weeks\, the overall lowest scorer will have their name added to the Capital Cup! \n\nCome for the competition\, stay for the fun — bring your friends and enjoy a full season of pinball excitement at Capital Pinball!
URL:https://capitalpinballclub.com/event/pingolf-season-3-week-6/
LOCATION:Capital Pinball\, 70 Pembroke Rd\, Concord\, NH\, 03301\, United States
CATEGORIES:Open Hours,PinGolf,PinGolf League
ATTACH;FMTTYPE=image/jpeg:https://capitalpinballclub.com/wp-content/uploads/2025/03/Leonardo_Phoenix_A_vibrant_mesmerizing_scene_featuring_a_singl_1-3flFv4.tmp_.jpg
END:VEVENT
BEGIN:VEVENT
DTSTART;TZID=America/New_York:20251219T180000
DTEND;TZID=America/New_York:20251219T220000
DTSTAMP:20260423T165900
CREATED:20251102T152847Z
LAST-MODIFIED:20251102T152847Z
UID:7877-1766167200-1766181600@capitalpinballclub.com
SUMMARY:Pingolf Season 3 Week 7
DESCRIPTION:November 7 – December 26Fridays\, 6–10 PM (during open hours) \nJoin us for eight weeks of friendly competition in the Capital Pinball Pingolf League!Each week\, test your pinball skills on 9 unique “holes” in this fun\, pingolf-style format. Whether you’re a seasoned player or just here for a good time\, everyone’s welcome! \n\n🕹️ Format\nEach week features a new Pingolf card with a new lineup of games. \nBuy a Pingolf card from the Tournament Directors (Courtney or Jeremy) for $1 to play. \nComplete your card (or forfeit) and turn it in when finished. \nWant another shot? Buy another card and play again — or trust your scores to hold up! \nTop 4 each night win $5 each. \nHandicaps will be updated weekly and applied to the next week’s scores. \n\n📅 Schedule\nFridays\, November 7 – December 26Dates: 11/7\, 11/14\, 11/21\, 11/28\, 12/5\, 12/12\, 12/19\, 12/26Time: 6–10 PM \n\n💰 League Details\nFormat: Pingolf \n9 holes per session \nEntry: $1 per Pingolf card \nGuests: Must purchase a day pass to participate \n\n🏆 Prizes\nEach week\, the lowest score wins the nightly prize pool. \nAfter 8 weeks\, the overall lowest scorer will have their name added to the Capital Cup! \n\nCome for the competition\, stay for the fun — bring your friends and enjoy a full season of pinball excitement at Capital Pinball!
URL:https://capitalpinballclub.com/event/pingolf-season-3-week-7/
LOCATION:Capital Pinball\, 70 Pembroke Rd\, Concord\, NH\, 03301\, United States
CATEGORIES:Open Hours,PinGolf,PinGolf League
ATTACH;FMTTYPE=image/jpeg:https://capitalpinballclub.com/wp-content/uploads/2025/03/Leonardo_Phoenix_A_vibrant_mesmerizing_scene_featuring_a_singl_1-3flFv4.tmp_.jpg
END:VEVENT
BEGIN:VEVENT
DTSTART;TZID=America/New_York:20251221T140000
DTEND;TZID=America/New_York:20251221T170000
DTSTAMP:20260423T165900
CREATED:20251027T222711Z
LAST-MODIFIED:20251027T222711Z
UID:7831-1766325600-1766336400@capitalpinballclub.com
SUMMARY:Club Maintenance & Repair Day
DESCRIPTION:Join us at Capital Pinball for our monthly maintenance and repair day! This event is open to everyone interested in learning how to maintain and repair pinball machines or just lend a helping hand to the club. \nWhat You’ll Do\n\n🛠 Hands-On Learning – Learn how to remove the glass\, clean playfields\, and perform basic maintenance.\n🔧 Technical Repairs – Experienced pinball techs will tackle known issues and perform necessary repairs.\n📦 Pre-Ordered Parts – We aim to have necessary parts ready to go for known issues.\n\nWhy It Matters\nA well-maintained club means better games\, fewer malfunctions\, and an arcade that players admire. By participating\, you help ensure that the machines stay in top condition for everyone to enjoy. Plus\, you’ll gain the confidence to handle common pinball issues yourself! \nSkills You’ll Learn\n\nBasic Maintenance: Glass removal\, playfield cleaning and waxing\nMinor Adjustments: Keep games running smoothly\nAdvanced Repairs: Learn from experienced techs working on larger issues\n\nJoin us for a hands-on learning experience while helping keep our beloved pinball machines in top condition!
URL:https://capitalpinballclub.com/event/club-maintenance-repair-day-12/
LOCATION:Capital Pinball\, 70 Pembroke Rd\, Concord\, NH\, 03301\, United States
CATEGORIES:Maintenance,Open Hours,Repair
ATTACH;FMTTYPE=image/png:https://capitalpinballclub.com/wp-content/uploads/2025/03/CP-Maintenance-Cover.png
END:VEVENT
BEGIN:VEVENT
DTSTART;TZID=America/New_York:20251226T180000
DTEND;TZID=America/New_York:20251226T220000
DTSTAMP:20260423T165900
CREATED:20251102T152925Z
LAST-MODIFIED:20251102T152925Z
UID:7879-1766772000-1766786400@capitalpinballclub.com
SUMMARY:Pingolf Season 3 Week 8
DESCRIPTION:November 7 – December 26Fridays\, 6–10 PM (during open hours) \nJoin us for eight weeks of friendly competition in the Capital Pinball Pingolf League!Each week\, test your pinball skills on 9 unique “holes” in this fun\, pingolf-style format. Whether you’re a seasoned player or just here for a good time\, everyone’s welcome! \n\n🕹️ Format\nEach week features a new Pingolf card with a new lineup of games. \nBuy a Pingolf card from the Tournament Directors (Courtney or Jeremy) for $1 to play. \nComplete your card (or forfeit) and turn it in when finished. \nWant another shot? Buy another card and play again — or trust your scores to hold up! \nTop 4 each night win $5 each. \nHandicaps will be updated weekly and applied to the next week’s scores. \n\n📅 Schedule\nFridays\, November 7 – December 26Dates: 11/7\, 11/14\, 11/21\, 11/28\, 12/5\, 12/12\, 12/19\, 12/26Time: 6–10 PM \n\n💰 League Details\nFormat: Pingolf \n9 holes per session \nEntry: $1 per Pingolf card \nGuests: Must purchase a day pass to participate \n\n🏆 Prizes\nEach week\, the lowest score wins the nightly prize pool. \nAfter 8 weeks\, the overall lowest scorer will have their name added to the Capital Cup! \n\nCome for the competition\, stay for the fun — bring your friends and enjoy a full season of pinball excitement at Capital Pinball!
URL:https://capitalpinballclub.com/event/pingolf-season-3-week-8/
LOCATION:Capital Pinball\, 70 Pembroke Rd\, Concord\, NH\, 03301\, United States
CATEGORIES:Open Hours,PinGolf,PinGolf League
ATTACH;FMTTYPE=image/jpeg:https://capitalpinballclub.com/wp-content/uploads/2025/03/Leonardo_Phoenix_A_vibrant_mesmerizing_scene_featuring_a_singl_1-3flFv4.tmp_.jpg
END:VEVENT
END:VCALENDAR