BEGIN:VCALENDAR
VERSION:2.0
PRODID:-//Capital Pinball - ECPv6.15.20//NONSGML v1.0//EN
CALSCALE:GREGORIAN
METHOD:PUBLISH
X-WR-CALNAME:Capital Pinball
X-ORIGINAL-URL:https://capitalpinballclub.com
X-WR-CALDESC:Events for Capital Pinball
REFRESH-INTERVAL;VALUE=DURATION:PT1H
X-Robots-Tag:noindex
X-PUBLISHED-TTL:PT1H
BEGIN:VTIMEZONE
TZID:America/New_York
BEGIN:DAYLIGHT
TZOFFSETFROM:-0500
TZOFFSETTO:-0400
TZNAME:EDT
DTSTART:20240310T070000
END:DAYLIGHT
BEGIN:STANDARD
TZOFFSETFROM:-0400
TZOFFSETTO:-0500
TZNAME:EST
DTSTART:20241103T060000
END:STANDARD
BEGIN:DAYLIGHT
TZOFFSETFROM:-0500
TZOFFSETTO:-0400
TZNAME:EDT
DTSTART:20250309T070000
END:DAYLIGHT
BEGIN:STANDARD
TZOFFSETFROM:-0400
TZOFFSETTO:-0500
TZNAME:EST
DTSTART:20251102T060000
END:STANDARD
BEGIN:DAYLIGHT
TZOFFSETFROM:-0500
TZOFFSETTO:-0400
TZNAME:EDT
DTSTART:20260308T070000
END:DAYLIGHT
BEGIN:STANDARD
TZOFFSETFROM:-0400
TZOFFSETTO:-0500
TZNAME:EST
DTSTART:20261101T060000
END:STANDARD
END:VTIMEZONE
BEGIN:VTIMEZONE
TZID:America/New_York
BEGIN:DAYLIGHT
TZOFFSETFROM:-0500
TZOFFSETTO:-0400
TZNAME:EDT
DTSTART:20240310T070000
END:DAYLIGHT
BEGIN:STANDARD
TZOFFSETFROM:-0400
TZOFFSETTO:-0500
TZNAME:EST
DTSTART:20241103T060000
END:STANDARD
BEGIN:DAYLIGHT
TZOFFSETFROM:-0500
TZOFFSETTO:-0400
TZNAME:EDT
DTSTART:20250309T070000
END:DAYLIGHT
BEGIN:STANDARD
TZOFFSETFROM:-0400
TZOFFSETTO:-0500
TZNAME:EST
DTSTART:20251102T060000
END:STANDARD
BEGIN:DAYLIGHT
TZOFFSETFROM:-0500
TZOFFSETTO:-0400
TZNAME:EDT
DTSTART:20260308T070000
END:DAYLIGHT
BEGIN:STANDARD
TZOFFSETFROM:-0400
TZOFFSETTO:-0500
TZNAME:EST
DTSTART:20261101T060000
END:STANDARD
END:VTIMEZONE
BEGIN:VTIMEZONE
TZID:Asia/Karachi
BEGIN:STANDARD
TZOFFSETFROM:+0500
TZOFFSETTO:+0500
TZNAME:PKT
DTSTART:20240101T000000
END:STANDARD
END:VTIMEZONE
BEGIN:VEVENT
DTSTART;TZID=America/New_York:20250801T190000
DTEND;TZID=America/New_York:20250801T210000
DTSTAMP:20260423T222942
CREATED:20250608T151459Z
LAST-MODIFIED:20250608T151459Z
UID:6442-1754074800-1754082000@capitalpinballclub.com
SUMMARY:Northeast Pinball Challenge – Season 1
DESCRIPTION:Join us at Capital Pinball every Friday night for the Northeast Pinball Challenge (NPC) — a regional league series that brings players together from across New England for competitive\, community-driven pinball! Whether you’re aiming to make the finals or just want to enjoy a great night out\, NPC league nights are open to all skill levels and are a blast to play.   \nFormat:\n NPC League Play: Each week\, players will be randomly grouped into 3- or 4-player matches. Groups are created randomly each week\, so you’ll get to play with different people and machines. Machines are selected from a rotating list of 20+ titles\, ensuring a diverse and exciting experience every week.  Scoring: Points are awarded based on finishing position in each game. Rankings are updated weekly. At the end of the 7-week season\, the top four players from Capital Pinball Finals will qualify for the NPC Grand Finals to compete in both a team event and an IFPA-sanctioned final.    \n\n3-player group: 1st = 7 pts\, 2nd = 4 pts\, 3rd = 1 pt\n4-player group: 1st = 7 pts\, 2nd = 5 pts\, 3rd = 3 pts\, 4th = 1 pt\n\nWhy Participate?\n Win Prizes & Advance: The top four players qualify for the NPC Grand Finals on September 13th at The Lower Playfield in Goffstown\, NH. There\, you’ll compete for glory\, prizes\, and the honor of representing Capital Pinball!  All Skill Levels Welcome: New players\, veterans\, and everyone in between are encouraged to join. The NPC is all about great games\, great people\, and building the regional pinball community.  Affordable & Fun: Just $30 for the full 7-week season. Come out\, meet fellow players\, and challenge yourself each Friday night!   \nWhen:\n Fridays at 7:00 PM | First Night: July 18\, 2025
URL:https://capitalpinballclub.com/event/northeast-pinball-challenge-season-1-3/
LOCATION:Capital Pinball\, 70 Pembroke Rd\, Concord\, NH\, 03301\, United States
CATEGORIES:League,NPC,Open Hours
ATTACH;FMTTYPE=image/png:https://capitalpinballclub.com/wp-content/uploads/2025/06/npctitlecard-1536x864-1-7Ot4o1.png
END:VEVENT
BEGIN:VEVENT
DTSTART;TZID=America/New_York:20250803T140000
DTEND;TZID=America/New_York:20250803T180000
DTSTAMP:20260423T222942
CREATED:20250408T172159Z
LAST-MODIFIED:20250421T183809Z
UID:6381-1754229600-1754244000@capitalpinballclub.com
SUMMARY:Queer Pinball
DESCRIPTION:Come join us for a night to hang with other queers\, play some pinball and meet new people! \n  \n$15 day pass fee for Non-Members* \nGames are set to Free Play \nLight refreshments will be provided \n  \n*please DM if this is a barrier for attendance as we want all to be included
URL:https://capitalpinballclub.com/event/queer-pinball-5/
LOCATION:Capital Pinball\, 70 Pembroke Rd\, Concord\, NH\, 03301\, United States
CATEGORIES:Open Hours,Queer
ATTACH;FMTTYPE=image/png:https://capitalpinballclub.com/wp-content/uploads/2025/04/Rainbow-Playful-Pride-Information-Session-Instagram-Post-Presentation_20250408_131036_0000.png
END:VEVENT
BEGIN:VEVENT
DTSTART;TZID=America/New_York:20250808T190000
DTEND;TZID=America/New_York:20250808T210000
DTSTAMP:20260423T222942
CREATED:20250608T151500Z
LAST-MODIFIED:20250608T151500Z
UID:6443-1754679600-1754686800@capitalpinballclub.com
SUMMARY:Northeast Pinball Challenge – Season 1
DESCRIPTION:Join us at Capital Pinball every Friday night for the Northeast Pinball Challenge (NPC) — a regional league series that brings players together from across New England for competitive\, community-driven pinball! Whether you’re aiming to make the finals or just want to enjoy a great night out\, NPC league nights are open to all skill levels and are a blast to play.   \nFormat:\n NPC League Play: Each week\, players will be randomly grouped into 3- or 4-player matches. Groups are created randomly each week\, so you’ll get to play with different people and machines. Machines are selected from a rotating list of 20+ titles\, ensuring a diverse and exciting experience every week.  Scoring: Points are awarded based on finishing position in each game. Rankings are updated weekly. At the end of the 7-week season\, the top four players from Capital Pinball Finals will qualify for the NPC Grand Finals to compete in both a team event and an IFPA-sanctioned final.    \n\n3-player group: 1st = 7 pts\, 2nd = 4 pts\, 3rd = 1 pt\n4-player group: 1st = 7 pts\, 2nd = 5 pts\, 3rd = 3 pts\, 4th = 1 pt\n\nWhy Participate?\n Win Prizes & Advance: The top four players qualify for the NPC Grand Finals on September 13th at The Lower Playfield in Goffstown\, NH. There\, you’ll compete for glory\, prizes\, and the honor of representing Capital Pinball!  All Skill Levels Welcome: New players\, veterans\, and everyone in between are encouraged to join. The NPC is all about great games\, great people\, and building the regional pinball community.  Affordable & Fun: Just $30 for the full 7-week season. Come out\, meet fellow players\, and challenge yourself each Friday night!   \nWhen:\n Fridays at 7:00 PM | First Night: July 18\, 2025
URL:https://capitalpinballclub.com/event/northeast-pinball-challenge-season-1-4/
LOCATION:Capital Pinball\, 70 Pembroke Rd\, Concord\, NH\, 03301\, United States
CATEGORIES:League,NPC,Open Hours
ATTACH;FMTTYPE=image/png:https://capitalpinballclub.com/wp-content/uploads/2025/06/npctitlecard-1536x864-1-z91wMK.png
END:VEVENT
BEGIN:VEVENT
DTSTART;TZID=America/New_York:20250815T190000
DTEND;TZID=America/New_York:20250815T210000
DTSTAMP:20260423T222942
CREATED:20250608T151501Z
LAST-MODIFIED:20250608T151501Z
UID:6444-1755284400-1755291600@capitalpinballclub.com
SUMMARY:Northeast Pinball Challenge – Season 1
DESCRIPTION:Join us at Capital Pinball every Friday night for the Northeast Pinball Challenge (NPC) — a regional league series that brings players together from across New England for competitive\, community-driven pinball! Whether you’re aiming to make the finals or just want to enjoy a great night out\, NPC league nights are open to all skill levels and are a blast to play.   \nFormat:\n NPC League Play: Each week\, players will be randomly grouped into 3- or 4-player matches. Groups are created randomly each week\, so you’ll get to play with different people and machines. Machines are selected from a rotating list of 20+ titles\, ensuring a diverse and exciting experience every week.  Scoring: Points are awarded based on finishing position in each game. Rankings are updated weekly. At the end of the 7-week season\, the top four players from Capital Pinball Finals will qualify for the NPC Grand Finals to compete in both a team event and an IFPA-sanctioned final.    \n\n3-player group: 1st = 7 pts\, 2nd = 4 pts\, 3rd = 1 pt\n4-player group: 1st = 7 pts\, 2nd = 5 pts\, 3rd = 3 pts\, 4th = 1 pt\n\nWhy Participate?\n Win Prizes & Advance: The top four players qualify for the NPC Grand Finals on September 13th at The Lower Playfield in Goffstown\, NH. There\, you’ll compete for glory\, prizes\, and the honor of representing Capital Pinball!  All Skill Levels Welcome: New players\, veterans\, and everyone in between are encouraged to join. The NPC is all about great games\, great people\, and building the regional pinball community.  Affordable & Fun: Just $30 for the full 7-week season. Come out\, meet fellow players\, and challenge yourself each Friday night!   \nWhen:\n Fridays at 7:00 PM | First Night: July 18\, 2025
URL:https://capitalpinballclub.com/event/northeast-pinball-challenge-season-1-5/
LOCATION:Capital Pinball\, 70 Pembroke Rd\, Concord\, NH\, 03301\, United States
CATEGORIES:League,NPC,Open Hours
ATTACH;FMTTYPE=image/png:https://capitalpinballclub.com/wp-content/uploads/2025/06/npctitlecard-1536x864-1-z91wMK.png
END:VEVENT
BEGIN:VEVENT
DTSTART;TZID=America/New_York:20250817T140000
DTEND;TZID=America/New_York:20250817T170000
DTSTAMP:20260423T222942
CREATED:20250619T143117Z
LAST-MODIFIED:20250619T143117Z
UID:6560-1755439200-1755450000@capitalpinballclub.com
SUMMARY:Club Maintenance & Repair Day
DESCRIPTION:Join us at Capital Pinball for our monthly maintenance and repair day! This event is open to everyone interested in learning how to maintain and repair pinball machines or just lend a helping hand to the club. \n\n🛠 Hands-On Learning – Learn how to remove the glass\, clean playfields\, and perform basic maintenance.\n🔧 Technical Repairs – Experienced pinball techs will tackle known issues and perform necessary repairs.\n📦 Pre-Ordered Parts – We aim to have necessary parts ready to go for known issues.\n\n📅 When: The third Sunday of each month \n📍 Where: Capital Pinball
URL:https://capitalpinballclub.com/event/club-maintenance-repair-day-10/
LOCATION:Capital Pinball\, 70 Pembroke Rd\, Concord\, NH\, 03301\, United States
CATEGORIES:Maintenance,Open Hours,Repair
ATTACH;FMTTYPE=image/png:https://capitalpinballclub.com/wp-content/uploads/2025/03/CP-Maintenance-Cover.png
END:VEVENT
BEGIN:VEVENT
DTSTART;TZID=America/New_York:20250822T190000
DTEND;TZID=America/New_York:20250822T210000
DTSTAMP:20260423T222942
CREATED:20250608T151504Z
LAST-MODIFIED:20250608T151504Z
UID:6445-1755889200-1755896400@capitalpinballclub.com
SUMMARY:Northeast Pinball Challenge – Season 1
DESCRIPTION:Join us at Capital Pinball every Friday night for the Northeast Pinball Challenge (NPC) — a regional league series that brings players together from across New England for competitive\, community-driven pinball! Whether you’re aiming to make the finals or just want to enjoy a great night out\, NPC league nights are open to all skill levels and are a blast to play.   \nFormat:\n NPC League Play: Each week\, players will be randomly grouped into 3- or 4-player matches. Groups are created randomly each week\, so you’ll get to play with different people and machines. Machines are selected from a rotating list of 20+ titles\, ensuring a diverse and exciting experience every week.  Scoring: Points are awarded based on finishing position in each game. Rankings are updated weekly. At the end of the 7-week season\, the top four players from Capital Pinball Finals will qualify for the NPC Grand Finals to compete in both a team event and an IFPA-sanctioned final.    \n\n3-player group: 1st = 7 pts\, 2nd = 4 pts\, 3rd = 1 pt\n4-player group: 1st = 7 pts\, 2nd = 5 pts\, 3rd = 3 pts\, 4th = 1 pt\n\nWhy Participate?\n Win Prizes & Advance: The top four players qualify for the NPC Grand Finals on September 13th at The Lower Playfield in Goffstown\, NH. There\, you’ll compete for glory\, prizes\, and the honor of representing Capital Pinball!  All Skill Levels Welcome: New players\, veterans\, and everyone in between are encouraged to join. The NPC is all about great games\, great people\, and building the regional pinball community.  Affordable & Fun: Just $30 for the full 7-week season. Come out\, meet fellow players\, and challenge yourself each Friday night!   \nWhen:\n Fridays at 7:00 PM | First Night: July 18\, 2025
URL:https://capitalpinballclub.com/event/northeast-pinball-challenge-season-1-6/
LOCATION:Capital Pinball\, 70 Pembroke Rd\, Concord\, NH\, 03301\, United States
CATEGORIES:League,NPC,Open Hours
ATTACH;FMTTYPE=image/png:https://capitalpinballclub.com/wp-content/uploads/2025/06/npctitlecard-1536x864-1-z91wMK.png
END:VEVENT
BEGIN:VEVENT
DTSTART;TZID=America/New_York:20250829T190000
DTEND;TZID=America/New_York:20250829T210000
DTSTAMP:20260423T222942
CREATED:20250608T151505Z
LAST-MODIFIED:20250608T151505Z
UID:6446-1756494000-1756501200@capitalpinballclub.com
SUMMARY:Northeast Pinball Challenge – Season 1
DESCRIPTION:Join us at Capital Pinball every Friday night for the Northeast Pinball Challenge (NPC) — a regional league series that brings players together from across New England for competitive\, community-driven pinball! Whether you’re aiming to make the finals or just want to enjoy a great night out\, NPC league nights are open to all skill levels and are a blast to play.   \nFormat:\n NPC League Play: Each week\, players will be randomly grouped into 3- or 4-player matches. Groups are created randomly each week\, so you’ll get to play with different people and machines. Machines are selected from a rotating list of 20+ titles\, ensuring a diverse and exciting experience every week.  Scoring: Points are awarded based on finishing position in each game. Rankings are updated weekly. At the end of the 7-week season\, the top four players from Capital Pinball Finals will qualify for the NPC Grand Finals to compete in both a team event and an IFPA-sanctioned final.    \n\n3-player group: 1st = 7 pts\, 2nd = 4 pts\, 3rd = 1 pt\n4-player group: 1st = 7 pts\, 2nd = 5 pts\, 3rd = 3 pts\, 4th = 1 pt\n\nWhy Participate?\n Win Prizes & Advance: The top four players qualify for the NPC Grand Finals on September 13th at The Lower Playfield in Goffstown\, NH. There\, you’ll compete for glory\, prizes\, and the honor of representing Capital Pinball!  All Skill Levels Welcome: New players\, veterans\, and everyone in between are encouraged to join. The NPC is all about great games\, great people\, and building the regional pinball community.  Affordable & Fun: Just $30 for the full 7-week season. Come out\, meet fellow players\, and challenge yourself each Friday night!   \nWhen:\n Fridays at 7:00 PM | First Night: July 18\, 2025
URL:https://capitalpinballclub.com/event/northeast-pinball-challenge-season-1-7/
LOCATION:Capital Pinball\, 70 Pembroke Rd\, Concord\, NH\, 03301\, United States
CATEGORIES:League,NPC,Open Hours
ATTACH;FMTTYPE=image/png:https://capitalpinballclub.com/wp-content/uploads/2025/06/npctitlecard-1536x864-1-z91wMK.png
END:VEVENT
BEGIN:VEVENT
DTSTART;TZID=Asia/Karachi:20250830T120000
DTEND;TZID=Asia/Karachi:20250830T170000
DTSTAMP:20260423T222942
CREATED:20250123T035049Z
LAST-MODIFIED:20250205T124804Z
UID:5857-1756555200-1756573200@capitalpinballclub.com
SUMMARY:Labor Day Madness
DESCRIPTION:Tournament Date: 8/30\nCheck In: 12PM\nStart Time: 1PM\nTournament Fee: $15\nDay Pass Fee (non-members): $15 \nQualifiers: 8 Rounds of Group Match Play Scoring: IFPA scoring (7/5/3/1)\nFinals: Amazing race\nTop 8 will make finals\nPrizes and trophies for top 4 \nPlayer Limit: 30\n*All games set to Freeplay\nRegister Here: https://app.matchplay.events/tournaments/176092\nPrepay Here: https://square.link/u/0ESw3tff
URL:https://capitalpinballclub.com/event/capital-pinball-labor-day-madness/
LOCATION:Capital Pinball\, 70 Pembroke Rd\, Concord\, NH\, 03301\, United States
CATEGORIES:Capital Cup,IFPA,Open Hours,Tournament
ATTACH;FMTTYPE=image/jpeg:https://capitalpinballclub.com/wp-content/uploads/2025/01/Leonardo_Phoenix_10_A_whimsical_still_life_featuring_a_cluster_1.jpg
END:VEVENT
END:VCALENDAR