BEGIN:VCALENDAR
VERSION:2.0
PRODID:-//Capital Pinball - ECPv6.15.20//NONSGML v1.0//EN
CALSCALE:GREGORIAN
METHOD:PUBLISH
X-WR-CALNAME:Capital Pinball
X-ORIGINAL-URL:https://capitalpinballclub.com
X-WR-CALDESC:Events for Capital Pinball
REFRESH-INTERVAL;VALUE=DURATION:PT1H
X-Robots-Tag:noindex
X-PUBLISHED-TTL:PT1H
BEGIN:VTIMEZONE
TZID:America/New_York
BEGIN:DAYLIGHT
TZOFFSETFROM:-0500
TZOFFSETTO:-0400
TZNAME:EDT
DTSTART:20240310T070000
END:DAYLIGHT
BEGIN:STANDARD
TZOFFSETFROM:-0400
TZOFFSETTO:-0500
TZNAME:EST
DTSTART:20241103T060000
END:STANDARD
BEGIN:DAYLIGHT
TZOFFSETFROM:-0500
TZOFFSETTO:-0400
TZNAME:EDT
DTSTART:20250309T070000
END:DAYLIGHT
BEGIN:STANDARD
TZOFFSETFROM:-0400
TZOFFSETTO:-0500
TZNAME:EST
DTSTART:20251102T060000
END:STANDARD
BEGIN:DAYLIGHT
TZOFFSETFROM:-0500
TZOFFSETTO:-0400
TZNAME:EDT
DTSTART:20260308T070000
END:DAYLIGHT
BEGIN:STANDARD
TZOFFSETFROM:-0400
TZOFFSETTO:-0500
TZNAME:EST
DTSTART:20261101T060000
END:STANDARD
END:VTIMEZONE
BEGIN:VTIMEZONE
TZID:Asia/Karachi
BEGIN:STANDARD
TZOFFSETFROM:+0500
TZOFFSETTO:+0500
TZNAME:PKT
DTSTART:20240101T000000
END:STANDARD
END:VTIMEZONE
BEGIN:VEVENT
DTSTART;TZID=America/New_York:20250401T170000
DTEND;TZID=America/New_York:20250401T210000
DTSTAMP:20260424T033245
CREATED:20250304T060706Z
LAST-MODIFIED:20250304T061311Z
UID:6199-1743526800-1743541200@capitalpinballclub.com
SUMMARY:Tuesday Night Pinball
DESCRIPTION:Come hang out at Capital Pinball for a night of open play! Whether you’re here to practice\, meet fellow players\, or just enjoy some pinball\, Tuesday Night Pinball is open to everyone. \n\n✅ Casual Play – No competition required\n🎯 Pingolf Available – Play a round if you’d like For more information about our PinGolf League\, visit our Pingolf League page.\n👥 Great for newcomers – Learn the games and meet the community\n\n💵 Entry: $15 for non-members\, free for members \nJoin us anytime between 5–9 PM and flip the night away! \nFor more information about our PinGolf League\, visit our Pingolf League page.
URL:https://capitalpinballclub.com/event/tuesday-night-pinball-4/
LOCATION:Capital Pinball\, 70 Pembroke Rd\, Concord\, NH\, 03301\, United States
CATEGORIES:League,Open Hours,PinGolf,PinGolf League
ATTACH;FMTTYPE=image/png:https://capitalpinballclub.com/wp-content/uploads/2025/03/TuesdayNightPinballCover.png
END:VEVENT
BEGIN:VEVENT
DTSTART;TZID=America/New_York:20250404T180000
DTEND;TZID=America/New_York:20250404T220000
DTSTAMP:20260424T033245
CREATED:20250304T065416Z
LAST-MODIFIED:20250304T110439Z
UID:6302-1743789600-1743804000@capitalpinballclub.com
SUMMARY:Friday Night Pinball
DESCRIPTION:Come hang out at Capital Pinball for a night of open play! Whether you’re here to practice\, meet fellow players\, or just enjoy some pinball\, Friday Night Pinball is open to everyone. \n\n✅ Casual Play – No competition required\n🎯 Pingolf Available – Play a round if you’d like For more information about our PinGolf League\, visit our Pingolf League page.\n👥 Great for newcomers – Learn the games and meet the community\n\nFor more information about our PinGolf League\, visit our Pingolf League page.
URL:https://capitalpinballclub.com/event/friday-night-pinball-5/
LOCATION:Capital Pinball\, 70 Pembroke Rd\, Concord\, NH\, 03301\, United States
CATEGORIES:League,Open Hours,PinGolf,PinGolf League
ATTACH;FMTTYPE=image/png:https://capitalpinballclub.com/wp-content/uploads/2024/09/CP-Open-Hours-Cover.png
END:VEVENT
BEGIN:VEVENT
DTSTART;TZID=America/New_York:20250408T170000
DTEND;TZID=America/New_York:20250408T210000
DTSTAMP:20260424T033245
CREATED:20250304T060707Z
LAST-MODIFIED:20250304T061312Z
UID:6200-1744131600-1744146000@capitalpinballclub.com
SUMMARY:Tuesday Night Pinball
DESCRIPTION:Come hang out at Capital Pinball for a night of open play! Whether you’re here to practice\, meet fellow players\, or just enjoy some pinball\, Tuesday Night Pinball is open to everyone. \n\n✅ Casual Play – No competition required\n🎯 Pingolf Available – Play a round if you’d like For more information about our PinGolf League\, visit our Pingolf League page.\n👥 Great for newcomers – Learn the games and meet the community\n\n💵 Entry: $15 for non-members\, free for members \nJoin us anytime between 5–9 PM and flip the night away! \nFor more information about our PinGolf League\, visit our Pingolf League page.
URL:https://capitalpinballclub.com/event/tuesday-night-pinball-5/
LOCATION:Capital Pinball\, 70 Pembroke Rd\, Concord\, NH\, 03301\, United States
CATEGORIES:League,Open Hours,PinGolf,PinGolf League
ATTACH;FMTTYPE=image/png:https://capitalpinballclub.com/wp-content/uploads/2025/03/TuesdayNightPinballCover.png
END:VEVENT
BEGIN:VEVENT
DTSTART;TZID=America/New_York:20250411T180000
DTEND;TZID=America/New_York:20250411T220000
DTSTAMP:20260424T033245
CREATED:20250304T065418Z
LAST-MODIFIED:20250304T110432Z
UID:6303-1744394400-1744408800@capitalpinballclub.com
SUMMARY:Friday Night Pinball
DESCRIPTION:Come hang out at Capital Pinball for a night of open play! Whether you’re here to practice\, meet fellow players\, or just enjoy some pinball\, Friday Night Pinball is open to everyone. \n\n✅ Casual Play – No competition required\n🎯 Pingolf Available – Play a round if you’d like For more information about our PinGolf League\, visit our Pingolf League page.\n👥 Great for newcomers – Learn the games and meet the community\n\nFor more information about our PinGolf League\, visit our Pingolf League page.
URL:https://capitalpinballclub.com/event/friday-night-pinball-6/
LOCATION:Capital Pinball\, 70 Pembroke Rd\, Concord\, NH\, 03301\, United States
CATEGORIES:League,Open Hours,PinGolf,PinGolf League
ATTACH;FMTTYPE=image/png:https://capitalpinballclub.com/wp-content/uploads/2024/09/CP-Open-Hours-Cover.png
END:VEVENT
BEGIN:VEVENT
DTSTART;TZID=America/New_York:20250413T140000
DTEND;TZID=America/New_York:20250413T170000
DTSTAMP:20260424T033245
CREATED:20250304T064912Z
LAST-MODIFIED:20250304T064912Z
UID:6283-1744552800-1744563600@capitalpinballclub.com
SUMMARY:Beginners Pinball
DESCRIPTION:New to pinball? Or maybe you haven’t played since you were a kid? Come out and join us for Pinball for Beginners\, held every second and fourth Sunday of the month from 2 – 5 PM! This casual event is perfect for anyone who’s curious about pinball\, just getting started\, or looking to meet others at a similar skill level. \nAt Pinball for Beginners\, we’ll keep things relaxed and collaborative. Whether you want to practice solo\, learn game techniques together\, or swap tips\, there’s something here for everyone. Occasionally\, we’ll even remove the glass from a machine to show you the inner mechanics\, diving into what makes pinball both challenging and thrilling. And if you’re feeling up for it\, we can play beginner-friendly competitive formats like PinGolf\, where you’ll shoot for achievable target scores. \nJoin us for a low-pressure\, high-fun environment where we focus on enjoying the game\, supporting each other\, and discovering all the excitement pinball has to offer. See you there! \n\n✅ Casual Play – No competition required\n🎯 Pingolf Available – Play a round if you’d like For more information about our PinGolf League\, visit our Pingolf League page.\n👥 Great for newcomers – Learn the games and meet the community
URL:https://capitalpinballclub.com/event/beginners-pinball-11/
LOCATION:Capital Pinball\, 70 Pembroke Rd\, Concord\, NH\, 03301\, United States
CATEGORIES:Beginner Pinball,League,Open Hours,PinGolf,PinGolf League
ATTACH;FMTTYPE=image/png:https://capitalpinballclub.com/wp-content/uploads/2025/03/Pink-and-Purple-Bold-Event-Announcement-Poster-Presentation-2-4tZa9d.tmp_.png
ORGANIZER;CN="Kendra Corson":MAILTO:kendra.corson@gmail.com
END:VEVENT
BEGIN:VEVENT
DTSTART;TZID=America/New_York:20250415T170000
DTEND;TZID=America/New_York:20250415T210000
DTSTAMP:20260424T033245
CREATED:20250304T060709Z
LAST-MODIFIED:20250304T061313Z
UID:6201-1744736400-1744750800@capitalpinballclub.com
SUMMARY:Tuesday Night Pinball
DESCRIPTION:Come hang out at Capital Pinball for a night of open play! Whether you’re here to practice\, meet fellow players\, or just enjoy some pinball\, Tuesday Night Pinball is open to everyone. \n\n✅ Casual Play – No competition required\n🎯 Pingolf Available – Play a round if you’d like For more information about our PinGolf League\, visit our Pingolf League page.\n👥 Great for newcomers – Learn the games and meet the community\n\n💵 Entry: $15 for non-members\, free for members \nJoin us anytime between 5–9 PM and flip the night away! \nFor more information about our PinGolf League\, visit our Pingolf League page.
URL:https://capitalpinballclub.com/event/tuesday-night-pinball-6/
LOCATION:Capital Pinball\, 70 Pembroke Rd\, Concord\, NH\, 03301\, United States
CATEGORIES:League,Open Hours,PinGolf,PinGolf League
ATTACH;FMTTYPE=image/png:https://capitalpinballclub.com/wp-content/uploads/2025/03/TuesdayNightPinballCover.png
END:VEVENT
BEGIN:VEVENT
DTSTART;TZID=America/New_York:20250418T180000
DTEND;TZID=America/New_York:20250418T220000
DTSTAMP:20260424T033245
CREATED:20250304T065418Z
LAST-MODIFIED:20250304T110428Z
UID:6304-1744999200-1745013600@capitalpinballclub.com
SUMMARY:Friday Night Pinball
DESCRIPTION:Come hang out at Capital Pinball for a night of open play! Whether you’re here to practice\, meet fellow players\, or just enjoy some pinball\, Friday Night Pinball is open to everyone. \n\n✅ Casual Play – No competition required\n🎯 Pingolf Available – Play a round if you’d like For more information about our PinGolf League\, visit our Pingolf League page.\n👥 Great for newcomers – Learn the games and meet the community\n\nFor more information about our PinGolf League\, visit our Pingolf League page.
URL:https://capitalpinballclub.com/event/friday-night-pinball-7/
LOCATION:Capital Pinball\, 70 Pembroke Rd\, Concord\, NH\, 03301\, United States
CATEGORIES:League,Open Hours,PinGolf,PinGolf League
ATTACH;FMTTYPE=image/png:https://capitalpinballclub.com/wp-content/uploads/2024/09/CP-Open-Hours-Cover.png
END:VEVENT
BEGIN:VEVENT
DTSTART;TZID=America/New_York:20250420T140000
DTEND;TZID=America/New_York:20250420T170000
DTSTAMP:20260424T033245
CREATED:20250304T085656Z
LAST-MODIFIED:20250304T085656Z
UID:6340-1745157600-1745168400@capitalpinballclub.com
SUMMARY:Club Maintenance & Repair Day
DESCRIPTION:Join us at Capital Pinball for our monthly maintenance and repair day! This event is open to everyone interested in learning how to maintain and repair pinball machines or just lend a helping hand to the club. \n\n🛠 Hands-On Learning – Learn how to remove the glass\, clean playfields\, and perform basic maintenance.\n🔧 Technical Repairs – Experienced pinball techs will tackle known issues and perform necessary repairs.\n📦 Pre-Ordered Parts – We aim to have necessary parts ready to go for known issues.\n\n📅 When: The third Sunday of each month \n📍 Where: Capital Pinball
URL:https://capitalpinballclub.com/event/club-maintenance-repair-day-6/
LOCATION:Capital Pinball\, 70 Pembroke Rd\, Concord\, NH\, 03301\, United States
CATEGORIES:Maintenance,Open Hours,Repair
ATTACH;FMTTYPE=image/png:https://capitalpinballclub.com/wp-content/uploads/2025/03/CP-Maintenance-Cover.png
END:VEVENT
BEGIN:VEVENT
DTSTART;TZID=America/New_York:20250422T170000
DTEND;TZID=America/New_York:20250422T210000
DTSTAMP:20260424T033245
CREATED:20250304T060710Z
LAST-MODIFIED:20250304T061315Z
UID:6202-1745341200-1745355600@capitalpinballclub.com
SUMMARY:Tuesday Night Pinball
DESCRIPTION:Come hang out at Capital Pinball for a night of open play! Whether you’re here to practice\, meet fellow players\, or just enjoy some pinball\, Tuesday Night Pinball is open to everyone. \n\n✅ Casual Play – No competition required\n🎯 Pingolf Available – Play a round if you’d like For more information about our PinGolf League\, visit our Pingolf League page.\n👥 Great for newcomers – Learn the games and meet the community\n\n💵 Entry: $15 for non-members\, free for members \nJoin us anytime between 5–9 PM and flip the night away! \nFor more information about our PinGolf League\, visit our Pingolf League page.
URL:https://capitalpinballclub.com/event/tuesday-night-pinball-7/
LOCATION:Capital Pinball\, 70 Pembroke Rd\, Concord\, NH\, 03301\, United States
CATEGORIES:League,Open Hours,PinGolf,PinGolf League
ATTACH;FMTTYPE=image/png:https://capitalpinballclub.com/wp-content/uploads/2025/03/TuesdayNightPinballCover.png
END:VEVENT
BEGIN:VEVENT
DTSTART;TZID=America/New_York:20250425T180000
DTEND;TZID=America/New_York:20250425T220000
DTSTAMP:20260424T033245
CREATED:20250304T065419Z
LAST-MODIFIED:20250304T110422Z
UID:6305-1745604000-1745618400@capitalpinballclub.com
SUMMARY:Friday Night Pinball
DESCRIPTION:Come hang out at Capital Pinball for a night of open play! Whether you’re here to practice\, meet fellow players\, or just enjoy some pinball\, Friday Night Pinball is open to everyone. \n\n✅ Casual Play – No competition required\n🎯 Pingolf Available – Play a round if you’d like For more information about our PinGolf League\, visit our Pingolf League page.\n👥 Great for newcomers – Learn the games and meet the community\n\nFor more information about our PinGolf League\, visit our Pingolf League page.
URL:https://capitalpinballclub.com/event/friday-night-pinball-8/
LOCATION:Capital Pinball\, 70 Pembroke Rd\, Concord\, NH\, 03301\, United States
CATEGORIES:League,Open Hours,PinGolf,PinGolf League
ATTACH;FMTTYPE=image/png:https://capitalpinballclub.com/wp-content/uploads/2024/09/CP-Open-Hours-Cover.png
END:VEVENT
BEGIN:VEVENT
DTSTART;TZID=Asia/Karachi:20250427T120000
DTEND;TZID=Asia/Karachi:20250427T170000
DTSTAMP:20260424T033245
CREATED:20250122T083826Z
LAST-MODIFIED:20250319T015619Z
UID:5847-1745755200-1745773200@capitalpinballclub.com
SUMMARY:Dungeons & Dragons Launch Party
DESCRIPTION:Tournament Date: 04/27\nCheck In: 12PM\nStart Time: 1PM\nTournament Fee: $15\nDay Pass Fee (non-members): $15 \nQualifiers: 8 Rounds of Group Match Play Scoring: IFPA scoring (7/5/3/1)\nFinals: Ladder elimination bracket\nTop 8 will make finals\nPrizes and trophies for top 4 \nPlayer Limit: 30\n*All games set to Freeplay\nRegister Here: https://app.matchplay.events/tournaments/176087\nPrepay Here: https://square.link/u/0ESw3tff
URL:https://capitalpinballclub.com/event/capital-pinballs-spring-fling/
LOCATION:Capital Pinball\, 70 Pembroke Rd\, Concord\, NH\, 03301\, United States
CATEGORIES:Capital Cup,IFPA,Open Hours,Tournament
ATTACH;FMTTYPE=image/png:https://capitalpinballclub.com/wp-content/uploads/2025/03/ROPE_PRE_TRANSLITEcopy_1070x1070_crop_center-1-1.png
END:VEVENT
BEGIN:VEVENT
DTSTART;TZID=America/New_York:20250429T170000
DTEND;TZID=America/New_York:20250429T210000
DTSTAMP:20260424T033245
CREATED:20250304T060711Z
LAST-MODIFIED:20250304T061315Z
UID:6203-1745946000-1745960400@capitalpinballclub.com
SUMMARY:Tuesday Night Pinball
DESCRIPTION:Come hang out at Capital Pinball for a night of open play! Whether you’re here to practice\, meet fellow players\, or just enjoy some pinball\, Tuesday Night Pinball is open to everyone. \n\n✅ Casual Play – No competition required\n🎯 Pingolf Available – Play a round if you’d like For more information about our PinGolf League\, visit our Pingolf League page.\n👥 Great for newcomers – Learn the games and meet the community\n\n💵 Entry: $15 for non-members\, free for members \nJoin us anytime between 5–9 PM and flip the night away! \nFor more information about our PinGolf League\, visit our Pingolf League page.
URL:https://capitalpinballclub.com/event/tuesday-night-pinball-8/
LOCATION:Capital Pinball\, 70 Pembroke Rd\, Concord\, NH\, 03301\, United States
CATEGORIES:League,Open Hours,PinGolf,PinGolf League
ATTACH;FMTTYPE=image/png:https://capitalpinballclub.com/wp-content/uploads/2025/03/TuesdayNightPinballCover.png
END:VEVENT
END:VCALENDAR