BEGIN:VCALENDAR
VERSION:2.0
PRODID:-//Capital Pinball - ECPv6.15.20//NONSGML v1.0//EN
CALSCALE:GREGORIAN
METHOD:PUBLISH
X-ORIGINAL-URL:https://capitalpinballclub.com
X-WR-CALDESC:Events for Capital Pinball
REFRESH-INTERVAL;VALUE=DURATION:PT1H
X-Robots-Tag:noindex
X-PUBLISHED-TTL:PT1H
BEGIN:VTIMEZONE
TZID:America/New_York
BEGIN:DAYLIGHT
TZOFFSETFROM:-0500
TZOFFSETTO:-0400
TZNAME:EDT
DTSTART:20250309T070000
END:DAYLIGHT
BEGIN:STANDARD
TZOFFSETFROM:-0400
TZOFFSETTO:-0500
TZNAME:EST
DTSTART:20251102T060000
END:STANDARD
BEGIN:DAYLIGHT
TZOFFSETFROM:-0500
TZOFFSETTO:-0400
TZNAME:EDT
DTSTART:20260308T070000
END:DAYLIGHT
BEGIN:STANDARD
TZOFFSETFROM:-0400
TZOFFSETTO:-0500
TZNAME:EST
DTSTART:20261101T060000
END:STANDARD
BEGIN:DAYLIGHT
TZOFFSETFROM:-0500
TZOFFSETTO:-0400
TZNAME:EDT
DTSTART:20270314T070000
END:DAYLIGHT
BEGIN:STANDARD
TZOFFSETFROM:-0400
TZOFFSETTO:-0500
TZNAME:EST
DTSTART:20271107T060000
END:STANDARD
END:VTIMEZONE
BEGIN:VEVENT
DTSTART;TZID=America/New_York:20260518T183000
DTEND;TZID=America/New_York:20260518T213000
DTSTAMP:20260423T121404
CREATED:20260423T030009Z
LAST-MODIFIED:20260423T030009Z
UID:8548-1779129000-1779139800@capitalpinballclub.com
SUMMARY:Book Club
DESCRIPTION:Capital Book Club Night\nwith host TBA \nMay 18\, 2026 • Monthly Meetup \n\n \n\nEach month we’ll meet to chat about TBD\, make new friends\, and share amazing food. We’re doing themed potlucks inspired by each month’s read. Everyone’s welcome\, whether you’ve finished the book or just want good company. \n\n \n\n📅 The Details\n\n\nWhen: May 18\, 2026 \nWhere: Capital Pinball Club\, 70 Pembroke Road\, Concord\, NH \nCost: Included with membership or guest pass \n \n\nAge: Teens & Adults \nRSVP: Encouraged so we can plan seating and potluck space \nBring: Your thoughts on the book and optional themed dish \n \n\n \n\n\n📖 \nThis Month’s Read\n \nTBD\n\n\n \n\n\n👩‍🏫 \nMeet Your Host: TBA\n \n\n\n\n      TBA says: “We’re finalizing our host for tonight’s featured game. Check back soon\, or come early to meet them! All our hosts are experienced gamers who love sharing their favorite games and welcoming newcomers to the hobby.”\n     \n \n\n \n\nWhat to Expect\n\n\n💬 \nOpen Discussion\n\n✓ Friendly conversation around themes and favorite moments\n✓ No pressure to be “done” with the book\n✓ Multiple perspectives are welcome\n\n\n🍲 \nThemed Potluck\n\n✓ Bring a dish inspired by the monthly read (optional)\n✓ Come hungry and ready to connect\n✓ Food and conversation both encouraged\n\n\n \n\nJoin This Month’s Book Club 📚\nRSVP to save your spot and help us plan for discussion and potluck space. \n\n    📖 RSVP Here\n  \n\nNot finished reading yet? Still come! Great company is always welcome. \n \n\n \n\n📍 Additional Information\n\n\nParking & Accessibility\nFree on-site parking at 70 Pembroke Road. Our facility is wheelchair accessible with ground-level entry. \nFood & Beverages\nBring your own dish if you’d like\, or just bring yourself. \n \n\nQuestions?\nEmail info@capitalpinballclub.com or ask a club volunteer when you arrive.
URL:https://capitalpinballclub.com/event/book-club-2/
LOCATION:Capital Pinball\, 70 Pembroke Rd\, Concord\, NH\, 03301\, United States
CATEGORIES:book-club
ATTACH;FMTTYPE=image/png:https://capitalpinballclub.com/wp-content/uploads/2026/04/Book-Club-Flyer.png
END:VEVENT
END:VCALENDAR