BEGIN:VCALENDAR
VERSION:2.0
PRODID:-//Capital Pinball - ECPv6.15.20//NONSGML v1.0//EN
CALSCALE:GREGORIAN
METHOD:PUBLISH
X-ORIGINAL-URL:https://capitalpinballclub.com
X-WR-CALDESC:Events for Capital Pinball
REFRESH-INTERVAL;VALUE=DURATION:PT1H
X-Robots-Tag:noindex
X-PUBLISHED-TTL:PT1H
BEGIN:VTIMEZONE
TZID:America/New_York
BEGIN:DAYLIGHT
TZOFFSETFROM:-0500
TZOFFSETTO:-0400
TZNAME:EDT
DTSTART:20250309T070000
END:DAYLIGHT
BEGIN:STANDARD
TZOFFSETFROM:-0400
TZOFFSETTO:-0500
TZNAME:EST
DTSTART:20251102T060000
END:STANDARD
BEGIN:DAYLIGHT
TZOFFSETFROM:-0500
TZOFFSETTO:-0400
TZNAME:EDT
DTSTART:20260308T070000
END:DAYLIGHT
BEGIN:STANDARD
TZOFFSETFROM:-0400
TZOFFSETTO:-0500
TZNAME:EST
DTSTART:20261101T060000
END:STANDARD
BEGIN:DAYLIGHT
TZOFFSETFROM:-0500
TZOFFSETTO:-0400
TZNAME:EDT
DTSTART:20270314T070000
END:DAYLIGHT
BEGIN:STANDARD
TZOFFSETFROM:-0400
TZOFFSETTO:-0500
TZNAME:EST
DTSTART:20271107T060000
END:STANDARD
END:VTIMEZONE
BEGIN:VEVENT
DTSTART;TZID=America/New_York:20260603T180000
DTEND;TZID=America/New_York:20260603T220000
DTSTAMP:20260423T182402
CREATED:20260423T030014Z
LAST-MODIFIED:20260423T030014Z
UID:8471-1780509600-1780524000@capitalpinballclub.com
SUMMARY:Board Game Night
DESCRIPTION:Open Board Game Night\nfeaturing TBD with host TBA \nJune 3\, 2026 • 6:00-10:00 PM • Drop-in Anytime \n\n \n\n🎮 Open Gaming Hours at Capital Pinball Club\n\n    This is an open game night! Come for the featured game\, stay for open gaming\, pinball\, arcade games\, and community fun.\n    Play anything you want – featured game is just one of many activities available all evening.\n   \n\n \n\n📅 Open Gaming Details\n\n\nWhen: June 3\, 2026 from 6:00-10:00 PM \nWhere: Capital Pinball Club\, 70 Pembroke Road\, Concord\, NH \nCost: $15 guest pass or $50/month membership \n \n\nAge: Teens & Adults \nRSVP: Recommended to secure featured game spot \nBring: Just yourself! (Food/drinks welcome) \n \n\n \n\n\n🎲 \nTonight’s Featured Game\n \nTBD – Featured Game\nTBA will be organizing the featured game — details coming soon. We’re finalizing the title; come early to claim a spot at the featured table or enjoy open gaming\, pinball\, arcade machines\, and our full game library. \n   \n\n🎯 Featured Game Space is Limited!\n\n      We’ll do our best to accommodate everyone for the featured game. RSVP to secure your spot!\n     \n\n      Can’t join the featured game? No problem! Open gaming\, pinball\, arcade games\, and our full game library are available all evening.\n     \n \n\nAbout the Game:\n\n \n\n \n\n\n👨‍🎓 \nMeet Your Host: TBA\n \n\n\n\n      TBA says: “We’re finalizing our host for tonight’s featured game. Check back soon\, or come early to meet them! All our hosts are experienced gamers who love sharing their favorite games and welcoming newcomers to the hobby.”\n     \n \n\n \n\nWhat to Expect\n\n\n🎯 \nFor Everyone\n\n✓ Featured Game: Join TBD organized by an experienced host (RSVP recommended)\n✓ Open Gaming: Play any games from our extensive library\n✓ Bring Your Own: Share your favorite games with others\n✓ Pinball & Arcade: Full access to all club machines\n✓ Drop-In Friendly: Arrive anytime\, stay as long as you like\n✓ Welcoming Community: Mix of regulars and newcomers\, all skill levels\n\n\n👥 \nPerfect For\n\n🆕 Complete Beginners: Never played modern board games? This is your chance!\n🙋 Solo Attendees: Come alone and make new friends over games\n👫 Friend Groups: Bring your crew for a fun night out\n👨‍👩‍👧‍👦 Couples & Families: Teens and adults welcome for shared gaming experiences\n🎮 Experienced Gamers: Try something new or teach others your favorites\n\n\n \n\n🎒 What to Bring\n\n\n✅ \nNothing required! \nGames provided from our library \n \n\n🎲 \nYour games \nif you want to share \n \n\n👥 \nFriends \nthe more the merrier \n \n\n🍕 \nFood & drinks \nbring your own! \n \n\n \n\n🎯 Age & Atmosphere\n\n    We welcome teens and adults to Board Game Night. Our club maintains a mature\, respectful environment where everyone can enjoy gaming comfortably.\n   \n\n \n\nReady to Join Us? 🎲\n\n    RSVP to secure your spot for the featured game\, or just drop in for open gaming!\n   \n\n    🎯 RSVP Here\n  \n\n\n      No RSVP? No problem! This is open gaming hours – come for pinball\, arcade games\, open board gaming\, or just to hang out with the community.\n     \n \n\n    Can’t make it this week? We host Open Board Game Night every Wednesday with different featured games and full club access!\n   \n\n \n\n📍 Additional Information\n\n\nParking & Accessibility\nFree on-site parking at 70 Pembroke Road. Our facility is wheelchair accessible with ground-level entry. \nFood & Beverages\nFeel free to bring your own food and beverages! This is one of the great perks of our club. \n \n\nGame Library\nOur club maintains an extensive library of modern board games available for all attendees to enjoy. \nQuestions?\nEmail us at info@capitalpinballclub.com or ask any club volunteer when you arrive!
URL:https://capitalpinballclub.com/event/board-game-night-27/
LOCATION:Capital Pinball\, 70 Pembroke Rd\, Concord\, NH\, 03301\, United States
CATEGORIES:Board Games,Open Hours
ATTACH;FMTTYPE=image/png:https://capitalpinballclub.com/wp-content/uploads/2025/12/capital_board_game_cover_2-vvqIDF.png
END:VEVENT
BEGIN:VEVENT
DTSTART;TZID=America/New_York:20260610T180000
DTEND;TZID=America/New_York:20260610T220000
DTSTAMP:20260423T182402
CREATED:20260423T030016Z
LAST-MODIFIED:20260423T030016Z
UID:8497-1781114400-1781128800@capitalpinballclub.com
SUMMARY:Board Game Night
DESCRIPTION:Open Board Game Night\nfeaturing TBD with host TBA \nJune 10\, 2026 • 6:00-10:00 PM • Drop-in Anytime \n\n \n\n🎮 Open Gaming Hours at Capital Pinball Club\n\n    This is an open game night! Come for the featured game\, stay for open gaming\, pinball\, arcade games\, and community fun.\n    Play anything you want – featured game is just one of many activities available all evening.\n   \n\n \n\n📅 Open Gaming Details\n\n\nWhen: June 10\, 2026 from 6:00-10:00 PM \nWhere: Capital Pinball Club\, 70 Pembroke Road\, Concord\, NH \nCost: $15 guest pass or $50/month membership \n \n\nAge: Teens & Adults \nRSVP: Recommended to secure featured game spot \nBring: Just yourself! (Food/drinks welcome) \n \n\n \n\n\n🎲 \nTonight’s Featured Game\n \nTBD – Featured Game\nTBA will be organizing the featured game — details coming soon. We’re finalizing the title; come early to claim a spot at the featured table or enjoy open gaming\, pinball\, arcade machines\, and our full game library. \n   \n\n🎯 Featured Game Space is Limited!\n\n      We’ll do our best to accommodate everyone for the featured game. RSVP to secure your spot!\n     \n\n      Can’t join the featured game? No problem! Open gaming\, pinball\, arcade games\, and our full game library are available all evening.\n     \n \n\nAbout the Game:\n\n \n\n \n\n\n👨‍🎓 \nMeet Your Host: TBA\n \n\n\n\n      TBA says: “We’re finalizing our host for tonight’s featured game. Check back soon\, or come early to meet them! All our hosts are experienced gamers who love sharing their favorite games and welcoming newcomers to the hobby.”\n     \n \n\n \n\nWhat to Expect\n\n\n🎯 \nFor Everyone\n\n✓ Featured Game: Join TBD organized by an experienced host (RSVP recommended)\n✓ Open Gaming: Play any games from our extensive library\n✓ Bring Your Own: Share your favorite games with others\n✓ Pinball & Arcade: Full access to all club machines\n✓ Drop-In Friendly: Arrive anytime\, stay as long as you like\n✓ Welcoming Community: Mix of regulars and newcomers\, all skill levels\n\n\n👥 \nPerfect For\n\n🆕 Complete Beginners: Never played modern board games? This is your chance!\n🙋 Solo Attendees: Come alone and make new friends over games\n👫 Friend Groups: Bring your crew for a fun night out\n👨‍👩‍👧‍👦 Couples & Families: Teens and adults welcome for shared gaming experiences\n🎮 Experienced Gamers: Try something new or teach others your favorites\n\n\n \n\n🎒 What to Bring\n\n\n✅ \nNothing required! \nGames provided from our library \n \n\n🎲 \nYour games \nif you want to share \n \n\n👥 \nFriends \nthe more the merrier \n \n\n🍕 \nFood & drinks \nbring your own! \n \n\n \n\n🎯 Age & Atmosphere\n\n    We welcome teens and adults to Board Game Night. Our club maintains a mature\, respectful environment where everyone can enjoy gaming comfortably.\n   \n\n \n\nReady to Join Us? 🎲\n\n    RSVP to secure your spot for the featured game\, or just drop in for open gaming!\n   \n\n    🎯 RSVP Here\n  \n\n\n      No RSVP? No problem! This is open gaming hours – come for pinball\, arcade games\, open board gaming\, or just to hang out with the community.\n     \n \n\n    Can’t make it this week? We host Open Board Game Night every Wednesday with different featured games and full club access!\n   \n\n \n\n📍 Additional Information\n\n\nParking & Accessibility\nFree on-site parking at 70 Pembroke Road. Our facility is wheelchair accessible with ground-level entry. \nFood & Beverages\nFeel free to bring your own food and beverages! This is one of the great perks of our club. \n \n\nGame Library\nOur club maintains an extensive library of modern board games available for all attendees to enjoy. \nQuestions?\nEmail us at info@capitalpinballclub.com or ask any club volunteer when you arrive!
URL:https://capitalpinballclub.com/event/board-game-night-28/
LOCATION:Capital Pinball\, 70 Pembroke Rd\, Concord\, NH\, 03301\, United States
CATEGORIES:Board Games,Open Hours
ATTACH;FMTTYPE=image/png:https://capitalpinballclub.com/wp-content/uploads/2025/12/capital_board_game_cover_2-vvqIDF.png
END:VEVENT
BEGIN:VEVENT
DTSTART;TZID=America/New_York:20260617T180000
DTEND;TZID=America/New_York:20260617T220000
DTSTAMP:20260423T182402
CREATED:20260423T030019Z
LAST-MODIFIED:20260423T030019Z
UID:8597-1781719200-1781733600@capitalpinballclub.com
SUMMARY:Board Game Night
DESCRIPTION:Open Board Game Night\nfeaturing TBD with host TBA \nJune 17\, 2026 • 6:00-10:00 PM • Drop-in Anytime \n\n \n\n🎮 Open Gaming Hours at Capital Pinball Club\n\n    This is an open game night! Come for the featured game\, stay for open gaming\, pinball\, arcade games\, and community fun.\n    Play anything you want – featured game is just one of many activities available all evening.\n   \n\n \n\n📅 Open Gaming Details\n\n\nWhen: June 17\, 2026 from 6:00-10:00 PM \nWhere: Capital Pinball Club\, 70 Pembroke Road\, Concord\, NH \nCost: $15 guest pass or $50/month membership \n \n\nAge: Teens & Adults \nRSVP: Recommended to secure featured game spot \nBring: Just yourself! (Food/drinks welcome) \n \n\n \n\n\n🎲 \nTonight’s Featured Game\n \nTBD – Featured Game\nTBA will be organizing the featured game — details coming soon. We’re finalizing the title; come early to claim a spot at the featured table or enjoy open gaming\, pinball\, arcade machines\, and our full game library. \n   \n\n🎯 Featured Game Space is Limited!\n\n      We’ll do our best to accommodate everyone for the featured game. RSVP to secure your spot!\n     \n\n      Can’t join the featured game? No problem! Open gaming\, pinball\, arcade games\, and our full game library are available all evening.\n     \n \n\nAbout the Game:\n\n \n\n \n\n\n👨‍🎓 \nMeet Your Host: TBA\n \n\n\n\n      TBA says: “We’re finalizing our host for tonight’s featured game. Check back soon\, or come early to meet them! All our hosts are experienced gamers who love sharing their favorite games and welcoming newcomers to the hobby.”\n     \n \n\n \n\nWhat to Expect\n\n\n🎯 \nFor Everyone\n\n✓ Featured Game: Join TBD organized by an experienced host (RSVP recommended)\n✓ Open Gaming: Play any games from our extensive library\n✓ Bring Your Own: Share your favorite games with others\n✓ Pinball & Arcade: Full access to all club machines\n✓ Drop-In Friendly: Arrive anytime\, stay as long as you like\n✓ Welcoming Community: Mix of regulars and newcomers\, all skill levels\n\n\n👥 \nPerfect For\n\n🆕 Complete Beginners: Never played modern board games? This is your chance!\n🙋 Solo Attendees: Come alone and make new friends over games\n👫 Friend Groups: Bring your crew for a fun night out\n👨‍👩‍👧‍👦 Couples & Families: Teens and adults welcome for shared gaming experiences\n🎮 Experienced Gamers: Try something new or teach others your favorites\n\n\n \n\n🎒 What to Bring\n\n\n✅ \nNothing required! \nGames provided from our library \n \n\n🎲 \nYour games \nif you want to share \n \n\n👥 \nFriends \nthe more the merrier \n \n\n🍕 \nFood & drinks \nbring your own! \n \n\n \n\n🎯 Age & Atmosphere\n\n    We welcome teens and adults to Board Game Night. Our club maintains a mature\, respectful environment where everyone can enjoy gaming comfortably.\n   \n\n \n\nReady to Join Us? 🎲\n\n    RSVP to secure your spot for the featured game\, or just drop in for open gaming!\n   \n\n    🎯 RSVP Here\n  \n\n\n      No RSVP? No problem! This is open gaming hours – come for pinball\, arcade games\, open board gaming\, or just to hang out with the community.\n     \n \n\n    Can’t make it this week? We host Open Board Game Night every Wednesday with different featured games and full club access!\n   \n\n \n\n📍 Additional Information\n\n\nParking & Accessibility\nFree on-site parking at 70 Pembroke Road. Our facility is wheelchair accessible with ground-level entry. \nFood & Beverages\nFeel free to bring your own food and beverages! This is one of the great perks of our club. \n \n\nGame Library\nOur club maintains an extensive library of modern board games available for all attendees to enjoy. \nQuestions?\nEmail us at info@capitalpinballclub.com or ask any club volunteer when you arrive!
URL:https://capitalpinballclub.com/event/board-game-night-29/
LOCATION:Capital Pinball\, 70 Pembroke Rd\, Concord\, NH\, 03301\, United States
CATEGORIES:Board Games,Open Hours
ATTACH;FMTTYPE=image/png:https://capitalpinballclub.com/wp-content/uploads/2025/12/capital_board_game_cover_2-vvqIDF.png
END:VEVENT
END:VCALENDAR