BEGIN:VCALENDAR
VERSION:2.0
PRODID:-//Capital Pinball - ECPv6.15.20//NONSGML v1.0//EN
CALSCALE:GREGORIAN
METHOD:PUBLISH
X-ORIGINAL-URL:https://capitalpinballclub.com
X-WR-CALDESC:Events for Capital Pinball
REFRESH-INTERVAL;VALUE=DURATION:PT1H
X-Robots-Tag:noindex
X-PUBLISHED-TTL:PT1H
BEGIN:VTIMEZONE
TZID:America/New_York
BEGIN:DAYLIGHT
TZOFFSETFROM:-0500
TZOFFSETTO:-0400
TZNAME:EDT
DTSTART:20250309T070000
END:DAYLIGHT
BEGIN:STANDARD
TZOFFSETFROM:-0400
TZOFFSETTO:-0500
TZNAME:EST
DTSTART:20251102T060000
END:STANDARD
BEGIN:DAYLIGHT
TZOFFSETFROM:-0500
TZOFFSETTO:-0400
TZNAME:EDT
DTSTART:20260308T070000
END:DAYLIGHT
BEGIN:STANDARD
TZOFFSETFROM:-0400
TZOFFSETTO:-0500
TZNAME:EST
DTSTART:20261101T060000
END:STANDARD
BEGIN:DAYLIGHT
TZOFFSETFROM:-0500
TZOFFSETTO:-0400
TZNAME:EDT
DTSTART:20270314T070000
END:DAYLIGHT
BEGIN:STANDARD
TZOFFSETFROM:-0400
TZOFFSETTO:-0500
TZNAME:EST
DTSTART:20271107T060000
END:STANDARD
END:VTIMEZONE
BEGIN:VEVENT
DTSTART;TZID=America/New_York:20260106T180000
DTEND;TZID=America/New_York:20260106T220000
DTSTAMP:20260423T152819
CREATED:20260106T030000Z
LAST-MODIFIED:20260106T030000Z
UID:8009-1767722400-1767736800@capitalpinballclub.com
SUMMARY:Board Game Night
DESCRIPTION:Open Board Game Night\nfeaturing Dice Throne with host Drew Hines \nTuesday\, January 6\, 2026 • 6:00-10:00 PM • Drop-in Anytime \n\n \n\n🎮 Open Gaming Hours at Capital Pinball Club\n\n    This is an open game night! Come for the featured game\, stay for open gaming\, pinball\, arcade games\, and community fun.\n    Play anything you want – featured game is just one of many activities available all evening.\n   \n\n \n\n📅 Open Gaming Details\n\n\nWhen: Tuesday\, January 6\, 2026 from 6:00-10:00 PM \nWhere: Capital Pinball Club\, 70 Pembroke Road\, Concord\, NH \nCost: $15 guest pass or $50/month membership \n \n\nAge: Teens & Adults \nRSVP: Recommended to secure featured game spot \nBring: Just yourself! (Food/drinks welcome) \n \n\n \n\n\n🎲 \nTonight’s Featured Game\n \nDice Throne – Featured Game\nTonight’s spotlight: Drew Hines will be organizing Dice Throne. This game runs  and accommodates \, but plenty of other gaming happens all night long! \n   \n\n🎯 Featured Game Space is Limited!\n\n      We’ll do our best to accommodate everyone for the featured game. RSVP to secure your spot!\n     \n\n      Can’t join the featured game? No problem! Open gaming\, pinball\, arcade games\, and our full game library are available all evening.\n     \n \n\nAbout the Game:\n\n      Dice Throne is a competitive dice-and-card combat game where players choose unique heroes with asymmetric abilities and battle head-to-head (or in multiplayer) by rolling custom dice and playing cards to trigger powerful effects and combos. Each hero’s dice faces and card toolkit create distinct playstyles\, blending luck with tactical decisions. The game balances accessibility and depth\, making it engaging for both casual and more strategic players.\nSource: https://boardgamegeek.com/boardgame/236747/dice-throne\n     \n \n\n \n\n\n👨‍🎓 \nMeet Your Host: Drew Hines\n \n\n\n\n      Drew Hines says: “Join us for a great evening of gaming!”\n     \n \n\n \n\nWhat to Expect\n\n\n🎯 \nFor Everyone\n\n✓ Featured Game: Join Dice Throne organized by an experienced host (RSVP recommended)\n✓ Open Gaming: Play any games from our extensive library\n✓ Bring Your Own: Share your favorite games with others\n✓ Pinball & Arcade: Full access to all club machines\n✓ Drop-In Friendly: Arrive anytime\, stay as long as you like\n✓ Welcoming Community: Mix of regulars and newcomers\, all skill levels\n\n\n👥 \nPerfect For\n\n🆕 Complete Beginners: Never played modern board games? This is your chance!\n🙋 Solo Attendees: Come alone and make new friends over games\n👫 Friend Groups: Bring your crew for a fun night out\n👨‍👩‍👧‍👦 Couples & Families: Teens and adults welcome for shared gaming experiences\n🎮 Experienced Gamers: Try something new or teach others your favorites\n\n\n \n\n🎒 What to Bring\n\n\n✅ \nNothing required! \nGames provided from our library \n \n\n🎲 \nYour games \nif you want to share \n \n\n👥 \nFriends \nthe more the merrier \n \n\n🍕 \nFood & drinks \nbring your own! \n \n\n \n\n🎯 Age & Atmosphere\n\n    We welcome teens and adults to Board Game Night. Our club maintains a mature\, respectful environment where everyone can enjoy gaming comfortably.\n   \n\n \n\nReady to Join Us? 🎲\n\n    RSVP to secure your spot for the featured game\, or just drop in for open gaming!\n   \n\n    🎯 RSVP Here\n  \n\n\n      No RSVP? No problem! This is open gaming hours – come for pinball\, arcade games\, open board gaming\, or just to hang out with the community.\n     \n \n\n    Can’t make it this week? We host Open Board Game Night every Tuesday with different featured games and full club access!\n   \n\n \n\n📍 Additional Information\n\n\nParking & Accessibility\nFree on-site parking at 70 Pembroke Road. Our facility is wheelchair accessible with ground-level entry. \nFood & Beverages\nFeel free to bring your own food and beverages! This is one of the great perks of our club. \n \n\nGame Library\nOur club maintains an extensive library of modern board games available for all attendees to enjoy. \nQuestions?\nEmail us at info@capitalpinballclub.com or ask any club volunteer when you arrive!
URL:https://capitalpinballclub.com/event/board-game-night-15/
LOCATION:Capital Pinball\, 70 Pembroke Rd\, Concord\, NH\, 03301\, United States
CATEGORIES:Board Games
ATTACH;FMTTYPE=image/png:https://capitalpinballclub.com/wp-content/uploads/2025/12/capital_board_game_cover_2-vvqIDF.png
END:VEVENT
BEGIN:VEVENT
DTSTART;TZID=America/New_York:20260113T180000
DTEND;TZID=America/New_York:20260113T220000
DTSTAMP:20260423T152819
CREATED:20260113T030000Z
LAST-MODIFIED:20260113T030000Z
UID:8010-1768327200-1768341600@capitalpinballclub.com
SUMMARY:Board Game Night
DESCRIPTION:Open Board Game Night\nfeaturing Mysterium with host Will Prescott \nTuesday\, January 13\, 2026 • 6:00-10:00 PM • Drop-in Anytime \n\n \n\n🎮 Open Gaming Hours at Capital Pinball Club\n\n    This is an open game night! Come for the featured game\, stay for open gaming\, pinball\, arcade games\, and community fun.\n    Play anything you want – featured game is just one of many activities available all evening.\n   \n\n \n\n📅 Open Gaming Details\n\n\nWhen: Tuesday\, January 13\, 2026 from 6:00-10:00 PM \nWhere: Capital Pinball Club\, 70 Pembroke Road\, Concord\, NH \nCost: $15 guest pass or $50/month membership \n \n\nAge: Teens & Adults \nRSVP: Recommended to secure featured game spot \nBring: Just yourself! (Food/drinks welcome) \n \n\n \n\n\n🎲 \nTonight’s Featured Game\n \nMysterium – Featured Game\nTonight’s spotlight: Will Prescott will be organizing Mysterium. This game runs  and accommodates \, but plenty of other gaming happens all night long! \n   \n\n🎯 Featured Game Space is Limited!\n\n      We’ll do our best to accommodate everyone for the featured game. RSVP to secure your spot!\n     \n\n      Can’t join the featured game? No problem! Open gaming\, pinball\, arcade games\, and our full game library are available all evening.\n     \n \n\nAbout the Game:\n\n      Mysterium is a cooperative deduction game where one player acts as a silent spirit giving abstract vision cards to guide the other players\, the psychics\, toward discovering the correct combination of suspect\, location\, and object. Through interpreting symbolic imagery over a series of rounds\, the team works together to solve the spirit’s unsolved mystery before time runs out. The blend of cooperative interpretation and atmospheric storytelling creates a unique\, immersive experience.\nSource: https://boardgamegeek.com/boardgame/205896/mysterium\n     \n \n\n \n\n\n👨‍🎓 \nMeet Your Host: Will Prescott\n \n\n\n\n      Will Prescott says: “Join us for a great evening of gaming!”\n     \n \n\n \n\nWhat to Expect\n\n\n🎯 \nFor Everyone\n\n✓ Featured Game: Join Mysterium organized by an experienced host (RSVP recommended)\n✓ Open Gaming: Play any games from our extensive library\n✓ Bring Your Own: Share your favorite games with others\n✓ Pinball & Arcade: Full access to all club machines\n✓ Drop-In Friendly: Arrive anytime\, stay as long as you like\n✓ Welcoming Community: Mix of regulars and newcomers\, all skill levels\n\n\n👥 \nPerfect For\n\n🆕 Complete Beginners: Never played modern board games? This is your chance!\n🙋 Solo Attendees: Come alone and make new friends over games\n👫 Friend Groups: Bring your crew for a fun night out\n👨‍👩‍👧‍👦 Couples & Families: Teens and adults welcome for shared gaming experiences\n🎮 Experienced Gamers: Try something new or teach others your favorites\n\n\n \n\n🎒 What to Bring\n\n\n✅ \nNothing required! \nGames provided from our library \n \n\n🎲 \nYour games \nif you want to share \n \n\n👥 \nFriends \nthe more the merrier \n \n\n🍕 \nFood & drinks \nbring your own! \n \n\n \n\n🎯 Age & Atmosphere\n\n    We welcome teens and adults to Board Game Night. Our club maintains a mature\, respectful environment where everyone can enjoy gaming comfortably.\n   \n\n \n\nReady to Join Us? 🎲\n\n    RSVP to secure your spot for the featured game\, or just drop in for open gaming!\n   \n\n    🎯 RSVP Here\n  \n\n\n      No RSVP? No problem! This is open gaming hours – come for pinball\, arcade games\, open board gaming\, or just to hang out with the community.\n     \n \n\n    Can’t make it this week? We host Open Board Game Night every Tuesday with different featured games and full club access!\n   \n\n \n\n📍 Additional Information\n\n\nParking & Accessibility\nFree on-site parking at 70 Pembroke Road. Our facility is wheelchair accessible with ground-level entry. \nFood & Beverages\nFeel free to bring your own food and beverages! This is one of the great perks of our club. \n \n\nGame Library\nOur club maintains an extensive library of modern board games available for all attendees to enjoy. \nQuestions?\nEmail us at info@capitalpinballclub.com or ask any club volunteer when you arrive!
URL:https://capitalpinballclub.com/event/board-game-night-16/
LOCATION:Capital Pinball\, 70 Pembroke Rd\, Concord\, NH\, 03301\, United States
CATEGORIES:Board Games
ATTACH;FMTTYPE=image/png:https://capitalpinballclub.com/wp-content/uploads/2025/12/capital_board_game_cover_2-vvqIDF.png
END:VEVENT
BEGIN:VEVENT
DTSTART;TZID=America/New_York:20260120T180000
DTEND;TZID=America/New_York:20260120T220000
DTSTAMP:20260423T152819
CREATED:20260120T030000Z
LAST-MODIFIED:20260120T030000Z
UID:8011-1768932000-1768946400@capitalpinballclub.com
SUMMARY:Board Game Night
DESCRIPTION:Open Board Game Night\nfeaturing Betrayal at House on the Hill with host Brett Buckus \nTuesday\, January 20\, 2026 • 6:00-10:00 PM • Drop-in Anytime \n\n \n\n🎮 Open Gaming Hours at Capital Pinball Club\n\n    This is an open game night! Come for the featured game\, stay for open gaming\, pinball\, arcade games\, and community fun.\n    Play anything you want – featured game is just one of many activities available all evening.\n   \n\n \n\n📅 Open Gaming Details\n\n\nWhen: Tuesday\, January 20\, 2026 from 6:00-10:00 PM \nWhere: Capital Pinball Club\, 70 Pembroke Road\, Concord\, NH \nCost: $15 guest pass or $50/month membership \n \n\nAge: Teens & Adults \nRSVP: Recommended to secure featured game spot \nBring: Just yourself! (Food/drinks welcome) \n \n\n \n\n\n🎲 \nTonight’s Featured Game\n \nBetrayal at House on the Hill – Featured Game\nTonight’s spotlight: Brett Buckus will be organizing Betrayal at House on the Hill. This game runs  and accommodates \, but plenty of other gaming happens all night long! \n   \n\n🎯 Featured Game Space is Limited!\n\n      We’ll do our best to accommodate everyone for the featured game. RSVP to secure your spot!\n     \n\n      Can’t join the featured game? No problem! Open gaming\, pinball\, arcade games\, and our full game library are available all evening.\n     \n \n\nAbout the Game:\n\n      Betrayal at House on the Hill is a thematic\, tile-exploration board game where players cooperatively explore a haunted mansion that changes each playthrough\, uncovering rooms\, items\, and omens. At a random point\, one of the players becomes a traitor and the game shifts into an asymmetrical scenario where the remaining heroes must confront the traitor’s objectives. This creates unpredictable narratives and high replayability as each haunt offers a unique challenge and story.\nSource: https://boardgamegeek.com/boardgame/10547/betrayal-house-hill\n     \n \n\n \n\n\n👨‍🎓 \nMeet Your Host: Brett Buckus\n \n\n\n\n      Brett Buckus says: “Nerdy guy who has been a member of the club since shortly after it opened. I’ve loved D&D and anything fantasy/sci-fi related since I was a kid\, hence the D&D Pinball machine! I enjoy complex board games that allow for a variety of strategies and outcomes.”\n     \n \n\n \n\nWhat to Expect\n\n\n🎯 \nFor Everyone\n\n✓ Featured Game: Join Betrayal at House on the Hill organized by an experienced host (RSVP recommended)\n✓ Open Gaming: Play any games from our extensive library\n✓ Bring Your Own: Share your favorite games with others\n✓ Pinball & Arcade: Full access to all club machines\n✓ Drop-In Friendly: Arrive anytime\, stay as long as you like\n✓ Welcoming Community: Mix of regulars and newcomers\, all skill levels\n\n\n👥 \nPerfect For\n\n🆕 Complete Beginners: Never played modern board games? This is your chance!\n🙋 Solo Attendees: Come alone and make new friends over games\n👫 Friend Groups: Bring your crew for a fun night out\n👨‍👩‍👧‍👦 Couples & Families: Teens and adults welcome for shared gaming experiences\n🎮 Experienced Gamers: Try something new or teach others your favorites\n\n\n \n\n🎒 What to Bring\n\n\n✅ \nNothing required! \nGames provided from our library \n \n\n🎲 \nYour games \nif you want to share \n \n\n👥 \nFriends \nthe more the merrier \n \n\n🍕 \nFood & drinks \nbring your own! \n \n\n \n\n🎯 Age & Atmosphere\n\n    We welcome teens and adults to Board Game Night. Our club maintains a mature\, respectful environment where everyone can enjoy gaming comfortably.\n   \n\n \n\nReady to Join Us? 🎲\n\n    RSVP to secure your spot for the featured game\, or just drop in for open gaming!\n   \n\n    🎯 RSVP Here\n  \n\n\n      No RSVP? No problem! This is open gaming hours – come for pinball\, arcade games\, open board gaming\, or just to hang out with the community.\n     \n \n\n    Can’t make it this week? We host Open Board Game Night every Tuesday with different featured games and full club access!\n   \n\n \n\n📍 Additional Information\n\n\nParking & Accessibility\nFree on-site parking at 70 Pembroke Road. Our facility is wheelchair accessible with ground-level entry. \nFood & Beverages\nFeel free to bring your own food and beverages! This is one of the great perks of our club. \n \n\nGame Library\nOur club maintains an extensive library of modern board games available for all attendees to enjoy. \nQuestions?\nEmail us at info@capitalpinballclub.com or ask any club volunteer when you arrive!
URL:https://capitalpinballclub.com/event/board-game-night-17/
LOCATION:Capital Pinball\, 70 Pembroke Rd\, Concord\, NH\, 03301\, United States
CATEGORIES:Board Games
ATTACH;FMTTYPE=image/png:https://capitalpinballclub.com/wp-content/uploads/2025/12/capital_board_game_cover_2-vvqIDF.png
END:VEVENT
BEGIN:VEVENT
DTSTART;TZID=America/New_York:20260127T130000
DTEND;TZID=America/New_York:20260127T170000
DTSTAMP:20260423T152819
CREATED:20260127T030000Z
LAST-MODIFIED:20260127T030000Z
UID:8012-1769518800-1769533200@capitalpinballclub.com
SUMMARY:Board Game Night
DESCRIPTION:Open Board Game Night\nfeaturing Gloom with host Darci Larson \nTuesday\, January 27\, 2026 • 6:00-10:00 PM • Drop-in Anytime \n\n \n\n🎮 Open Gaming Hours at Capital Pinball Club\n\n    This is an open game night! Come for the featured game\, stay for open gaming\, pinball\, arcade games\, and community fun.\n    Play anything you want – featured game is just one of many activities available all evening.\n   \n\n \n\n📅 Open Gaming Details\n\n\nWhen: Tuesday\, January 27\, 2026 from 6:00-10:00 PM \nWhere: Capital Pinball Club\, 70 Pembroke Road\, Concord\, NH \nCost: $15 guest pass or $50/month membership \n \n\nAge: Teens & Adults \nRSVP: Recommended to secure featured game spot \nBring: Just yourself! (Food/drinks welcome) \n \n\n \n\n\n🎲 \nTonight’s Featured Game\n \nGloom – Featured Game\nTonight’s spotlight: Darci Larson will be organizing Gloom. This game runs  and accommodates \, but plenty of other gaming happens all night long! \n   \n\n🎯 Featured Game Space is Limited!\n\n      We’ll do our best to accommodate everyone for the featured game. RSVP to secure your spot!\n     \n\n      Can’t join the featured game? No problem! Open gaming\, pinball\, arcade games\, and our full game library are available all evening.\n     \n \n\nAbout the Game:\n\n \n\n \n\n\n👨‍🎓 \nMeet Your Host: Darci Larson\n \n\n\n\n      Darci Larson says: “Join us for a great evening of gaming!”\n     \n \n\n \n\nWhat to Expect\n\n\n🎯 \nFor Everyone\n\n✓ Featured Game: Join Gloom organized by an experienced host (RSVP recommended)\n✓ Open Gaming: Play any games from our extensive library\n✓ Bring Your Own: Share your favorite games with others\n✓ Pinball & Arcade: Full access to all club machines\n✓ Drop-In Friendly: Arrive anytime\, stay as long as you like\n✓ Welcoming Community: Mix of regulars and newcomers\, all skill levels\n\n\n👥 \nPerfect For\n\n🆕 Complete Beginners: Never played modern board games? This is your chance!\n🙋 Solo Attendees: Come alone and make new friends over games\n👫 Friend Groups: Bring your crew for a fun night out\n👨‍👩‍👧‍👦 Couples & Families: Teens and adults welcome for shared gaming experiences\n🎮 Experienced Gamers: Try something new or teach others your favorites\n\n\n \n\n🎒 What to Bring\n\n\n✅ \nNothing required! \nGames provided from our library \n \n\n🎲 \nYour games \nif you want to share \n \n\n👥 \nFriends \nthe more the merrier \n \n\n🍕 \nFood & drinks \nbring your own! \n \n\n \n\n🎯 Age & Atmosphere\n\n    We welcome teens and adults to Board Game Night. Our club maintains a mature\, respectful environment where everyone can enjoy gaming comfortably.\n   \n\n \n\nReady to Join Us? 🎲\n\n    RSVP to secure your spot for the featured game\, or just drop in for open gaming!\n   \n\n    🎯 RSVP Here\n  \n\n\n      No RSVP? No problem! This is open gaming hours – come for pinball\, arcade games\, open board gaming\, or just to hang out with the community.\n     \n \n\n    Can’t make it this week? We host Open Board Game Night every Tuesday with different featured games and full club access!\n   \n\n \n\n📍 Additional Information\n\n\nParking & Accessibility\nFree on-site parking at 70 Pembroke Road. Our facility is wheelchair accessible with ground-level entry. \nFood & Beverages\nFeel free to bring your own food and beverages! This is one of the great perks of our club. \n \n\nGame Library\nOur club maintains an extensive library of modern board games available for all attendees to enjoy. \nQuestions?\nEmail us at info@capitalpinballclub.com or ask any club volunteer when you arrive!
URL:https://capitalpinballclub.com/event/board-game-night-18/
LOCATION:Capital Pinball\, 70 Pembroke Rd\, Concord\, NH\, 03301\, United States
CATEGORIES:Board Games
ATTACH;FMTTYPE=image/png:https://capitalpinballclub.com/wp-content/uploads/2025/12/capital_board_game_cover_2-vvqIDF.png
END:VEVENT
END:VCALENDAR