BEGIN:VCALENDAR
VERSION:2.0
PRODID:-//Capital Pinball - ECPv6.15.20//NONSGML v1.0//EN
CALSCALE:GREGORIAN
METHOD:PUBLISH
X-ORIGINAL-URL:https://capitalpinballclub.com
X-WR-CALDESC:Events for Capital Pinball
REFRESH-INTERVAL;VALUE=DURATION:PT1H
X-Robots-Tag:noindex
X-PUBLISHED-TTL:PT1H
BEGIN:VTIMEZONE
TZID:Asia/Karachi
BEGIN:STANDARD
TZOFFSETFROM:+0500
TZOFFSETTO:+0500
TZNAME:PKT
DTSTART:20240101T000000
END:STANDARD
END:VTIMEZONE
BEGIN:VEVENT
DTSTART;TZID=Asia/Karachi:20250309T140000
DTEND;TZID=Asia/Karachi:20250309T170000
DTSTAMP:20260424T082458
CREATED:20250226T011321Z
LAST-MODIFIED:20250302T055431Z
UID:6135-1741528800-1741539600@capitalpinballclub.com
SUMMARY:Beginners Pinball
DESCRIPTION:New to pinball? Or maybe you haven’t played since you were a kid? Come out and join us for Pinball for Beginners\, held every second and fourth Sunday of the month from 2 – 5 PM! This casual event is perfect for anyone who’s curious about pinball\, just getting started\, or looking to meet others at a similar skill level. \n  \nAt Pinball for Beginners\, we’ll keep things relaxed and collaborative. Whether you want to practice solo\, learn game techniques together\, or swap tips\, there’s something here for everyone. Occasionally\, we’ll even remove the glass from a machine to show you the inner mechanics\, diving into what makes pinball both challenging and thrilling. And if you’re feeling up for it\, we can play beginner-friendly competitive formats like PinGolf\, where you’ll shoot for achievable target scores. \n  \nJoin us for a low-pressure\, high-fun environment where we focus on enjoying the game\, supporting each other\, and discovering all the excitement pinball has to offer. See you there!
URL:https://capitalpinballclub.com/event/beginners-pinball-4/
LOCATION:Capital Pinball\, 70 Pembroke Rd\, Concord\, NH\, 03301\, United States
CATEGORIES:Beginner Pinball,Open Hours
ATTACH;FMTTYPE=image/png:https://capitalpinballclub.com/wp-content/uploads/2024/11/Pink-and-Purple-Bold-Event-Announcement-Poster-Presentation-2.png
ORGANIZER;CN="Kendra Corson":MAILTO:kendra.corson@gmail.com
END:VEVENT
END:VCALENDAR